Workbook

Sheet RELATORIO
A1: ACUMULADO CATEGORIAS OFICIAIS
A2: ELITE MASCULINO
Q3: BKP
A4: N° | B4: Licenca CBC | C4: ATLETA | D4: ESTADO | E4: UF | F4: BIKE | G4: EQUIPE/PATROCÍNIO | H4: DIA 1 | I4: DIA 2 | J4: DIA 3 | K4: DIA 4 | L4: TEMPO TOTAL | M4: RANKING | Q4: DIA 1 | R4: DIA 2 | S4: DIA 3 | T4: DIA 4 | U4: TEMPO TOTAL
A5: 454 | B5: 04.13916.11 | C5: JOSE GABRIEL MARQUES DE ALMEIDA | D5: Minas Gerais | E5: MG | F5: AUDAX | G5: CORINTHIANS AUDAX | H5: 0.18781312 | I5: 0.13731495 | J5: =IF(ISNA(VLOOKUP($A5,RallyPiocera2020!$C$4:$O$116,10,0)),0,VLOOKUP($A5,RallyPiocera2020!$C$4:$O$116,10,0)) -> 0.11936362 | K5: =IF(ISNA(VLOOKUP($A5,RallyPiocera2020!$C$4:$O$116,11,0)),0,VLOOKUP($A5,RallyPiocera2020!$C$4:$O$116,11,0)) -> 0.1255326 | L5: =SUM(H5:K5) -> 0.57002431 | Q5: 04:25:12.077 | R5: 03:42:22.029 | S5: 0.12454973 | T5: 0.12790574 | U5: 08:07:34.106
A6: 496 | B6: 19.19546.13 | C6: FRANCISCO EDIO NEVES DA SILVA | D6: Piauí | E6: PI | F6: AUDAX | G6: MR PEÇAS /AUDAX | H6: 0.18416756 | I6: 0.15442163 | J6: =IF(ISNA(VLOOKUP($A6,RallyPiocera2020!$C$4:$O$116,10,0)),0,VLOOKUP($A6,RallyPiocera2020!$C$4:$O$116,10,0)) -> 0.12454973 | K6: =IF(ISNA(VLOOKUP($A6,RallyPiocera2020!$C$4:$O$116,11,0)),0,VLOOKUP($A6,RallyPiocera2020!$C$4:$O$116,11,0)) -> 0.12790574 | L6: =SUM(H6:K6) -> 0.59104466 | Q6: 04:30:02.059 | R6: 03:43:05.031 | S6: 0.12693314 | T6: 0.13208343 | U6: 08:13:07.090
A7: 431 | B7: 16.32456.17 | C7: ANDERSON BARROS DE SOUZA | D7: Paraíba | E7: PB | F7: SPECIALIZED | G7: WELLBIKE | H7: 0.18752383 | I7: 0.15491934 | J7: =IF(ISNA(VLOOKUP($A7,RallyPiocera2020!$C$4:$O$116,10,0)),0,VLOOKUP($A7,RallyPiocera2020!$C$4:$O$116,10,0)) -> 0.12693314 | K7: =IF(ISNA(VLOOKUP($A7,RallyPiocera2020!$C$4:$O$116,11,0)),0,VLOOKUP($A7,RallyPiocera2020!$C$4:$O$116,11,0)) -> 0.13208343 | L7: =SUM(H7:K7) -> 0.60145973 | Q7: 04:46:42.002 | R7: 03:36:52.092 | S7: 0.12693345 | T7: 0.13880863 | U7: 08:23:34.094
A8: 437 | B8: 20.19199.13 | C8: CELSO PEREIRA NUNES | D8: Maranhão | E8: MA | F8: CANNONDALE | G8: BIKEBROTHERS/EZERCITO/SPORT BIKE BRAS | H8: 0.18796331 | I8: 0.16400542 | J8: =IF(ISNA(VLOOKUP($A8,RallyPiocera2020!$C$4:$O$116,10,0)),0,VLOOKUP($A8,RallyPiocera2020!$C$4:$O$116,10,0)) -> 0.12838047 | K8: =IF(ISNA(VLOOKUP($A8,RallyPiocera2020!$C$4:$O$116,11,0)),0,VLOOKUP($A8,RallyPiocera2020!$C$4:$O$116,11,0)) -> 0.1279058 | L8: =SUM(H8:K8) -> 0.608255 | Q8: 04:30:40.030 | R8: 03:56:10.068 | S8: 0.12838047 | T8: 0.1279058 | U8: 08:26:50.098
A9: 470 | B9: 16.6248.07 | C9: SHARLYS SILVA DE OLIVEIRA | D9: Paraíba | E9: PB | F9: AUDAX | G9: AUDAX WELL BIKE | H9: 0.20939826 | I9: 0.15430586 | J9: =IF(ISNA(VLOOKUP($A9,RallyPiocera2020!$C$4:$O$116,10,0)),0,VLOOKUP($A9,RallyPiocera2020!$C$4:$O$116,10,0)) -> 0.12456064 | K9: =IF(ISNA(VLOOKUP($A9,RallyPiocera2020!$C$4:$O$116,11,0)),0,VLOOKUP($A9,RallyPiocera2020!$C$4:$O$116,11,0)) -> 0.12551029 | L9: =SUM(H9:K9) -> 0.61377505 | Q9: 05:01:32.010 | R9: 03:42:12.026 | S9: 0.12456064 | T9: 0.12551029 | U9: 08:43:44.036
A10: 498 | B10: 16.10453.09 | C10: JOACI OLIVEIRA DA SILVA | D10: Paraíba | E10: PB | F10: AUDAX | G10: AUDAX WELL BIKE | H10: 0.19909725 | I10: 0.15060292 | J10: =IF(ISNA(VLOOKUP($A10,RallyPiocera2020!$C$4:$O$116,10,0)),0,VLOOKUP($A10,RallyPiocera2020!$C$4:$O$116,10,0)) -> 0.12693345 | K10: =IF(ISNA(VLOOKUP($A10,RallyPiocera2020!$C$4:$O$116,11,0)),0,VLOOKUP($A10,RallyPiocera2020!$C$4:$O$116,11,0)) -> 0.13880863 | L10: =SUM(H10:K10) -> 0.61544225 | Q10: 05:07:57.061 | R10: 04:24:55.029 | S10: 0.14436417 | T10: 0.1368638 | U10: 09:32:52.090
A11: 404 | B11: 19.38987.19 | C11: LUCAS COELHO DIAS RIBEIRO | D11: Piauí | E11: PI | F11: CANNONDALE | G11: APC | H11: 0.21385487 | I11: 0.18397024 | J11: =IF(ISNA(VLOOKUP($A11,RallyPiocera2020!$C$4:$O$116,10,0)),0,VLOOKUP($A11,RallyPiocera2020!$C$4:$O$116,10,0)) -> 0.14436417 | K11: =IF(ISNA(VLOOKUP($A11,RallyPiocera2020!$C$4:$O$116,11,0)),0,VLOOKUP($A11,RallyPiocera2020!$C$4:$O$116,11,0)) -> 0.1368638 | L11: =SUM(H11:K11) -> 0.67905308 | Q11: 04:57:53.014 | R11: 04:36:31.039 | S11: 0.15218823 | T11: 0.14412049 | U11: 09:34:24.053
A12: 495 | B12: 18.271.04 | C12: FRANCISCO DE OLIVEIRA LIMA JUNIOR | D12: Ceará | E12: CE | F12: CALOI | G12: AUDAX/FULLGAS/AGUA SANTA M??A | H12: 0.20686359 | I12: 0.19202591 | J12: =IF(ISNA(VLOOKUP($A12,RallyPiocera2020!$C$4:$O$116,10,0)),0,VLOOKUP($A12,RallyPiocera2020!$C$4:$O$116,10,0)) -> 0.15218823 | K12: =IF(ISNA(VLOOKUP($A12,RallyPiocera2020!$C$4:$O$116,11,0)),0,VLOOKUP($A12,RallyPiocera2020!$C$4:$O$116,11,0)) -> 0.14412049 | L12: =SUM(H12:K12) -> 0.69519822 | Q12: 05:56:08.068 | R12: 04:49:20.063 | S12: 0.16040525 | T12: 0.15985041 | U12: 10:45:28.131
A13: 486 | B13: 04.1305.04 | C13: MARCELO FLORENTINO SOARES | D13: São Paulo | E13: SP | F13: SPECIALIZED | G13: SEM EQUIPE | H13: 0.2473156 | I13: 0.20092666 | J13: =IF(ISNA(VLOOKUP($A13,RallyPiocera2020!$C$4:$O$116,10,0)),0,VLOOKUP($A13,RallyPiocera2020!$C$4:$O$116,10,0)) -> 0.16040525 | K13: =IF(ISNA(VLOOKUP($A13,RallyPiocera2020!$C$4:$O$116,11,0)),0,VLOOKUP($A13,RallyPiocera2020!$C$4:$O$116,11,0)) -> 0.15985041 | L13: =SUM(H13:K13) -> 0.76849792 | Q13: 04:19:39.046 | S13: 0.12839149 | T13: 0 | U13: 04:19:39.046
A14: ELITE FEMININO
A15: N° | B15: Licenca CBC | C15: ATLETA | D15: ESTADO | E15: UF | F15: BIKE | G15: EQUIPE/PATROCÍNIO | H15: DIA 1 | I15: DIA 2 | J15: DIA 3 | K15: DIA 4 | L15: TEMPO TOTAL | M15: RANKING | Q15: DIA 1 | R15: DIA 2 | S15: DIA 3 | T15: DIA 4 | U15: TEMPO TOTAL
A16: 499 | B16: 05.20300.13 | C16: KAREN FERNANDES OL?IO | D16: Minas Gerais | E16: MG | F16: AUDAX | G16: CORINTHIANS AUDAX | H16: 0.22929447 | I16: 0.18488455 | J16: =IF(ISNA(VLOOKUP($A16,RallyPiocera2020!$C$4:$O$116,10,0)),0,VLOOKUP($A16,RallyPiocera2020!$C$4:$O$116,10,0)) -> 0.14166698 | K16: =IF(ISNA(VLOOKUP($A16,RallyPiocera2020!$C$4:$O$116,11,0)),0,VLOOKUP($A16,RallyPiocera2020!$C$4:$O$116,11,0)) -> 0.13569451 | L16: =SUM(H16:K16) -> 0.69154051 | Q16: 05:30:11.042 | R16: 04:26:14.025 | S16: 0.14166698 | T16: 0.13569451 | U16: 09:56:25.067
A17: 463 | B17: 18.7638.07 | C17: JANICE FARIAS E SILVA | D17: Ceará | E17: CE | F17: TREK | G17: MM TEAM | H17: 0.25202633 | I17: 0.22589179 | J17: =IF(ISNA(VLOOKUP($A17,RallyPiocera2020!$C$4:$O$116,10,0)),0,VLOOKUP($A17,RallyPiocera2020!$C$4:$O$116,10,0)) -> 0.17052098 | K17: =IF(ISNA(VLOOKUP($A17,RallyPiocera2020!$C$4:$O$116,11,0)),0,VLOOKUP($A17,RallyPiocera2020!$C$4:$O$116,11,0)) -> 0.15597323 | L17: =SUM(H17:K17) -> 0.80441234 | Q17: 06:02:55.075 | R17: 05:25:17.051 | S17: 0.17052098 | T17: 0.15597323 | U17: 11:28:12.126
A18: 425 | B18: 18.27415.15 | C18: ANA PAULA PEDROSA DE ALMEIDA | D18: Ceará | E18: CE | F18: SPECIALIZED | G18: SEM EQUIPE | H18: 0.24699089 | I18: 0.23363447 | J18: =IF(ISNA(VLOOKUP($A18,RallyPiocera2020!$C$4:$O$116,10,0)),0,VLOOKUP($A18,RallyPiocera2020!$C$4:$O$116,10,0)) -> 0.17261615 | K18: =IF(ISNA(VLOOKUP($A18,RallyPiocera2020!$C$4:$O$116,11,0)),0,VLOOKUP($A18,RallyPiocera2020!$C$4:$O$116,11,0)) -> 0.16452586 | L18: =SUM(H18:K18) -> 0.81776736 | Q18: 05:55:40.013 | R18: 05:36:26.018 | S18: 0.17261615 | T18: 0.16452586 | U18: 11:32:06.031
A19: MASTER FEMININO
A20: N° | B20: Licenca CBC | C20: ATLETA | D20: ESTADO | E20: UF | F20: BIKE | G20: EQUIPE/PATROCÍNIO | H20: DIA 1 | I20: DIA 2 | J20: DIA 3 | K20: DIA 4 | L20: TEMPO TOTAL | M20: RANKING | Q20: DIA 1 | R20: DIA 2 | S20: DIA 3 | T20: DIA 4 | U20: TEMPO TOTAL
A21: 439 | B21: 18.18849.13 | C21: VENILDA ELI | D21: Ceará | E21: CE | F21: CANNONDALE | G21: GOLDEN HAIR | H21: 0.24209563 | I21: 0.21516252 | J21: =IF(ISNA(VLOOKUP($A21,RallyPiocera2020!$C$4:$O$116,10,0)),0,VLOOKUP($A21,RallyPiocera2020!$C$4:$O$116,10,0)) -> 0.16672551 | K21: =IF(ISNA(VLOOKUP($A21,RallyPiocera2020!$C$4:$O$116,11,0)),0,VLOOKUP($A21,RallyPiocera2020!$C$4:$O$116,11,0)) -> 0.15531353 | L21: =SUM(H21:K21) -> 0.77929719 | Q21: 05:48:37.062 | R21: 05:09:50.042 | S21: 0.16672551 | T21: 0.15531353 | U21: 10:58:27.104
A22: 434 | B22: 18.17834.12 | C22: JUSCELINA MOTA ANDRADE | D22: Ceará | E22: CE | F22: SPECIALIZED | G22: JARDEL SILVA | H22: 0.24784807 | I22: 0.23755876 | J22: =IF(ISNA(VLOOKUP($A22,RallyPiocera2020!$C$4:$O$116,10,0)),0,VLOOKUP($A22,RallyPiocera2020!$C$4:$O$116,10,0)) -> 0.17453759 | K22: =IF(ISNA(VLOOKUP($A22,RallyPiocera2020!$C$4:$O$116,11,0)),0,VLOOKUP($A22,RallyPiocera2020!$C$4:$O$116,11,0)) -> 0.16782521 | L22: =SUM(H22:K22) -> 0.82776963 | Q22: 05:56:54.073 | R22: 05:42:05.077 | S22: 0.17453759 | T22: 0.16782521 | U22: 11:38:59.150
A23: 510 | B23: 19.19643.13 | C23: SIMONE GILVANI DA VERA | D23: Piauí | E23: PI | F23: CALOI | G23: OMEGA BIKE \POSTO LIDER\ SERTAO MOTO | H23: 0.28890119 | I23: 0.24719978 | J23: =IF(ISNA(VLOOKUP($A23,RallyPiocera2020!$C$4:$O$116,10,0)),0,VLOOKUP($A23,RallyPiocera2020!$C$4:$O$116,10,0)) -> 0.1693405 | K23: =IF(ISNA(VLOOKUP($A23,RallyPiocera2020!$C$4:$O$116,11,0)),0,VLOOKUP($A23,RallyPiocera2020!$C$4:$O$116,11,0)) -> 0.17026623 | L23: =SUM(H23:K23) -> 0.8757077 | Q23: 06:25:25.048 | R23: 05:49:09.064 | S23: 0.18658623 | T23: 0.18275497 | U23: 12:14:34.112
A24: 459 | B24: 19.10528.09 | C24: ANTONIA LUIZA RODRIGUES DOS SANTOS | D24: Maranhão | E24: MA | F24: AUDAX | G24: AUDAX BIKE. CICLO PECAS FLO | H24: 0.26765102 | I24: 0.24246602 | J24: =IF(ISNA(VLOOKUP($A24,RallyPiocera2020!$C$4:$O$116,10,0)),0,VLOOKUP($A24,RallyPiocera2020!$C$4:$O$116,10,0)) -> 0.18658623 | K24: =IF(ISNA(VLOOKUP($A24,RallyPiocera2020!$C$4:$O$116,11,0)),0,VLOOKUP($A24,RallyPiocera2020!$C$4:$O$116,11,0)) -> 0.18275497 | L24: =SUM(H24:K24) -> 0.87945823 | Q24: 06:56:01.063 | R24: 05:55:58.061 | S24: 0.1693405 | T24: 0.17026623 | U24: 12:51:59.124
A25: 447 | B25: 19.18505.13 | C25: CRISTIANY DE SIQUEIRA DANTAS | D25: Piauí | E25: PI | F25: CANNONDALE | G25: EQUIPE GIRO ALTO | H25: 0.30486111 | I25: 0.25488528 | J25: =IF(ISNA(VLOOKUP($A25,RallyPiocera2020!$C$4:$O$116,10,0)),0,VLOOKUP($A25,RallyPiocera2020!$C$4:$O$116,10,0)) -> 0.18228076 | K25: =IF(ISNA(VLOOKUP($A25,RallyPiocera2020!$C$4:$O$116,11,0)),0,VLOOKUP($A25,RallyPiocera2020!$C$4:$O$116,11,0)) -> 0.18015113 | L25: =SUM(H25:K25) -> 0.92217829 | Q25: 07:19:00.000 | R25: 06:07:02.088 | S25: 0.18228076 | T25: 0.18015113 | U25: 13:26:02.088
A26: 444 | B26: 18.31512.17 | C26: ELISANGELA BISPO RODRIGUES VIANA | D26: Ceará | E26: CE | F26: AUDAX | G26: CILANDE BIKE TEAM - FRECHEIRINHA | H26: 0.28416689 | I26: 0.28208446 | J26: =IF(ISNA(VLOOKUP($A26,RallyPiocera2020!$C$4:$O$116,10,0)),0,VLOOKUP($A26,RallyPiocera2020!$C$4:$O$116,10,0)) -> 0.19945632 | K26: =IF(ISNA(VLOOKUP($A26,RallyPiocera2020!$C$4:$O$116,11,0)),0,VLOOKUP($A26,RallyPiocera2020!$C$4:$O$116,11,0)) -> 0.20560258 | L26: =SUM(H26:K26) -> 0.97131024 | Q26: 06:49:12.019 | R26: 06:46:12.097 | S26: 0.19945632 | T26: 0.20560258 | U26: 13:35:24.116
A27: MASTER A1
A28: N° | B28: Licenca CBC | C28: ATLETA | D28: ESTADO | E28: UF | F28: BIKE | G28: EQUIPE/PATROCÍNIO | H28: DIA 1 | I28: DIA 2 | J28: DIA 3 | K28: DIA 4 | L28: TEMPO TOTAL | M28: RANKING | Q28: DIA 1 | R28: DIA 2 | S28: DIA 3 | T28: DIA 4 | U28: TEMPO TOTAL
A29: 438 | B29: 16.4136.05 | C29: FERNANDO DANTAS LIMA | D29: Pernambuco | E29: PE | F29: SPECIALIZED | G29: WELBIKE | H29: 0.18768559 | I29: 0.15265146 | J29: =IF(ISNA(VLOOKUP($A29,RallyPiocera2020!$C$4:$O$116,10,0)),0,VLOOKUP($A29,RallyPiocera2020!$C$4:$O$116,10,0)) -> 0.13540552 | K29: =IF(ISNA(VLOOKUP($A29,RallyPiocera2020!$C$4:$O$116,11,0)),0,VLOOKUP($A29,RallyPiocera2020!$C$4:$O$116,11,0)) -> 0.12649326 | L29: =SUM(H29:K29) -> 0.60223583 | Q29: 05:00:55.013 | R29: 04:18:54.038 | S29: 0.13922521 | T29: 0.13366986 | U29: 09:19:49.051
A30: 490 | B30: 191465511 | C30: SAMUEL DOS SANTOS SARAIVA | D30: Piauí | E30: PI | F30: CANNONDALE | G30: AUDAX /RBIKE | H30: 0.20193369 | I30: 0.18521998 | J30: =IF(ISNA(VLOOKUP($A30,RallyPiocera2020!$C$4:$O$116,10,0)),0,VLOOKUP($A30,RallyPiocera2020!$C$4:$O$116,10,0)) -> 0.13363428 | K30: =IF(ISNA(VLOOKUP($A30,RallyPiocera2020!$C$4:$O$116,11,0)),0,VLOOKUP($A30,RallyPiocera2020!$C$4:$O$116,11,0)) -> 0.13404046 | L30: =SUM(H30:K30) -> 0.65482841 | Q30: 05:14:59.059 | R30: 04:48:32.048 | S30: 0.15970014 | T30: 0.1475242 | U30: 10:03:31.107
A31: 419 | B31: 224107020 | C31: THIAGO HENRIQUE ARAUJO DA SILVA | D31: Pará | E31: PA | F31: AUDAX | G31: HENRIQUE BIKES | H31: 0.20897006 | I31: 0.17979211 | J31: =IF(ISNA(VLOOKUP($A31,RallyPiocera2020!$C$4:$O$116,10,0)),0,VLOOKUP($A31,RallyPiocera2020!$C$4:$O$116,10,0)) -> 0.13922521 | K31: =IF(ISNA(VLOOKUP($A31,RallyPiocera2020!$C$4:$O$116,11,0)),0,VLOOKUP($A31,RallyPiocera2020!$C$4:$O$116,11,0)) -> 0.13366986 | L31: =SUM(H31:K31) -> 0.66165723 | Q31: 06:13:11.059 | R31: 04:32:41.086 | S31: 0.13699117 | T31: 0.13688685 | U31: 10:45:52.145
A32: 480 | B32: 18.35739.18 | C32: JOSE MAGALHAES DE ARAUJO NETO | D32: Ceará | E32: CE | F32: SPECIALIZED | G32: JOÏ CICLO/CASA DO FRANGO | H32: 0.25915578 | I32: 0.18936442 | J32: =IF(ISNA(VLOOKUP($A32,RallyPiocera2020!$C$4:$O$116,10,0)),0,VLOOKUP($A32,RallyPiocera2020!$C$4:$O$116,10,0)) -> 0.13699117 | K32: =IF(ISNA(VLOOKUP($A32,RallyPiocera2020!$C$4:$O$116,11,0)),0,VLOOKUP($A32,RallyPiocera2020!$C$4:$O$116,11,0)) -> 0.13688685 | L32: =SUM(H32:K32) -> 0.72239822 | Q32: 06:54:09.087 | R32: 06:14:44.008 | S32: 0.17337992 | T32: 0.15583367 | U32: 13:08:53.095
A33: 448 | B33: INRREGULAR | C33: FAGNER DA SILVA OLIVEIRA | D33: Ceará | E33: CE | F33: CANNONDALE | G33: MARIMBONDOS BIKES | H33: 0.21873911 | I33: 0.20037093 | J33: =IF(ISNA(VLOOKUP($A33,RallyPiocera2020!$C$4:$O$116,10,0)),0,VLOOKUP($A33,RallyPiocera2020!$C$4:$O$116,10,0)) -> 0.15970014 | K33: =IF(ISNA(VLOOKUP($A33,RallyPiocera2020!$C$4:$O$116,11,0)),0,VLOOKUP($A33,RallyPiocera2020!$C$4:$O$116,11,0)) -> 0.1475242 | L33: =SUM(H33:K33) -> 0.72633437 | Q33: 04:25:11.173 | S33: #N/A | T33: #N/A | U33: 04:25:11.173
A34: 464 | B34: 19.33611.17 | C34: BRUNO LIMA BEZERRA | D34: Piauí | E34: PI | F34: CALOI | G34: TBA | H34: 0.28760517 | I34: 0.26023157 | J34: =IF(ISNA(VLOOKUP($A34,RallyPiocera2020!$C$4:$O$116,10,0)),0,VLOOKUP($A34,RallyPiocera2020!$C$4:$O$116,10,0)) -> 0.17337992 | K34: =IF(ISNA(VLOOKUP($A34,RallyPiocera2020!$C$4:$O$116,11,0)),0,VLOOKUP($A34,RallyPiocera2020!$C$4:$O$116,11,0)) -> 0.15583367 | L34: =SUM(H34:K34) -> 0.87705034 | Q34: 05:01:21.086 | S34: #N/A | T34: #N/A | U34: 05:01:21.086
A35: MASTER A2
A36: N° | B36: Licenca CBC | C36: ATLETA | D36: ESTADO | E36: UF | F36: BIKE | G36: EQUIPE/PATROCÍNIO | H36: DIA 1 | I36: DIA 2 | J36: DIA 3 | K36: DIA 4 | L36: TEMPO TOTAL | M36: RANKING | Q36: DIA 1 | R36: DIA 2 | S36: DIA 3 | T36: DIA 4 | U36: TEMPO TOTAL
A37: 461 | B37: 14.35086.18 | C37: RENATO WILLAMS DE VASCONCELOS SOUSA | D37: Pernambuco | E37: PE | F37: SPECIALIZED | G37: WELLBIKE | H37: 0.18044054 | I37: 0.15451495 | J37: =IF(ISNA(VLOOKUP($A37,RallyPiocera2020!$C$4:$O$116,10,0)),0,VLOOKUP($A37,RallyPiocera2020!$C$4:$O$116,10,0)) -> 0.12454939 | K37: =IF(ISNA(VLOOKUP($A37,RallyPiocera2020!$C$4:$O$116,11,0)),0,VLOOKUP($A37,RallyPiocera2020!$C$4:$O$116,11,0)) -> 0.1292133 | L37: =SUM(H37:K37) -> 0.58871818 | Q37: 05:01:00.052 | R37: 04:27:37.064 | S37: 0.13938757 | T37: 0.15582183 | U37: 09:28:37.116
A38: 417 | B38: 18.12510.10 | C38: MARCELINO DE MIRANDA PINTO | D38: Ceará | E38: CE | F38: AUDAX | G38: MM TEAM | H38: 0.19312545 | I38: 0.15309039 | J38: =IF(ISNA(VLOOKUP($A38,RallyPiocera2020!$C$4:$O$116,10,0)),0,VLOOKUP($A38,RallyPiocera2020!$C$4:$O$116,10,0)) -> 0.12834515 | K38: =IF(ISNA(VLOOKUP($A38,RallyPiocera2020!$C$4:$O$116,11,0)),0,VLOOKUP($A38,RallyPiocera2020!$C$4:$O$116,11,0)) -> 0.12922476 | L38: =SUM(H38:K38) -> 0.60378575 | Q38: 05:00:32.019 | R38: 04:37:21.057 | S38: 0.13922499 | T38: 0.12926023 | U38: 09:37:53.076
A39: 441 | B39: 18.1917.04 | C39: ANDRE MATOS BARBOSA | F39: CALOI | G39: JOAO CICLO CANNONDALE TEAM | H39: 0.18773233 | I39: 0.16432965 | J39: =IF(ISNA(VLOOKUP($A39,RallyPiocera2020!$C$4:$O$116,10,0)),0,VLOOKUP($A39,RallyPiocera2020!$C$4:$O$116,10,0)) -> 0.12692216 | K39: =IF(ISNA(VLOOKUP($A39,RallyPiocera2020!$C$4:$O$116,11,0)),0,VLOOKUP($A39,RallyPiocera2020!$C$4:$O$116,11,0)) -> 0.12649308 | L39: =SUM(H39:K39) -> 0.60547722 | Q39: 06:13:12.029 | R39: 03:54:44.062 | S39: 0.13364649 | T39: 0.13687568 | U39: 10:07:56.091
A40: 403 | B40: 18.26815.15 | C40: FRANCILANGIO PINTO DOS SANTOS | D40: Ceará | E40: CE | F40: CALOI | G40: CILANDE BIKE TEAM - FRECHEIRINHA | H40: 0.19233837 | I40: 0.16691002 | J40: =IF(ISNA(VLOOKUP($A40,RallyPiocera2020!$C$4:$O$116,10,0)),0,VLOOKUP($A40,RallyPiocera2020!$C$4:$O$116,10,0)) -> 0.14417874 | K40: =IF(ISNA(VLOOKUP($A40,RallyPiocera2020!$C$4:$O$116,11,0)),0,VLOOKUP($A40,RallyPiocera2020!$C$4:$O$116,11,0)) -> 0.1313774 | L40: =SUM(H40:K40) -> 0.63480453 | Q40: 05:24:32.036 | R40: 04:53:39.022 | S40: #N/A | T40: #N/A | U40: 10:18:11.058
A41: 430 | B41: Irregular | C41: GERALDO ALVES DE FARIAS JUNIOR | D41: Ceará | E41: CE | F41: SPECIALIZED | G41: MM TEAM | H41: 0.20099625 | I41: 0.1743876 | J41: =IF(ISNA(VLOOKUP($A41,RallyPiocera2020!$C$4:$O$116,10,0)),0,VLOOKUP($A41,RallyPiocera2020!$C$4:$O$116,10,0)) -> 0.13431814 | K41: =IF(ISNA(VLOOKUP($A41,RallyPiocera2020!$C$4:$O$116,11,0)),0,VLOOKUP($A41,RallyPiocera2020!$C$4:$O$116,11,0)) -> 0.12923646 | L41: =SUM(H41:K41) -> 0.63893845 | Q41: 05:37:24.067 | R41: 05:01:49.043 | S41: 0.16246627 | T41: 0.15491961 | U41: 10:39:13.110
A42: 456 | B42: 18.37411.18 | C42: LUIZ CARLOS SALES DA SILVA JUNIOR | D42: Ceará | E42: CE | F42: SPECIALIZED | G42: CASA DO FRANGO | H42: 0.20640046 | I42: 0.17763957 | J42: =IF(ISNA(VLOOKUP($A42,RallyPiocera2020!$C$4:$O$116,10,0)),0,VLOOKUP($A42,RallyPiocera2020!$C$4:$O$116,10,0)) -> 0.13431797 | K42: =IF(ISNA(VLOOKUP($A42,RallyPiocera2020!$C$4:$O$116,11,0)),0,VLOOKUP($A42,RallyPiocera2020!$C$4:$O$116,11,0)) -> 0.13689833 | L42: =SUM(H42:K42) -> 0.65525634 | Q42: 05:03:05.039 | R42: 05:37:04.004 | S42: 0.14621537 | T42: 0.15403995 | U42: 10:40:09.043
A43: 429 | B43: 19.22035.14 | C43: ROGERIO FERREIRA DO NASCIMENTO | D43: Maranhão | E43: MA | F43: CANNONDALE | G43: TIMON BIKE ADVENTURE- TBA | H43: 0.21462979 | I43: 0.17645888 | J43: =IF(ISNA(VLOOKUP($A43,RallyPiocera2020!$C$4:$O$116,10,0)),0,VLOOKUP($A43,RallyPiocera2020!$C$4:$O$116,10,0)) -> 0.13663198 | K43: =IF(ISNA(VLOOKUP($A43,RallyPiocera2020!$C$4:$O$116,11,0)),0,VLOOKUP($A43,RallyPiocera2020!$C$4:$O$116,11,0)) -> 0.13206133 | L43: =SUM(H43:K43) -> 0.65978198 | Q43: 05:53:43.049 | R43: 04:48:05.014 | S43: 0.14943294 | T43: 0.14783604 | U43: 10:41:48.063
A44: 458 | B44: 22.41069.20 | C44: CARLOS HENRIQUE CURA BORGES | D44: Pará | E44: PA | F44: AUDAX | G44: HENRIQUE BIKES | H44: 0.20870392 | I44: 0.19260483 | J44: =IF(ISNA(VLOOKUP($A44,RallyPiocera2020!$C$4:$O$116,10,0)),0,VLOOKUP($A44,RallyPiocera2020!$C$4:$O$116,10,0)) -> 0.13922499 | K44: =IF(ISNA(VLOOKUP($A44,RallyPiocera2020!$C$4:$O$116,11,0)),0,VLOOKUP($A44,RallyPiocera2020!$C$4:$O$116,11,0)) -> 0.12926023 | L44: =SUM(H44:K44) -> 0.66979397 | Q44: 05:22:53.052 | R44: 05:20:47.068 | S44: #N/A | T44: #N/A | U44: 10:43:40.120
A45: 407 | B45: 18.27936.16 | C45: ANTONIO FRANCISCO SILVA ARAUJO | D45: Ceará | E45: CE | F45: AUDAX | G45: CILANDE BIKE TEAM - FRECHEIRINHA | H45: 0.20902838 | I45: 0.18584565 | J45: =IF(ISNA(VLOOKUP($A45,RallyPiocera2020!$C$4:$O$116,10,0)),0,VLOOKUP($A45,RallyPiocera2020!$C$4:$O$116,10,0)) -> 0.13938757 | K45: =IF(ISNA(VLOOKUP($A45,RallyPiocera2020!$C$4:$O$116,11,0)),0,VLOOKUP($A45,RallyPiocera2020!$C$4:$O$116,11,0)) -> 0.15582183 | L45: =SUM(H45:K45) -> 0.69008343 | Q45: 05:34:02.025 | R45: 05:56:30.052 | S45: #N/A | T45: #N/A | U45: 11:30:32.077
A46: 483 | B46: INRREGULAR | C46: ITALO CORDEIRO ABREU | D46: Ceará | E46: CE | F46: CALOI | G46: JARDEL SILVA CICLISMO ESPORTIVO | H46: 0.259167 | I46: 0.16300998 | J46: =IF(ISNA(VLOOKUP($A46,RallyPiocera2020!$C$4:$O$116,10,0)),0,VLOOKUP($A46,RallyPiocera2020!$C$4:$O$116,10,0)) -> 0.13364649 | K46: =IF(ISNA(VLOOKUP($A46,RallyPiocera2020!$C$4:$O$116,11,0)),0,VLOOKUP($A46,RallyPiocera2020!$C$4:$O$116,11,0)) -> 0.13687568 | L46: =SUM(H46:K46) -> 0.69269916 | Q46: 06:40:15.002 | R46: 06:10:42.023 | S46: 0.18397078 | T46: 0.16239664 | U46: 12:50:57.025
A47: 412 | B47: INRREGULAR | C47: JIDDU FAHEINA | D47: Paraíba | E47: PB | F47: SPECIALIZED | G47: COMANDOS EVENTOS | H47: 0.24563714 | I47: 0.20005803 | J47: =IF(ISNA(VLOOKUP($A47,RallyPiocera2020!$C$4:$O$116,10,0)),0,VLOOKUP($A47,RallyPiocera2020!$C$4:$O$116,10,0)) -> 0.14943294 | K47: =IF(ISNA(VLOOKUP($A47,RallyPiocera2020!$C$4:$O$116,11,0)),0,VLOOKUP($A47,RallyPiocera2020!$C$4:$O$116,11,0)) -> 0.14783604 | L47: =SUM(H47:K47) -> 0.74296416 | Q47: 06:56:29.076 | R47: 06:28:17.079 | S47: 0.19035912 | T47: 0.1645373 | U47: 13:24:46.155
A48: 408 | B48: INRREGULAR | C48: JAILSON DE SOUSA SENA | D48: Ceará | E48: CE | F48: OUTRAS | G48: DOCTOR BIKE GOLDEN HAIR | H48: 0.21047499 | I48: 0.23407412 | J48: =IF(ISNA(VLOOKUP($A48,RallyPiocera2020!$C$4:$O$116,10,0)),0,VLOOKUP($A48,RallyPiocera2020!$C$4:$O$116,10,0)) -> 0.14621537 | K48: =IF(ISNA(VLOOKUP($A48,RallyPiocera2020!$C$4:$O$116,11,0)),0,VLOOKUP($A48,RallyPiocera2020!$C$4:$O$116,11,0)) -> 0.15403995 | L48: =SUM(H48:K48) -> 0.74480443 | Q48: 05:30:08.072 | S48: #N/A | T48: #N/A | U48: 05:30:08.072
A49: 485 | B49: 19.34278.18 | C49: JEFERSON DE SOUSA CHAVES | D49: Piauí | E49: PI | F49: CANNONDALE | G49: CATRACA FORTE TEAM | H49: 0.23430633 | I49: 0.20959541 | J49: =IF(ISNA(VLOOKUP($A49,RallyPiocera2020!$C$4:$O$116,10,0)),0,VLOOKUP($A49,RallyPiocera2020!$C$4:$O$116,10,0)) -> 0.16246627 | K49: =IF(ISNA(VLOOKUP($A49,RallyPiocera2020!$C$4:$O$116,11,0)),0,VLOOKUP($A49,RallyPiocera2020!$C$4:$O$116,11,0)) -> 0.15491961 | L49: =SUM(H49:K49) -> 0.76128762 | Q49: 05:38:47.002 | S49: 0.13800971 | T49: 0.14797552 | U49: 05:38:47.002
A50: 410 | B50: 19.34512.18 | C50: VINICIUS OLIVEIRA FURTADO DE VASCONCELOS | D50: Piauí | E50: PI | F50: CANNONDALE | G50: APC ASSOCIÃO PIAUIENSE DE CICLISMO | H50: 0.27795141 | I50: 0.25743082 | J50: =IF(ISNA(VLOOKUP($A50,RallyPiocera2020!$C$4:$O$116,10,0)),0,VLOOKUP($A50,RallyPiocera2020!$C$4:$O$116,10,0)) -> 0.18397078 | K50: =IF(ISNA(VLOOKUP($A50,RallyPiocera2020!$C$4:$O$116,11,0)),0,VLOOKUP($A50,RallyPiocera2020!$C$4:$O$116,11,0)) -> 0.16239664 | L50: =SUM(H50:K50) -> 0.88174965 | Q50: 05:48:36.086 | S50: 0.1693405 | T50: 0.14797458 | U50: 05:48:36.086
A51: 418 | B51: 18.32491.17 | C51: PEDRO HENRIQUE PEREIRA | D51: Ceará | E51: CE | F51: CNEA OIZ M30 | G51: BRAVUS MTB TEAM | H51: 0.28922542 | I51: 0.26964212 | J51: =IF(ISNA(VLOOKUP($A51,RallyPiocera2020!$C$4:$O$116,10,0)),0,VLOOKUP($A51,RallyPiocera2020!$C$4:$O$116,10,0)) -> 0.19035912 | K51: =IF(ISNA(VLOOKUP($A51,RallyPiocera2020!$C$4:$O$116,11,0)),0,VLOOKUP($A51,RallyPiocera2020!$C$4:$O$116,11,0)) -> 0.1645373 | L51: =SUM(H51:K51) -> 0.91376396 | Q51: 07:15:00.000 | S51: #N/A | T51: #N/A | U51: 07:15:00.000
A52: MASTER B1
A53: N° | B53: Licenca CBC | C53: ATLETA | D53: ESTADO | E53: UF | F53: BIKE | G53: EQUIPE/PATROCÍNIO | H53: DIA 1 | I53: DIA 2 | J53: DIA 3 | K53: DIA 4 | L53: TEMPO TOTAL | M53: RANKING | Q53: DIA 1 | R53: DIA 2 | S53: DIA 3 | T53: DIA 4 | U53: TEMPO TOTAL
A54: 406 | B54: 18.34370.18 | C54: GLAUCIANO FREIRE BATISTA | D54: Ceará | E54: CE | F54: CANNONDALE | G54: JOCICLO CANNONDALE TEAM | H54: 0.18783603 | I54: 0.15371554 | J54: =IF(ISNA(VLOOKUP($A54,RallyPiocera2020!$C$4:$O$116,10,0)),0,VLOOKUP($A54,RallyPiocera2020!$C$4:$O$116,10,0)) -> 0.12500059 | K54: =IF(ISNA(VLOOKUP($A54,RallyPiocera2020!$C$4:$O$116,11,0)),0,VLOOKUP($A54,RallyPiocera2020!$C$4:$O$116,11,0)) -> 0.12923615 | L54: =SUM(H54:K54) -> 0.59578831 | Q54: 04:30:29.033 | R54: 03:41:21.023 | S54: 0.12500059 | T54: 0.12923615 | U54: 08:11:50.056
A55: 500 | B55: 19.3000.05 | C55: LINDOMAR FERREIRA DOS SANTOS | F55: SPECIALIZED | G55: UNIMED TERESINA | H55: 0.19068391 | I55: 0.15821801 | J55: =IF(ISNA(VLOOKUP($A55,RallyPiocera2020!$C$4:$O$116,10,0)),0,VLOOKUP($A55,RallyPiocera2020!$C$4:$O$116,10,0)) -> 0.12162053 | K55: =IF(ISNA(VLOOKUP($A55,RallyPiocera2020!$C$4:$O$116,11,0)),0,VLOOKUP($A55,RallyPiocera2020!$C$4:$O$116,11,0)) -> 0.12651623 | L55: =SUM(H55:K55) -> 0.59703868 | Q55: 04:34:35.090 | R55: 03:47:50.036 | S55: 0.12162053 | T55: 0.12651623 | U55: 08:22:25.126
A56: 508 | B56: 05.11705.09 | C56: THIAGO DREWS ELIAS | D56: Minas Gerais | E56: MG | F56: CANNONDALE | G56: BROU CANNONDALE SHIMANO | H56: 0.20100803 | I56: 0.16488485 | J56: =IF(ISNA(VLOOKUP($A56,RallyPiocera2020!$C$4:$O$116,10,0)),0,VLOOKUP($A56,RallyPiocera2020!$C$4:$O$116,10,0)) -> 0.12838043 | K56: =IF(ISNA(VLOOKUP($A56,RallyPiocera2020!$C$4:$O$116,11,0)),0,VLOOKUP($A56,RallyPiocera2020!$C$4:$O$116,11,0)) -> 0.13206124 | L56: =SUM(H56:K56) -> 0.62633455 | Q56: 04:49:27.094 | R56: 03:57:26.051 | S56: 0.12838043 | T56: 0.13206124 | U56: 08:46:53.145
A57: 476 | B57: 18.23130.14 | C57: RONNIE UERBETH CHAVES | D57: Ceará | E57: CE | F57: CANNONDALE | G57: JO?CICLO CANNONDALE TEAM | H57: 0.199214 | I57: 0.1795149 | J57: =IF(ISNA(VLOOKUP($A57,RallyPiocera2020!$C$4:$O$116,10,0)),0,VLOOKUP($A57,RallyPiocera2020!$C$4:$O$116,10,0)) -> 0.13885528 | K57: =IF(ISNA(VLOOKUP($A57,RallyPiocera2020!$C$4:$O$116,11,0)),0,VLOOKUP($A57,RallyPiocera2020!$C$4:$O$116,11,0)) -> 0.12961843 | L57: =SUM(H57:K57) -> 0.6472026 | Q57: 04:46:52.090 | R57: 04:18:30.087 | S57: 0.13885528 | T57: 0.12961843 | U57: 09:05:22.177
A58: 452 | B58: 20.30862.17 | C58: RODRIGO PAIVA | D58: Maranhão | E58: MA | F58: T SPARK RC 900W | G58: BIKE BROTHERS MTB TEAM | H58: 0.21260487 | I58: 0.18297538 | J58: =IF(ISNA(VLOOKUP($A58,RallyPiocera2020!$C$4:$O$116,10,0)),0,VLOOKUP($A58,RallyPiocera2020!$C$4:$O$116,10,0)) -> 0.14297528 | K58: =IF(ISNA(VLOOKUP($A58,RallyPiocera2020!$C$4:$O$116,11,0)),0,VLOOKUP($A58,RallyPiocera2020!$C$4:$O$116,11,0)) -> 0.13686396 | L58: =SUM(H58:K58) -> 0.67541949 | Q58: 05:06:09.061 | R58: 04:23:29.073 | S58: 0.14297528 | T58: 0.13686396 | U58: 09:29:38.134
A59: 416 | B59: 18.36624.18 | C59: CHARLES FERNANDO MAIA DE OLIVEIRA | D59: Ceará | E59: CE | F59: SPECIALIZED | G59: JARDEL SILVA | H59: 0.22331065 | I59: 0.20107641 | J59: =IF(ISNA(VLOOKUP($A59,RallyPiocera2020!$C$4:$O$116,10,0)),0,VLOOKUP($A59,RallyPiocera2020!$C$4:$O$116,10,0)) -> 0.14176032 | K59: =IF(ISNA(VLOOKUP($A59,RallyPiocera2020!$C$4:$O$116,11,0)),0,VLOOKUP($A59,RallyPiocera2020!$C$4:$O$116,11,0)) -> 0.14503564 | L59: =SUM(H59:K59) -> 0.71118302 | Q59: 05:21:34.040 | R59: 04:49:33.002 | S59: 0.14176032 | T59: 0.14503564 | U59: 10:11:07.042
A60: 446 | B60: 18.30140.16 | C60: FRANCISCO RODRIGUES FILHO | D60: Ceará | E60: CE | F60: CALOI | G60: TEO UV | H60: 0.23208372 | I60: 0.21162147 | J60: =IF(ISNA(VLOOKUP($A60,RallyPiocera2020!$C$4:$O$116,10,0)),0,VLOOKUP($A60,RallyPiocera2020!$C$4:$O$116,10,0)) -> 0.16673619 | K60: =IF(ISNA(VLOOKUP($A60,RallyPiocera2020!$C$4:$O$116,11,0)),0,VLOOKUP($A60,RallyPiocera2020!$C$4:$O$116,11,0)) -> 0.15731587 | L60: =SUM(H60:K60) -> 0.76775725 | Q60: 05:34:12.033 | R60: 05:04:44.095 | S60: 0.16673619 | T60: 0.15731587 | U60: 10:38:56.128
A61: 487 | B61: INRREGULAR | C61: ERISMAR ARAUJO VIEIRA | D61: Ceará | E61: CE | F61: SPECIALIZED | G61: COMANDOS EVENTOS / JARDEL SILVA CICLIS | H61: 0.25729279 | I61: 0.24194455 | J61: =IF(ISNA(VLOOKUP($A61,RallyPiocera2020!$C$4:$O$116,10,0)),0,VLOOKUP($A61,RallyPiocera2020!$C$4:$O$116,10,0)) -> 0.17591528 | K61: =IF(ISNA(VLOOKUP($A61,RallyPiocera2020!$C$4:$O$116,11,0)),0,VLOOKUP($A61,RallyPiocera2020!$C$4:$O$116,11,0)) -> 0.18170207 | L61: =SUM(H61:K61) -> 0.85685469 | Q61: 06:21:51.004 | R61: 05:35:15.039 | S61: 0.23474612 | T61: 0.17000046 | U61: 11:57:06.043
A62: 465 | B62: 12.15316.11 | C62: CARLOS ALBERTO BOARETTO | D62: Bahia | E62: BA | F62: SPECIALIZED | G62: IN SOCIETATE / ORGANIZA | H62: 0.25729223 | I62: 0.25410897 | J62: =IF(ISNA(VLOOKUP($A62,RallyPiocera2020!$C$4:$O$116,10,0)),0,VLOOKUP($A62,RallyPiocera2020!$C$4:$O$116,10,0)) -> 0.18100703 | K62: =IF(ISNA(VLOOKUP($A62,RallyPiocera2020!$C$4:$O$116,11,0)),0,VLOOKUP($A62,RallyPiocera2020!$C$4:$O$116,11,0)) -> 0.17295186 | L62: =SUM(H62:K62) -> 0.86536009 | Q62: 06:10:30.097 | R62: 05:48:24.009 | S62: 0.17591528 | T62: 0.18170207 | U62: 11:58:54.106
A63: 401 | B63: INRREGULAR | C63: JADSON CAVALCANTE RIBEIRO | D63: Ceará | E63: CE | F63: AUDAX | G63: MM TEAM | H63: 0.29444444 | I63: 0.24909794 | J63: =IF(ISNA(VLOOKUP($A63,RallyPiocera2020!$C$4:$O$116,10,0)),0,VLOOKUP($A63,RallyPiocera2020!$C$4:$O$116,10,0)) -> 0.17144706 | K63: =IF(ISNA(VLOOKUP($A63,RallyPiocera2020!$C$4:$O$116,11,0)),0,VLOOKUP($A63,RallyPiocera2020!$C$4:$O$116,11,0)) -> 0.15704949 | L63: =SUM(H63:K63) -> 0.87203894 | Q63: 06:10:30.049 | R63: 06:05:55.015 | S63: 0.18100703 | T63: 0.17295186 | U63: 12:16:25.064
A64: 455 | B64: 18.40955.19 | C64: ANAILTON LUSTOZA BRANDAO | D64: Ceará | E64: CE | F64: AUDAX | G64: CORUJÏ DO ASFALTO | H64: 0.26517366 | I64: 0.23281295 | J64: =IF(ISNA(VLOOKUP($A64,RallyPiocera2020!$C$4:$O$116,10,0)),0,VLOOKUP($A64,RallyPiocera2020!$C$4:$O$116,10,0)) -> 0.23474612 | K64: =IF(ISNA(VLOOKUP($A64,RallyPiocera2020!$C$4:$O$116,11,0)),0,VLOOKUP($A64,RallyPiocera2020!$C$4:$O$116,11,0)) -> 0.17000046 | L64: =SUM(H64:K64) -> 0.90273319 | Q64: 07:04:00.000 | R64: 05:58:42.062 | S64: 0.17144706 | T64: 0.15704949 | U64: 13:02:42.062
A65: 421 | B65: 24.34961.19 | C65: DELANO LIMA E SILVA | D65: Acre | E65: AC | F65: SPECIALIZED | G65: MTB ACRE FORCE | H65: 0.30069444 | I65: 0.26670241 | J65: =IF(ISNA(VLOOKUP($A65,RallyPiocera2020!$C$4:$O$116,10,0)),0,VLOOKUP($A65,RallyPiocera2020!$C$4:$O$116,10,0)) -> 0.206274 | K65: =IF(ISNA(VLOOKUP($A65,RallyPiocera2020!$C$4:$O$116,11,0)),0,VLOOKUP($A65,RallyPiocera2020!$C$4:$O$116,11,0)) -> 0.16084595 | L65: =SUM(H65:K65) -> 0.93451681 | Q65: 07:13:00.000 | R65: 06:24:03.088 | S65: 0.206274 | T65: 0.16084595 | U65: 13:37:03.088
A66: MASTER B2
A67: N° | B67: Licenca CBC | C67: ATLETA | D67: ESTADO | E67: UF | F67: BIKE | G67: EQUIPE/PATROCÍNIO | H67: DIA 1 | I67: DIA 2 | J67: DIA 3 | K67: DIA 4 | L67: TEMPO TOTAL | M67: RANKING | Q67: DIA 1 | R67: DIA 2 | S67: DIA 3 | T67: DIA 4 | U67: TEMPO TOTAL
A68: 482 | B68: 14.19382.13 | C68: ROBSON LUIZ WANDERLEY PONTES DE MELO | D68: Pernambuco | E68: PE | F68: SPECIALIZED | G68: WELBIKE | H68: 0.20870438 | I68: 0.17701497 | J68: =IF(ISNA(VLOOKUP($A68,RallyPiocera2020!$C$4:$O$116,10,0)),0,VLOOKUP($A68,RallyPiocera2020!$C$4:$O$116,10,0)) -> 0.14596112 | K68: =IF(ISNA(VLOOKUP($A68,RallyPiocera2020!$C$4:$O$116,11,0)),0,VLOOKUP($A68,RallyPiocera2020!$C$4:$O$116,11,0)) -> 0.13691059 | L68: =SUM(H68:K68) -> 0.66859105 | Q68: 05:53:17.052 | R68: 04:35:49.066 | S68: 0.15008181 | T68: 0.14787095 | U68: 10:29:06.118
A69: 472 | B69: 19.2656.05 | C69: ERNANI DE CASTRO COSTA | D69: Piauí | E69: PI | F69: SCOTT | G69: BIKERS RACING TEAM | H69: 0.21489652 | I69: 0.19900516 | J69: =IF(ISNA(VLOOKUP($A69,RallyPiocera2020!$C$4:$O$116,10,0)),0,VLOOKUP($A69,RallyPiocera2020!$C$4:$O$116,10,0)) -> 0.14224553 | K69: =IF(ISNA(VLOOKUP($A69,RallyPiocera2020!$C$4:$O$116,11,0)),0,VLOOKUP($A69,RallyPiocera2020!$C$4:$O$116,11,0)) -> 0.14632006 | L69: =SUM(H69:K69) -> 0.70246727 | Q69: 05:31:03.031 | R69: 05:15:49.099 | S69: 0.15522002 | T69: 0.14785881 | U69: 10:46:52.130
A70: 451 | B70: 20.25289.15 | C70: GEORGE HAMILTON COSTA MARTINS | D70: Maranhão | E70: MA | F70: SPECIALIZED | G70: BIKE BROTHERS MTB TEAM | H70: 0.24533625 | I70: 0.19154012 | J70: =IF(ISNA(VLOOKUP($A70,RallyPiocera2020!$C$4:$O$116,10,0)),0,VLOOKUP($A70,RallyPiocera2020!$C$4:$O$116,10,0)) -> 0.15008181 | K70: =IF(ISNA(VLOOKUP($A70,RallyPiocera2020!$C$4:$O$116,11,0)),0,VLOOKUP($A70,RallyPiocera2020!$C$4:$O$116,11,0)) -> 0.14787095 | L70: =SUM(H70:K70) -> 0.73482912 | Q70: 05:53:22.004 | R70: 04:53:38.058 | S70: 0.15160899 | T70: 0.14820671 | U70: 10:47:00.062
A71: 477 | B71: 18.28107.16 | C71: EDUARDO ALESSANDRO MOREIRA SCHUSTER | D71: Ceará | E71: CE | F71: SPECIALIZED | G71: MM TEAM | H71: 0.24539356 | I71: 0.20391271 | J71: =IF(ISNA(VLOOKUP($A71,RallyPiocera2020!$C$4:$O$116,10,0)),0,VLOOKUP($A71,RallyPiocera2020!$C$4:$O$116,10,0)) -> 0.15160899 | K71: =IF(ISNA(VLOOKUP($A71,RallyPiocera2020!$C$4:$O$116,11,0)),0,VLOOKUP($A71,RallyPiocera2020!$C$4:$O$116,11,0)) -> 0.14820671 | L71: =SUM(H71:K71) -> 0.74912198 | Q71: 05:45:48.089 | R71: 05:07:22.085 | S71: 0.15986155 | T71: 0.15607707 | U71: 10:53:10.174
A72: 411 | B72: 18.30234.16 | C72: REMO CAMPOS LOSCIO | F72: SCOTT | G72: MM TEAM | H72: 0.22989619 | I72: 0.21931828 | J72: =IF(ISNA(VLOOKUP($A72,RallyPiocera2020!$C$4:$O$116,10,0)),0,VLOOKUP($A72,RallyPiocera2020!$C$4:$O$116,10,0)) -> 0.15522002 | K72: =IF(ISNA(VLOOKUP($A72,RallyPiocera2020!$C$4:$O$116,11,0)),0,VLOOKUP($A72,RallyPiocera2020!$C$4:$O$116,11,0)) -> 0.14785881 | L72: =SUM(H72:K72) -> 0.7522933 | Q72: 05:46:43.082 | R72: 05:12:05.075 | S72: 0.16990778 | T72: 0.15461875 | U72: 10:58:48.157
A73: 413 | B73: 22.23925.15 | C73: OLDAIR RODRIGUES DO NASCIMENTO | D73: Pará | E73: PA | F73: SPECIALIZED | G73: CLUBE AMAZ?IA DE CICLISMO | H73: 0.24013992 | I73: 0.21345006 | J73: =IF(ISNA(VLOOKUP($A73,RallyPiocera2020!$C$4:$O$116,10,0)),0,VLOOKUP($A73,RallyPiocera2020!$C$4:$O$116,10,0)) -> 0.15986155 | K73: =IF(ISNA(VLOOKUP($A73,RallyPiocera2020!$C$4:$O$116,11,0)),0,VLOOKUP($A73,RallyPiocera2020!$C$4:$O$116,11,0)) -> 0.15607707 | L73: =SUM(H73:K73) -> 0.7695286 | Q73: 05:52:15.074 | R73: 05:31:36.078 | S73: 0.16248888 | T73: 0.14797552 | U73: 11:23:51.152
A74: 450 | B74: 19.4633.06 | C74: MARCOS HELENO ALENCAR CALDAS MELO | D74: Piauí | E74: PI | F74: CANNONDALE | G74: APC ASSOCIÃO PIAUIENSE DE CICLISMO | H74: 0.24077641 | I74: 0.21672541 | J74: =IF(ISNA(VLOOKUP($A74,RallyPiocera2020!$C$4:$O$116,10,0)),0,VLOOKUP($A74,RallyPiocera2020!$C$4:$O$116,10,0)) -> 0.16990778 | K74: =IF(ISNA(VLOOKUP($A74,RallyPiocera2020!$C$4:$O$116,11,0)),0,VLOOKUP($A74,RallyPiocera2020!$C$4:$O$116,11,0)) -> 0.15461875 | L74: =SUM(H74:K74) -> 0.78202834 | Q74: 06:41:49.071 | R74: 04:44:24.038 | S74: 0.16550998 | T74: 0.14410919 | U74: 11:26:13.109
A75: 493 | B75: INRREGULAR | C75: RAIMUNDO JOSE MARQUES ROSA | D75: Ceará | E75: CE | F75: CALOI | G75: COMANDOS EVENTOS / JARDEL SILVA CICLIS | H75: 0.24461891 | I75: 0.23027868 | J75: =IF(ISNA(VLOOKUP($A75,RallyPiocera2020!$C$4:$O$116,10,0)),0,VLOOKUP($A75,RallyPiocera2020!$C$4:$O$116,10,0)) -> 0.16248888 | K75: =IF(ISNA(VLOOKUP($A75,RallyPiocera2020!$C$4:$O$116,11,0)),0,VLOOKUP($A75,RallyPiocera2020!$C$4:$O$116,11,0)) -> 0.14797552 | L75: =SUM(H75:K75) -> 0.78536199 | Q75: 07:16:00.000 | R75: 04:32:36.003 | S75: 0.15091455 | T75: 0.14480432 | U75: 11:48:36.003
A76: 420 | B76: 16.30625.17 | C76: MARTO GERALDO SOARES DE LUCENA | F76: AUDAX | G76: WELBIKE | H76: 0.27904017 | I76: 0.19750044 | J76: =IF(ISNA(VLOOKUP($A76,RallyPiocera2020!$C$4:$O$116,10,0)),0,VLOOKUP($A76,RallyPiocera2020!$C$4:$O$116,10,0)) -> 0.16550998 | K76: =IF(ISNA(VLOOKUP($A76,RallyPiocera2020!$C$4:$O$116,11,0)),0,VLOOKUP($A76,RallyPiocera2020!$C$4:$O$116,11,0)) -> 0.14410919 | L76: =SUM(H76:K76) -> 0.78615978 | Q76: 06:11:14.012 | R76: 05:39:47.023 | S76: 0.18060206 | T76: 0.15819473 | U76: 11:51:01.035
A77: 467 | B77: 18.22377.14 | C77: TARCIO QUEIROZ CALIXTO | D77: Ceará | E77: CE | F77: SPECIALIZED | G77: ENDURANCE TEAM | H77: 0.30277778 | I77: 0.18930559 | J77: =IF(ISNA(VLOOKUP($A77,RallyPiocera2020!$C$4:$O$116,10,0)),0,VLOOKUP($A77,RallyPiocera2020!$C$4:$O$116,10,0)) -> 0.15091455 | K77: =IF(ISNA(VLOOKUP($A77,RallyPiocera2020!$C$4:$O$116,11,0)),0,VLOOKUP($A77,RallyPiocera2020!$C$4:$O$116,11,0)) -> 0.14480432 | L77: =SUM(H77:K77) -> 0.78780223 | Q77: 07:17:00.000 | R77: 05:22:41.084 | S77: 0.16462987 | T77: 0.15314883 | U77: 12:39:41.084
A78: 503 | B78: 19.26555.15 | C78: MARCOS VINICIUS DE MELO CRUZ | D78: Piauí | E78: PI | F78: AUDAX | G78: VADEBIKE | H78: 0.25780106 | I78: 0.23596091 | J78: =IF(ISNA(VLOOKUP($A78,RallyPiocera2020!$C$4:$O$116,10,0)),0,VLOOKUP($A78,RallyPiocera2020!$C$4:$O$116,10,0)) -> 0.18060206 | K78: =IF(ISNA(VLOOKUP($A78,RallyPiocera2020!$C$4:$O$116,11,0)),0,VLOOKUP($A78,RallyPiocera2020!$C$4:$O$116,11,0)) -> 0.15819473 | L78: =SUM(H78:K78) -> 0.83255877 | Q78: 07:26:00.000 | R78: 05:42:05.021 | S78: 0.17007023 | T78: 0.16241975 | U78: 13:08:05.021
A79: 468 | B79: 18.29564.16 | C79: RENATO PEREIRA | D79: Ceará | E79: CE | F79: CALOI | G79: ENDURANCE CICLISMO | H79: 0.30347222 | I79: 0.22408662 | J79: =IF(ISNA(VLOOKUP($A79,RallyPiocera2020!$C$4:$O$116,10,0)),0,VLOOKUP($A79,RallyPiocera2020!$C$4:$O$116,10,0)) -> 0.16462987 | K79: =IF(ISNA(VLOOKUP($A79,RallyPiocera2020!$C$4:$O$116,11,0)),0,VLOOKUP($A79,RallyPiocera2020!$C$4:$O$116,11,0)) -> 0.15314883 | L79: =SUM(H79:K79) -> 0.84533755 | Q79: 07:02:00.000 | R79: 06:51:23.479 | S79: #N/A | T79: #N/A | U79: 13:53:23.479
A80: 491 | B80: INRREGULAR | C80: HAROLDO CESAR DE OLIVEIRA MACIEL | D80: Ceará | E80: CE | F80: CALOI | G80: COMANDOS EVENTOS / JARDEL SILVA CICLIS | H80: 0.30972222 | I80: 0.23755811 | J80: =IF(ISNA(VLOOKUP($A80,RallyPiocera2020!$C$4:$O$116,10,0)),0,VLOOKUP($A80,RallyPiocera2020!$C$4:$O$116,10,0)) -> 0.17007023 | K80: =IF(ISNA(VLOOKUP($A80,RallyPiocera2020!$C$4:$O$116,11,0)),0,VLOOKUP($A80,RallyPiocera2020!$C$4:$O$116,11,0)) -> 0.16241975 | L80: =SUM(H80:K80) -> 0.87977031 | Q80: 05:11:33.087 | S80: #N/A | T80: #N/A | U80: 05:11:33.087
A81: MASTER C1
A82: N° | B82: Licenca CBC | C82: ATLETA | D82: ESTADO | E82: UF | F82: BIKE | G82: EQUIPE/PATROCÍNIO | H82: DIA 1 | I82: DIA 2 | J82: DIA 3 | K82: DIA 4 | L82: TEMPO TOTAL | M82: RANKING | Q82: DIA 1 | R82: DIA 2 | S82: DIA 3 | T82: DIA 4 | U82: TEMPO TOTAL
A83: 474 | B83: 18.18647.13 | C83: MARCIO DOBEL BENIGNO | D83: Ceará | E83: CE | F83: CANNONDALE | G83: MM TEAM | H83: 0.21365767 | I83: 0.19360037 | J83: =IF(ISNA(VLOOKUP($A83,RallyPiocera2020!$C$4:$O$116,10,0)),0,VLOOKUP($A83,RallyPiocera2020!$C$4:$O$116,10,0)) -> 0.15152892 | K83: =IF(ISNA(VLOOKUP($A83,RallyPiocera2020!$C$4:$O$116,11,0)),0,VLOOKUP($A83,RallyPiocera2020!$C$4:$O$116,11,0)) -> 0.14663204 | L83: =SUM(H83:K83) -> 0.705419 | Q83: 05:15:02.061 | R83: 05:00:04.001 | S83: 0.15687594 | T83: 0.14662149 | U83: 10:15:06.062
A84: 497 | B84: 183403418 | C84: FRANCISCO OSMARIO PERREIRA ALVES FEITOSA | D84: Pernambuco | E84: PE | F84: SPECIALIZED | G84: GARROTE RADICAL | H84: 0.21877385 | I84: 0.20837964 | J84: =IF(ISNA(VLOOKUP($A84,RallyPiocera2020!$C$4:$O$116,10,0)),0,VLOOKUP($A84,RallyPiocera2020!$C$4:$O$116,10,0)) -> 0.15687594 | K84: =IF(ISNA(VLOOKUP($A84,RallyPiocera2020!$C$4:$O$116,11,0)),0,VLOOKUP($A84,RallyPiocera2020!$C$4:$O$116,11,0)) -> 0.14662149 | L84: =SUM(H84:K84) -> 0.73065093 | Q84: 06:02:56.024 | R84: 05:34:00.038 | S84: 0.17452573 | T84: 0.16765046 | U84: 11:36:56.062
A85: 479 | B85: 18.9622.10 | C85: PAULO MARCELO OLIVEIRA | D85: Ceará | E85: CE | F85: GT | G85: JARDEL SILVA | H85: 0.25203731 | I85: 0.23194488 | J85: =IF(ISNA(VLOOKUP($A85,RallyPiocera2020!$C$4:$O$116,10,0)),0,VLOOKUP($A85,RallyPiocera2020!$C$4:$O$116,10,0)) -> 0.17452573 | K85: =IF(ISNA(VLOOKUP($A85,RallyPiocera2020!$C$4:$O$116,11,0)),0,VLOOKUP($A85,RallyPiocera2020!$C$4:$O$116,11,0)) -> 0.16765046 | L85: =SUM(H85:K85) -> 0.82615839 | Q85: 06:42:50.035 | R85: 06:01:54.001 | S85: #N/A | T85: #N/A | U85: 12:44:44.036
A86: 473 | B86: 19.38929.19 | C86: CARLOS AUGUSTO GOMES DE SOUSA | D86: Piauí | E86: PI | F86: CANNONDALE | G86: FOXTEAM | H86: 0.28510463 | I86: 0.28512927 | J86: =IF(ISNA(VLOOKUP($A86,RallyPiocera2020!$C$4:$O$116,10,0)),0,VLOOKUP($A86,RallyPiocera2020!$C$4:$O$116,10,0)) -> 0.21530168 | K86: =IF(ISNA(VLOOKUP($A86,RallyPiocera2020!$C$4:$O$116,11,0)),0,VLOOKUP($A86,RallyPiocera2020!$C$4:$O$116,11,0)) -> 0.20096074 | L86: =SUM(H86:K86) -> 0.98649632 | Q86: 06:50:33.040 | R86: 06:50:35.169 | S86: 0.21530168 | T86: 0.20096074 | U86: 13:41:08.209
A87: MASTER C2
A88: N° | B88: Licenca CBC | C88: ATLETA | D88: ESTADO | E88: UF | F88: BIKE | G88: EQUIPE/PATROCÍNIO | H88: DIA 1 | I88: DIA 2 | J88: DIA 3 | K88: DIA 4 | L88: TEMPO TOTAL | M88: RANKING | Q88: DIA 1 | R88: DIA 2 | S88: DIA 3 | T88: DIA 4 | U88: TEMPO TOTAL
A89: 414 | B89: 16.30678.17 | C89: JOSE ANTONIO BARBOSA | D89: Paraíba | E89: PB | F89: SPECIALIZED | G89: WELBIKE | H89: 0.24668985 | I89: 0.24121635 | J89: =IF(ISNA(VLOOKUP($A89,RallyPiocera2020!$C$4:$O$116,10,0)),0,VLOOKUP($A89,RallyPiocera2020!$C$4:$O$116,10,0)) -> 0.16953725 | K89: =IF(ISNA(VLOOKUP($A89,RallyPiocera2020!$C$4:$O$116,11,0)),0,VLOOKUP($A89,RallyPiocera2020!$C$4:$O$116,11,0)) -> 0.17295193 | L89: =SUM(H89:K89) -> 0.83039538 | Q89: 06:08:34.091 | R89: 05:52:50.060 | S89: 0.18772072 | T89: 0.17104241 | U89: 12:01:24.151
A90: 428 | B90: 19.23805.15 | C90: JOSE HENRIQUE PIMENTEL ROCHA | D90: Piauí | E90: PI | F90: SPECIALIZED | G90: CATRACA FORTE TEAM - CFT | H90: 0.25595013 | I90: 0.24502384 | J90: =IF(ISNA(VLOOKUP($A90,RallyPiocera2020!$C$4:$O$116,10,0)),0,VLOOKUP($A90,RallyPiocera2020!$C$4:$O$116,10,0)) -> 0.18772072 | K90: =IF(ISNA(VLOOKUP($A90,RallyPiocera2020!$C$4:$O$116,11,0)),0,VLOOKUP($A90,RallyPiocera2020!$C$4:$O$116,11,0)) -> 0.17104241 | L90: =SUM(H90:K90) -> 0.85973709 | Q90: 07:08:00.000 | R90: 05:45:20.046 | S90: 0.22780168 | T90: 0.15560292 | U90: 12:53:20.046
A91: 457 | B91: 12.22342.14 | C91: EDMILSON SILVA RIBEIRO | D91: Bahia | E91: BA | F91: FIRST | G91: SEM EQUIPE | H91: 0.29722222 | I91: 0.23981535 | J91: =IF(ISNA(VLOOKUP($A91,RallyPiocera2020!$C$4:$O$116,10,0)),0,VLOOKUP($A91,RallyPiocera2020!$C$4:$O$116,10,0)) -> 0.22780168 | K91: =IF(ISNA(VLOOKUP($A91,RallyPiocera2020!$C$4:$O$116,11,0)),0,VLOOKUP($A91,RallyPiocera2020!$C$4:$O$116,11,0)) -> 0.15560292 | L91: =SUM(H91:K91) -> 0.92044216 | Q91: 06:48:33.047 | R91: 06:50:57.055 | S91: 0.18489597 | T91: 0.17884337 | U91: 13:39:30.102
A92: 515 | B92: INRREGULAR | C92: VALDI SOARES DA SILVA | D92: Piauí | E92: PI | F92: SPECIALIZED | G92: PEDAL GREEN | H92: 0.28371582 | I92: 0.28538258 | J92: =IF(ISNA(VLOOKUP($A92,RallyPiocera2020!$C$4:$O$116,10,0)),0,VLOOKUP($A92,RallyPiocera2020!$C$4:$O$116,10,0)) -> 0.18489597 | K92: =IF(ISNA(VLOOKUP($A92,RallyPiocera2020!$C$4:$O$116,11,0)),0,VLOOKUP($A92,RallyPiocera2020!$C$4:$O$116,11,0)) -> 0.17884337 | L92: =SUM(H92:K92) -> 0.93283774 | S92: 0 | T92: 0.17647003 | U92: 06:56:30.068
A93: SUB 30
A94: N° | B94: Licenca CBC | C94: ATLETA | D94: ESTADO | E94: UF | F94: BIKE | G94: EQUIPE/PATROCÍNIO | H94: DIA 1 | I94: DIA 2 | J94: DIA 3 | K94: DIA 4 | L94: TEMPO TOTAL | M94: RANKING | Q94: DIA 1 | R94: DIA 2 | S94: DIA 3 | T94: DIA 4 | U94: TEMPO TOTAL
A95: 436 | B95: 16.29011.16 | C95: LUIS DIEGO DO NASCIMENTO | D95: Pernambuco | E95: PE | F95: SPECIALIZED | G95: MOVELARIA NOSSA SENHORA APARECIDA | H95: 0.19908597 | I95: 0.14199159 | J95: =IF(ISNA(VLOOKUP($A95,RallyPiocera2020!$C$4:$O$116,10,0)),0,VLOOKUP($A95,RallyPiocera2020!$C$4:$O$116,10,0)) -> 0.11935225 | K95: =IF(ISNA(VLOOKUP($A95,RallyPiocera2020!$C$4:$O$116,11,0)),0,VLOOKUP($A95,RallyPiocera2020!$C$4:$O$116,11,0)) -> 0.12551038 | L95: =SUM(H95:K95) -> 0.58594019 | Q95: 04:34:44.058 | R95: 03:57:26.052 | S95: 0.12835718 | T95: 0.12646995 | U95: 08:32:10.110
A96: 475 | B96: 18.14147.11 | C96: ELIONAI COSTA DE SOUSA | D96: Ceará | E96: CE | F96: FOCUS | G96: DOCTOR BIKE GOLDEN HAIR | H96: 0.19078771 | I96: 0.16488486 | J96: =IF(ISNA(VLOOKUP($A96,RallyPiocera2020!$C$4:$O$116,10,0)),0,VLOOKUP($A96,RallyPiocera2020!$C$4:$O$116,10,0)) -> 0.12835718 | K96: =IF(ISNA(VLOOKUP($A96,RallyPiocera2020!$C$4:$O$116,11,0)),0,VLOOKUP($A96,RallyPiocera2020!$C$4:$O$116,11,0)) -> 0.12646995 | L96: =SUM(H96:K96) -> 0.6104997 | Q96: 04:43:38.018 | R96: 03:53:58.019 | S96: 0.13388998 | T96: 0.13199094 | U96: 08:37:36.037
A97: 415 | B97: 16.34430.18 | C97: LUCIVALDO FERREIRA PEREIRA | D97: Pernambuco | E97: PE | F97: FIRST | G97: CARUARU TEAM RACE | H97: 0.1969678 | I97: 0.16247707 | J97: =IF(ISNA(VLOOKUP($A97,RallyPiocera2020!$C$4:$O$116,10,0)),0,VLOOKUP($A97,RallyPiocera2020!$C$4:$O$116,10,0)) -> 0.13388998 | K97: =IF(ISNA(VLOOKUP($A97,RallyPiocera2020!$C$4:$O$116,11,0)),0,VLOOKUP($A97,RallyPiocera2020!$C$4:$O$116,11,0)) -> 0.13199094 | L97: =SUM(H97:K97) -> 0.62532579 | Q97: 05:10:57.083 | R97: 04:41:19.078 | S97: 0.16908602 | T97: 0.15291758 | U97: 09:52:16.161
A98: 427 | B98: INRREGULAR | C98: FERNANDO NASCIMENTO SILVA | D98: Ceará | E98: CE | F98: OUTRAS | G98: CILANDE BIKE TEAM - FRECHEIRINHA | H98: 0.21593846 | I98: 0.1953597 | J98: =IF(ISNA(VLOOKUP($A98,RallyPiocera2020!$C$4:$O$116,10,0)),0,VLOOKUP($A98,RallyPiocera2020!$C$4:$O$116,10,0)) -> 0.16908602 | K98: =IF(ISNA(VLOOKUP($A98,RallyPiocera2020!$C$4:$O$116,11,0)),0,VLOOKUP($A98,RallyPiocera2020!$C$4:$O$116,11,0)) -> 0.15291758 | L98: =SUM(H98:K98) -> 0.73330176 | Q98: 05:00:30.026 | S98: #N/A | T98: #N/A | U98: 05:00:30.026
A99: VETERANO
A100: N° | B100: Licenca CBC | C100: ATLETA | D100: ESTADO | E100: UF | F100: BIKE | G100: EQUIPE/PATROCÍNIO | H100: DIA 1 | I100: DIA 2 | J100: DIA 3 | K100: DIA 4 | L100: TEMPO TOTAL | M100: RANKING | Q100: DIA 1 | R100: DIA 2 | S100: DIA 3 | T100: DIA 4 | U100: TEMPO TOTAL
...

Sheet RallyPiocera2020
D1: Rally Piocerá 2020
A2: Sexo-Categoria | B2: Coloc. | C2: No. | D2: Atleta/Dupla | E2: Estado | F2: UF | G2: CPF | H2: Bike | I2: Equipe/Patrocinador | J2: Etapa1 | K2: Etapa2 | L2: Etapa3 | M2: Etapa4 | N2: TempoTotal | O2: Etapas | S2: bkp etapa 3 | T2: bkp etapa 4
D3: *** DUPLA ***
A4: D-DUPLA-DUPLA | B4: 1 | C4: 543D | D4: MATEUS MUINARSKI DE ARAUJO | E4: Mato Grosso do Sul | F4: MS | H4: AUDAX | I4: CORINTHIANS AUDAX | L4: 0.13704907 | M4: 0.1356836 | N4: 06:32:44.103 | O4: 2 | S4: 03:17:21.040 | T4: 03:15:23.063
A5: D-DUPLA-DUPLA | B5: 2 | C5: 542D | D5: GUTEMBERG ANDRADE FREITAS | E5: Piauí | F5: PI | H5: SPECIALIZED | I5: PEDAL GREEN | L5: 0.13883206 | M5: 0.13795149 | N5: 06:38:34.099 | O5: 2 | S5: 03:19:55.090 | T5: 03:18:39.009
A6: D-DUPLA-DUPLA | B6: 3 | C6: 540D | D6: CROMWELL ANDRADE NETO/ANTONIO MARCELO | E6: Piauí | F6: PI | H6: AUDAX | I6: STUDIO SET | L6: 0.14180618 | M6: 0.13759314 | N6: 06:42:20.101 | O6: 2 | S6: 03:24:12.054 | T6: 03:18:08.047
A7: D-DUPLA-DUPLA | B7: 4 | C7: 537D | D7: RAFAEL SOUTO ATAIDE GOMES | E7: Ceará | F7: CE | H7: CANNONDALE | I7: JOAO CICLO / FUNFIT STORE | L7: 0.14197986 | M7: 0.14096102 | N7: 06:47:26.092 | O7: 2 | S7: 03:24:27.060 | T7: 03:22:59.032
A8: D-DUPLA-DUPLA | B8: 5 | C8: 531D | D8: GUSTAVO MARINHO RAMOS SOARES | E8: Piauí | F8: PI | H8: AUDAX | I8: 4MOV | L8: 0.13945645 | M8: 0.14502406 | N8: 06:49:39.116 | O8: 2 | S8: 03:20:49.037 | T8: 03:28:50.079
A9: D-DUPLA-DUPLA | B9: 6 | C9: 533D | D9: FRANCISCO ANDERSON DA SILVA | E9: Ceará | F9: CE | H9: OUTRAS | I9: GARDENAL BIKE TEAM | L9: 0.15093791 | M9: 0.15402859 | N9: 07:19:09.105 | O9: 2 | S9: 03:37:21.035 | T9: 03:41:48.070
A10: D-DUPLA-DUPLA | B10: 7 | C10: 539D | D10: JOSE ALVES DE OLIVEIRA NETO | E10: Ceará | F10: CE | H10: CANNONDALE | I10: JOÏ CICLO/CASA DO FRANGO | L10: 0.15721139 | M10: 0.15489635 | N10: 07:29:26.109 | O10: 2 | S10: 03:46:23.064 | T10: 03:43:03.045
A11: D-DUPLA-DUPLA | B11: 8 | C11: 541D | D11: FRANCISCO JOSE | E11: Ceará | F11: CE | H11: AUDAX | I11: CILANDE BIKE TEAM - FRECHEIRINHA | L11: 0.16777888 | M11: 0.15582273 | N11: 07:45:59.179 | O11: 2 | S11: 04:01:36.095 | T11: 03:44:23.084
A12: D-DUPLA-DUPLA | B12: 9 | C12: 534D | D12: ANTONIO FABIO OLIVEIRA CARIOLANO | E12: Maranhão | F12: MA | H12: AUDAX | I12: TIMON BIKE ADVENTURE- TBA | L12: 0.16929502 | M12: 0.15819539 | N12: 07:51:35.172 | O12: 2 | S12: 04:03:47.090 | T12: 03:47:48.082
A13: D-DUPLA-DUPLA | B13: 10 | C13: 545D | D13: MARCELO CARRIAS | E13: Piauí | F13: PI | H13: AUDAX | I13: BIKERS MARATHAOAN | L13: 0.16248944 | M13: 0.17884279 | N13: 08:11:31.105 | O13: 2 | S13: 03:53:59.088 | T13: 04:17:32.017
A14: D-DUPLA-DUPLA | B14: 11 | C14: 532D | D14: EMERSON FERNANDES ROSA | E14: Ceará | F14: CE | H14: SOUL VOLCANO COR LARANJA | I14: BRAVUS MTB TEAM | L14: 0.1765627 | M14: 0.16511644 | N14: 08:12:01.077 | O14: 2 | S14: 04:14:15.017 | T14: 03:57:46.060
A15: D-DUPLA-DUPLA | B15: 12 | C15: 538D | D15: NABOR BEZERRA DE MOURA JUNIOR | E15: Piauí | F15: PI | H15: OUTRAS | I15: FOXTEAM | L15: 0.15721163 | M15: 0.20096135 | N15: 08:35:46.146 | O15: 2 | S15: 03:46:23.085 | T15: 04:49:23.061
A16: D-DUPLA-DUPLA | B16: 13 | C16: 544D | D16: MARIA REGINA DA SILVA PEDRINI | E16: Rio Grande do Norte | F16: RN | H16: SPECIALIZED | I16: MISS BIKE | L16: 0.18790515 | M16: 0.1891092 | N16: 09:02:54.040 | O16: 2 | S16: 04:30:35.005 | T16: 04:32:19.035
A17: D-DUPLA-DUPLA | B17: 14 | C17: 536D | D17: PAULO EDUARDO ALMEIDA RODRIGUES | E17: Ceará | F17: CE | H17: SPECIALIZED | I17: JARDEL SILVA | M17: 0.14717598 | N17: 03:31:56.005 | O17: 1 | T17: 03:31:56.005
A18: D-DUPLA-DUPLA | B18: 15 | C18: 535D | D18: FERNANDO ROCHA BARBOSA | E18: Piauí | F18: PI | H18: OUTRAS | I18: TIMON BIKERS ADVENTURE | L18: 0.15485031 | N18: 03:42:59.067 | O18: 1 | S18: 03:42:59.067
D19: *** ELITE FEMININO ***
A20: F-ELITEF-ELITE FEMININO | B20: 1 | C20: 499 | D20: KAREN FERNANDES OL?IO | E20: Minas Gerais | F20: MG | G20: 05.20300.13 | H20: AUDAX | I20: CORINTHIANS AUDAX | L20: 0.14166698 | M20: 0.13569451 | N20: 06:39:24.033 | O20: 2 | S20: 03:24:00.027 | T20: 03:15:24.006
A21: F-ELITEF-ELITE FEMININO | B21: 2 | C21: 463 | D21: JANICE FARIAS E SILVA | E21: Ceará | F21: CE | G21: 18.7638.07 | H21: TREK | I21: MM TEAM | L21: 0.17052098 | M21: 0.15597323 | N21: 07:50:09.100 | O21: 2 | S21: 04:05:33.013 | T21: 03:44:36.087
A22: F-ELITEF-ELITE FEMININO | B22: 3 | C22: 425 | D22: ANA PAULA PEDROSA DE ALMEIDA | E22: Ceará | F22: CE | G22: 18.27415.15 | H22: SPECIALIZED | I22: SEM EQUIPE | L22: 0.17261615 | M22: 0.16452586 | N22: 08:05:29.069 | O22: 2 | S22: 04:08:34.035 | T22: 03:56:55.034
D23: *** MASTER FEMININO ***
A24: F-MASTF-MASTER FEMININO | B24: 1 | C24: 439 | D24: VENILDA ELI | E24: Ceará | F24: CE | G24: 18.18849.13 | H24: CANNONDALE | I24: GOLDEN HAIR | L24: 0.16672551 | M24: 0.15531353 | N24: 07:43:44.173 | O24: 2 | S24: 04:00:05.084 | T24: 03:43:39.089
A25: F-MASTF-MASTER FEMININO | B25: 2 | C25: 510 | D25: SIMONE GILVANI DA VERA | E25: Piauí | F25: PI | H25: CALOI | I25: OMEGA BIKE \POSTO LIDER\ SERTAO MOTO | L25: 0.1693405 | M25: 0.17026623 | N25: 08:09:02.021 | O25: 2 | S25: 04:03:51.019 | T25: 04:05:11.002
A26: F-MASTF-MASTER FEMININO | B26: 3 | C26: 434 | D26: JUSCELINA MOTA ANDRADE | E26: Ceará | F26: CE | G26: 18.17834.12 | H26: SPECIALIZED | I26: JARDEL SILVA | L26: 0.17453759 | M26: 0.16782521 | N26: 08:13:00.146 | O26: 2 | S26: 04:11:20.048 | T26: 04:01:40.098
A27: F-MASTF-MASTER FEMININO | B27: 4 | C27: 447 | D27: CRISTIANY DE SIQUEIRA DANTAS | E27: Piauí | F27: PI | G27: 19.18505.13 | H27: CANNONDALE | I27: EQUIPE GIRO ALTO | L27: 0.18228076 | M27: 0.18015113 | N27: 08:41:54.116 | O27: 2 | S27: 04:22:29.058 | T27: 04:19:25.058
A28: F-MASTF-MASTER FEMININO | B28: 5 | C28: 459 | D28: ANTONIA LUIZA RODRIGUES DOS SANTOS | E28: Maranhão | F28: MA | G28: 19.10528.09 | H28: AUDAX | I28: AUDAX BIKE. CICLO PECAS FLO | L28: 0.18658623 | M28: 0.18275497 | N28: 08:51:51.079 | O28: 2 | S28: 04:28:41.050 | T28: 04:23:10.029
A29: F-MASTF-MASTER FEMININO | B29: 6 | C29: 444 | D29: ELISANGELA BISPO RODRIGUES VIANA | E29: Ceará | F29: CE | G29: 18.31512.17 | H29: AUDAX | I29: CILANDE BIKE TEAM - FRECHEIRINHA | L29: 0.19945632 | M29: 0.20560258 | N29: 09:43:17.089 | O29: 2 | S29: 04:47:13.026 | T29: 04:56:04.063
D30: *** ELITE MASCULINO ***
A31: M-ELITE-ELITE MASCULINO | B31: 1 | C31: 454 | D31: JOSE GABRIEL MARQUES DE ALMEIDA | E31: Minas Gerais | F31: MG | G31: 04.13916.11 | H31: AUDAX | I31: CORINTHIANS AUDAX | L31: 0.11936362 | M31: 0.1255326 | N31: 05:52:39.034 | O31: 2 | S31: 02:51:53.017 | T31: 03:00:46.017
A32: M-ELITE-ELITE MASCULINO | B32: 2 | C32: 470 | D32: SHARLYS SILVA DE OLIVEIRA | E32: Paraíba | F32: PB | G32: 16.6248.07 | H32: AUDAX | I32: AUDAX WELL BIKE | L32: 0.12456064 | M32: 0.12551029 | N32: 06:00:06.128 | O32: 2 | S32: 02:59:22.039 | T32: 03:00:44.089
A33: M-ELITE-ELITE MASCULINO | B33: 3 | C33: 496 | D33: FRANCISCO EDIO NEVES DA SILVA | E33: Piauí | F33: PI | G33: 19.19546.13 | H33: AUDAX | I33: MR PE? /AUDAX | L33: 0.12454973 | M33: 0.12790574 | N33: 06:03:32.153 | O33: 2 | S33: 02:59:21.097 | T33: 03:04:11.056
A34: M-ELITE-ELITE MASCULINO | B34: 4 | C34: 437 | D34: CELSO PEREIRA NUNES | E34: Maranhão | F34: MA | G34: 20.19199.13 | H34: CANNONDALE | I34: BIKEBROTHERS/EZERCITO/SPORT BIKE BRASIL | L34: 0.12838047 | M34: 0.1279058 | N34: 06:09:03.134 | O34: 2 | S34: 03:04:52.073 | T34: 03:04:11.061
A35: M-ELITE-ELITE MASCULINO | B35: 5 | C35: 431 | D35: ANDERSON BARROS DE SOUZA | E35: Paraíba | F35: PB | G35: 16.32456.17 | H35: SPECIALIZED | I35: WELLBIKE | L35: 0.12693314 | M35: 0.13208343 | N35: 06:12:59.031 | O35: 2 | S35: 03:02:47.023 | T35: 03:10:12.008
A36: M-ELITE-ELITE MASCULINO | B36: 6 | C36: 498 | D36: JOACI OLIVEIRA DA SILVA | E36: Paraíba | F36: PB | G36: 16.10453.09 | H36: AUDAX | I36: AUDAX WELL BIKE | L36: 0.12693345 | M36: 0.13880863 | N36: 06:22:40.116 | O36: 2 | S36: 03:02:47.050 | T36: 03:19:53.066
A37: M-ELITE-ELITE MASCULINO | B37: 7 | C37: 404 | D37: LUCAS COELHO DIAS RIBEIRO | E37: Piauí | F37: PI | G37: 19.38987.19 | H37: CANNONDALE | I37: APC ASSOCIA? PIAUIENSE DE CICLISMO E CICLOTURISMO | L37: 0.14436417 | M37: 0.1368638 | N37: 06:44:58.096 | O37: 2 | S37: 03:27:53.064 | T37: 03:17:05.032
A38: M-ELITE-ELITE MASCULINO | B38: 8 | C38: 495 | D38: FRANCISCO DE OLIVEIRA LIMA JUNIOR | E38: Ceará | F38: CE | G38: 18.271.04 | H38: CALOI | I38: AUDAX/FULLGAS/AGUA SANTA M??A | L38: 0.15218823 | M38: 0.14412049 | N38: 07:06:41.073 | O38: 2 | S38: 03:39:09.063 | T38: 03:27:32.010
A39: M-ELITE-ELITE MASCULINO | B39: 9 | C39: 486 | D39: MARCELO FLORENTINO SOARES | E39: São Paulo | F39: SP | G39: 04.1305.04 | H39: SPECIALIZED | I39: SEM EQUIPE | L39: 0.16040525 | M39: 0.15985041 | N39: 07:41:10.089 | O39: 2 | S39: 03:50:59.014 | T39: 03:50:11.075
A40: M-ELITE-ELITE MASCULINO | B40: 10 | C40: 440 | D40: DANIEL CARNEIRO BRUM MASCULINO | E40: Minas Gerais | F40: MG | G40: 02.534.04 | H40: AUDAX | I40: CORINTHIANS AUDAX | L40: 0.12839149 | N40: 03:04:53.025 | O40: 1 | S40: 03:04:53.025
D41: *** MASTER A1 ***
A42: M-MA1-MASTER A1 | B42: 1 | C42: 438 | D42: FERNANDO DANTAS LIMA | E42: Pernambuco | F42: PE | G42: 16.4136.05 | H42: SPECIALIZED | L42: 0.13540552 | M42: 0.12649326 | N42: 06:17:08.055 | O42: 2 | S42: 03:14:59.037 | T42: 03:02:09.018
A43: M-MA1-MASTER A1 | B43: 2 | C43: 490 | D43: SAMUEL DOS SANTOS SARAIVA | E43: Piauí | F43: PI | G43: 191465511 | H43: CANNONDALE | I43: AUDAX /RBIKE | L43: 0.13363428 | M43: 0.13404046 | N43: 06:25:27.098 | O43: 2 | S43: 03:12:26.002 | T43: 03:13:01.096
A44: M-MA1-MASTER A1 | B44: 3 | C44: 419 | D44: THIAGO HENRIQUE ARAUJO DA SILVA | E44: Pará | F44: PA | G44: 224107020 | H44: AUDAX | I44: HENRIQUE BIKES | L44: 0.13922521 | M44: 0.13366986 | N44: 06:32:58.134 | O44: 2 | S44: 03:20:29.058 | T44: 03:12:29.076
A45: M-MA1-MASTER A1 | B45: 4 | C45: 480 | D45: JOSE MAGALHAES DE ARAUJO NETO | E45: Ceará | F45: CE | G45: 18.35739.18 | H45: SPECIALIZED | I45: JOÏ CICLO/CASA DO FRANGO | L45: 0.13699117 | M45: 0.13688685 | N45: 06:34:23.061 | O45: 2 | S45: 03:17:16.037 | T45: 03:17:07.024
A46: M-MA1-MASTER A1 | B46: 5 | C46: 448 | D46: FAGNER DA SILVA OLIVEIRA | E46: Ceará | F46: CE | G46: NãO FILIADO | H46: CANNONDALE | I46: MARIMBONDOS BIKES | L46: 0.15970014 | M46: 0.1475242 | N46: 07:22:24.183 | O46: 2 | S46: 03:49:58.092 | T46: 03:32:26.091
A47: M-MA1-MASTER A1 | B47: 6 | C47: 464 | D47: BRUNO LIMA BEZERRA | E47: Piauí | F47: PI | G47: 19.33611.17 | H47: CALOI | I47: TBA | L47: 0.17337992 | M47: 0.15583367 | N47: 07:54:04.054 | O47: 2 | S47: 04:09:40.025 | T47: 03:44:24.029
D48: *** MASTER A2 ***
A49: M-MA2-MASTER A2 | B49: 1 | C49: 441 | D49: ANDRE MATOS BARBOSA | H49: CALOI | I49: JOAO CICLO CANNONDALE TEAM | L49: 0.12692216 | M49: 0.12649308 | N49: 06:04:55.077 | O49: 2 | S49: 03:02:46.075 | T49: 03:02:09.002
A50: M-MA2-MASTER A2 | B50: 2 | C50: 461 | D50: RENATO WILLAMS DE VASCONCELOS SOUSA | E50: Pernambuco | F50: PE | G50: 14.35086.18 | H50: SPECIALIZED | I50: CARUARU TEAM RACE | L50: 0.12454939 | M50: 0.1292133 | N50: 06:05:25.096 | O50: 2 | S50: 02:59:21.067 | T50: 03:06:04.029
A51: M-MA2-MASTER A2 | B51: 3 | C51: 417 | D51: MARCELINO DE MIRANDA PINTO | E51: Ceará | F51: CE | G51: 18.12510.10 | H51: AUDAX | I51: MM TEAM | L51: 0.12834515 | M51: 0.12922476 | N51: 06:10:54.040 | O51: 2 | S51: 03:04:49.021 | T51: 03:06:05.019
A52: M-MA2-MASTER A2 | B52: 4 | C52: 430 | D52: GERALDO ALVES DE FARIAS JUNIOR | E52: Ceará | F52: CE | G52: IRREGULAR | H52: SPECIALIZED | I52: MM TEAM | L52: 0.13431814 | M52: 0.12923646 | N52: 06:19:31.117 | O52: 2 | S52: 03:13:25.087 | T52: 03:06:06.030
A53: M-MA2-MASTER A2 | B53: 5 | C53: 458 | D53: CARLOS HENRIQUE CURA BORGES | E53: Pará | F53: PA | G53: 22.41069.20 | H53: AUDAX | I53: HENRIQUE BIKES | L53: 0.13922499 | M53: 0.12926023 | N53: 06:26:37.123 | O53: 2 | S53: 03:20:29.039 | T53: 03:06:08.084
A54: M-MA2-MASTER A2 | B54: 6 | C54: 429 | D54: ROGERIO FERREIRA DO NASCIMENTO | E54: Maranhão | F54: MA | G54: 19.22035.14 | H54: CANNONDALE | I54: TIMON BIKE ADVENTURE- TBA | L54: 0.13663198 | M54: 0.13206133 | N54: 06:26:55.102 | O54: 2 | S54: 03:16:45.003 | T54: 03:10:10.099
A55: M-MA2-MASTER A2 | B55: 7 | C55: 483 | D55: ?ITALO CORDEIRO ABREU | E55: Ceará | F55: CE | G55: 18.18627.13 | H55: CALOI | I55: JARDEL SILVA CICLISMO ESPORTIVO | L55: 0.13364649 | M55: 0.13687568 | N55: 06:29:33.116 | O55: 2 | S55: 03:12:27.057 | T55: 03:17:06.059
A56: M-MA2-MASTER A2 | B56: 8 | C56: 456 | D56: LUIZ CARLOS SALES DA SILVA JUNIOR | E56: Ceará | F56: CE | G56: 18.37411.18 | H56: SPECIALIZED | I56: CASA DO FRANGO | L56: 0.13431797 | M56: 0.13689833 | N56: 06:30:33.089 | O56: 2 | S56: 03:13:25.073 | T56: 03:17:08.016
A57: M-MA2-MASTER A2 | B57: 9 | C57: 403 | D57: FRANCILANGIO PINTO DOS SANTOS | E57: Ceará | F57: CE | G57: 18.26815.15 | H57: CALOI | I57: CILANDE BIKE TEAM - FRECHEIRINHA | L57: 0.14417874 | M57: 0.1313774 | N57: 06:36:48.050 | O57: 2 | S57: 03:27:37.043 | T57: 03:09:11.007
A58: M-MA2-MASTER A2 | B58: 10 | C58: 484 | D58: EMERSOM GERSOM SILVA SERRA | E58: Maranhão | F58: MA | G58: 20.23292.14 | H58: SPECIALIZED | I58: BIKEBROTHERS/EZERCITO/SPORT BIKE BRASIL | L58: 0.13579907 | M58: 0.14290563 | N58: 06:41:20.086 | O58: 2 | S58: 03:15:33.040 | T58: 03:25:47.046
A59: M-MA2-MASTER A2 | B59: 11 | C59: 488 | D59: JACKIO REINALDO SHIMABUKURO | E59: Ceará | F59: CE | G59: 18.36661.18 | H59: CALOI | I59: COMANDOS EVENTOS / JARDEL SILVA CICLISMO ESPORTIVO | L59: 0.13800971 | M59: 0.14797552 | N59: 06:51:49.124 | O59: 2 | S59: 03:18:44.039 | T59: 03:33:05.085
A60: M-MA2-MASTER A2 | B60: 12 | C60: 407 | D60: ANTONIO FRANCISCO SILVA ARAUJO | E60: Ceará | F60: CE | G60: 18.27936.16 | H60: AUDAX | I60: CILANDE BIKE TEAM - FRECHEIRINHA | L60: 0.13938757 | M60: 0.15582183 | N60: 07:05:06.092 | O60: 2 | S60: 03:20:43.086 | T60: 03:44:23.006
A61: M-MA2-MASTER A2 | B61: 13 | C61: 412 | D61: JIDDU FAHEINA | E61: Paraíba | F61: PB | G61: NãO FILIADO | H61: SPECIALIZED | I61: COMANDOS EVENTOS | L61: 0.14943294 | M61: 0.14783604 | N61: 07:08:04.040 | O61: 2 | S61: 03:35:11.006 | T61: 03:32:53.034
... A66: M-MA2-MASTER A2 | B66: 18 | C66: 418 | D66: PEDRO HENRIQUE PEREIRA | E66: Ceará | F66: CE | G66: 18.32491.17 | H66: C?NEA OIZ M30 | I66: BRAVUS MTB TEAM | L66: 0.19035912 | M66: 0.1645373 | N66: 08:31:03.051 | O66: 2 | S66: 04:34:07.028 | T66: 03:56:56.023
D67: *** MASTER B1 ***
A68: M-MB1-MASTER B1 | B68: 1 | C68: 500 | D68: LINDOMAR FERREIRA DOS SANTOS | H68: SPECIALIZED | I68: UNIMED TERESINA | L68: 0.12162053 | M68: 0.12651623 | N68: 05:57:19.016 | O68: 2 | S68: 02:55:08.014 | T68: 03:02:11.002
A69: M-MB1-MASTER B1 | B69: 2 | C69: 406 | D69: GLAUCIANO FREIRE BATISTA | E69: Ceará | F69: CE | G69: 18.34370.18 | H69: CANNONDALE | I69: JO?CICLO CANNONDALE TEAM | L69: 0.12500059 | M69: 0.12923615 | N69: 06:06:06.054 | O69: 2 | S69: 03:00:00.051 | T69: 03:06:06.003
A70: M-MB1-MASTER B1 | B70: 3 | C70: 508 | D70: THIAGO DREWS ELIAS | E70: Minas Gerais | F70: MG | G70: 05.11705.09 | H70: CANNONDALE | I70: BROU CANNONDALE SHIMANO | L70: 0.12838043 | M70: 0.13206124 | N70: 06:15:02.160 | O70: 2 | S70: 03:04:52.069 | T70: 03:10:10.091
A71: M-MB1-MASTER B1 | B71: 4 | C71: 476 | D71: RONNIE UERBETH CHAVES | E71: Ceará | F71: CE | G71: 18.23130.14 | H71: CANNONDALE | I71: JO?CICLO CANNONDALE TEAM | L71: 0.13885528 | M71: 0.12961843 | N71: 06:26:36.128 | O71: 2 | S71: 03:19:57.096 | T71: 03:06:39.032
A72: M-MB1-MASTER B1 | B72: 5 | C72: 452 | D72: RODRIGO PAIVA | E72: Maranhão | F72: MA | G72: 20.30862.17 | H72: SCOTT SPARK RC 900WC 2017 | I72: BIKE BROTHERS MTB TEAM | L72: 0.14297528 | M72: 0.13686396 | N72: 06:42:58.110 | O72: 2 | S72: 03:25:53.064 | T72: 03:17:05.046
A73: M-MB1-MASTER B1 | B73: 6 | C73: 416 | D73: CHARLES FERNANDO MAIA DE OLIVEIRA | E73: Ceará | F73: CE | G73: 18.36624.18 | H73: SPECIALIZED | I73: JARDEL SILVA | L73: 0.14176032 | M73: 0.14503564 | N73: 06:52:59.171 | O73: 2 | S73: 03:24:08.092 | T73: 03:28:51.079
A74: M-MB1-MASTER B1 | B74: 7 | C74: 493 | D74: RAIMUNDO JOSE MARQUES ROSA | E74: Ceará | F74: CE | G74: 18.39816.19 | H74: CALOI | I74: COMANDOS EVENTOS / JARDEL SILVA CICLISMO ESPORTIVO | L74: 0.16248888 | M74: 0.14797552 | N74: 07:27:04.124 | O74: 2 | S74: 03:53:59.039 | T74: 03:33:05.085
A75: M-MB1-MASTER B1 | B75: 8 | C75: 446 | D75: FRANCISCO RODRIGUES FILHO | E75: Ceará | F75: CE | G75: 18.30140.16 | H75: CALOI | I75: TEO UV | L75: 0.16673619 | M75: 0.15731587 | N75: 07:46:38.098 | O75: 2 | S75: 04:00:06.007 | T75: 03:46:32.091
A76: M-MB1-MASTER B1 | B76: 9 | C76: 401 | D76: JADSON CAVALCANTE RIBEIRO | E76: Ceará | F76: CE | G76: NãO FILIADO | H76: AUDAX | I76: MM TEAM | L76: 0.17144706 | M76: 0.15704949 | N76: 07:53:02.102 | O76: 2 | S76: 04:06:53.026 | T76: 03:46:09.076
A77: M-MB1-MASTER B1 | B77: 10 | C77: 465 | D77: CARLOS ALBERTO BOARETTO | E77: Bahia | F77: BA | G77: 12.15316.11 | H77: SPECIALIZED | I77: IN SOCIETATE / ORGANIZA | L77: 0.18100703 | M77: 0.17295186 | N77: 08:29:42.048 | O77: 2 | S77: 04:20:39.007 | T77: 04:09:03.041
A78: M-MB1-MASTER B1 | B78: 11 | C78: 487 | D78: ERISMAR ARAUJO VIEIRA | E78: Ceará | F78: CE | G78: INRREGULAR | H78: SPECIALIZED | I78: COMANDOS EVENTOS / JARDEL SILVA CICLISMO ESPORTIVO | L78: 0.17591528 | M78: 0.18170207 | N78: 08:34:58.139 | O78: 2 | S78: 04:13:19.080 | T78: 04:21:39.059
A79: M-MB1-MASTER B1 | B79: 12 | C79: 421 | D79: DELANO LIMA E SILVA | E79: Acre | F79: AC | G79: 24.34961.19 | H79: SPECIALIZED | I79: MTB ACRE FORCE | L79: 0.206274 | M79: 0.16084595 | N79: 08:48:39.164 | O79: 2 | S79: 04:57:02.074 | T79: 03:51:37.090
A80: M-MB1-MASTER B1 | B80: 13 | C80: 455 | D80: ANAILTON LUSTOZA BRANDAO | E80: Ceará | F80: CE | G80: 18.40955.19 | H80: AUDAX | I80: CORUJÏ DO ASFALTO | L80: 0.23474612 | M80: 0.17000046 | N80: 09:42:50.105 | O80: 2 | S80: 05:38:02.065 | T80: 04:04:48.040
A81: M-MB1-MASTER B1 | B81: 14 | C81: 506 | D81: SERGIO HENRIQUE REBELO MARTINEZ | E81: Piauí | F81: PI | G81: 19.29235.16 | H81: FOCUS | I81: EQUIPE MARTINEZ RACING | L81: 0.23474612 | M81: 0.19531259 | N81: 10:19:17.073 | O81: 2 | S81: 05:38:02.065 | T81: 04:41:15.008
D82: *** MASTER B2 ***
A83: M-MB2-MASTER B2 | B83: 1 | C83: 482 | D83: ROBSON LUIZ WANDERLEY PONTES DE MELO | E83: Pernambuco | F83: PE | G83: 14.19382.13 | H83: SPECIALIZED | I83: WELBIKE | L83: 0.14596112 | M83: 0.13691059 | N83: 06:47:20.116 | O83: 2 | S83: 03:30:11.041 | T83: 03:17:09.075
A84: M-MB2-MASTER B2 | B84: 2 | C84: 472 | D84: ERNANI DE CASTRO COSTA | E84: Piauí | F84: PI | G84: 19.2656.05 | H84: SCOTT | I84: BIKERS RACING TEAM | L84: 0.14224553 | M84: 0.14632006 | N84: 06:55:32.067 | O84: 2 | S84: 03:24:50.014 | T84: 03:30:42.053
A85: M-MB2-MASTER B2 | B85: 3 | C85: 467 | D85: TARCIO QUEIROZ CALIXTO | E85: Ceará | F85: CE | G85: 18.22377.14 | H85: SPECIALIZED | I85: ENDURANCE TEAM | L85: 0.15091455 | M85: 0.14480432 | N85: 07:05:50.110 | O85: 2 | S85: 03:37:19.017 | T85: 03:28:31.093
A86: M-MB2-MASTER B2 | B86: 4 | C86: 451 | D86: GEORGE HAMILTON COSTA MARTINS | E86: Maranhão | F86: MA | G86: 20.25289.15 | H86: SPECIALIZED | I86: BIKE BROTHERS MTB TEAM | L86: 0.15008181 | M86: 0.14787095 | N86: 07:09:03.118 | O86: 2 | S86: 03:36:07.068 | T86: 03:32:56.050
A87: M-MB2-MASTER B2 | B87: 5 | C87: 477 | D87: EDUARDO ALESSANDRO MOREIRA SCHUSTER | E87: Ceará | F87: CE | G87: 18.28107.16 | H87: SPECIALIZED | I87: MM TEAM | L87: 0.15160899 | M87: 0.14820671 | N87: 07:11:44.077 | O87: 2 | S87: 03:38:19.017 | T87: 03:33:25.060
A88: M-MB2-MASTER B2 | B88: 6 | C88: 411 | D88: REMO CAMPOS LOSCIO | H88: SCOTT | I88: MM TEAM | L88: 0.15522002 | M88: 0.14785881 | N88: 07:16:26.011 | O88: 2 | S88: 03:43:31.010 | T88: 03:32:55.001
A89: M-MB2-MASTER B2 | B89: 7 | C89: 420 | D89: MARTO GERALDO SOARES DE LUCENA | H89: AUDAX | I89: WELBIKE | L89: 0.16550998 | M89: 0.14410919 | N89: 07:25:51.096 | O89: 2 | S89: 03:58:20.062 | T89: 03:27:31.034
A90: M-MB2-MASTER B2 | B90: 8 | C90: 413 | D90: OLDAIR RODRIGUES DO NASCIMENTO | E90: Pará | F90: PA | G90: 22.23925.15 | H90: SPECIALIZED | I90: CLUBE AMAZ?IA DE CICLISMO | L90: 0.15986155 | M90: 0.15607707 | N90: 07:34:57.097 | O90: 2 | S90: 03:50:12.038 | T90: 03:44:45.059
A91: M-MB2-MASTER B2 | B91: 9 | C91: 468 | D91: RENATO PEREIRA | E91: Ceará | F91: CE | G91: 18.29564.16 | H91: CALOI | I91: ENDURANCE CICLISMO | L91: 0.16462987 | M91: 0.15314883 | N91: 07:37:36.080 | O91: 2 | S91: 03:57:04.021 | T91: 03:40:32.059
A92: M-MB2-MASTER B2 | B92: 10 | C92: 450 | D92: MARCOS HELENO ALENCAR CALDAS MELO | E92: Piauí | F92: PI | G92: 19.4633.06 | H92: CANNONDALE | I92: APC ASSOCIA? PIAUIENSE DE CICLISMO E CICLOTURISMO | L92: 0.16990778 | M92: 0.15461875 | N92: 07:47:19.092 | O92: 2 | S92: 04:04:40.032 | T92: 03:42:39.060
A93: M-MB2-MASTER B2 | B93: 11 | C93: 491 | D93: HAROLDO CESAR DE OLIVEIRA MACIEL | E93: Ceará | F93: CE | G93: INRREGULAR | H93: CALOI | I93: COMANDOS EVENTOS / JARDEL SILVA CICLISMO ESPORTIVO | L93: 0.17007023 | M93: 0.16241975 | N93: 07:58:47.134 | O93: 2 | S93: 04:04:54.068 | T93: 03:53:53.066
A94: M-MB2-MASTER B2 | B94: 12 | C94: 503 | D94: MARCOS VINICIUS DE MELO CRUZ | E94: Piauí | F94: PI | G94: 19.26555.15 | H94: AUDAX | I94: VADEBIKE | L94: 0.18060206 | M94: 0.15819473 | N94: 08:07:52.043 | O94: 2 | S94: 04:20:04.018 | T94: 03:47:48.025
D95: *** MASTER C1 ***
A96: M-MC1-MASTER C1 | B96: 1 | C96: 474 | D96: MARCIO DOBEL BENIGNO | E96: Ceará | F96: CE | G96: 18.18647.13 | H96: CANNONDALE | I96: MM TEAM | L96: 0.15152892 | M96: 0.14663204 | N96: 07:09:21.107 | O96: 2 | S96: 03:38:12.099 | T96: 03:31:09.008
A97: M-MC1-MASTER C1 | B97: 2 | C97: 497 | D97: FRANCISCO OSMARIO PERREIRA ALVES FEITOSA | E97: Pernambuco | F97: PE | G97: 183403418 | H97: SPECIALIZED | I97: GARROTE RADICAL | L97: 0.15687594 | M97: 0.14662149 | N97: 07:17:02.178 | O97: 2 | S97: 03:45:54.081 | T97: 03:31:08.097
A98: M-MC1-MASTER C1 | B98: 3 | C98: 479 | D98: PAULO MARCELO OLIVEIRA | E98: Ceará | F98: CE | G98: 18.9622.10 | H98: GT | I98: JARDEL SILVA | L98: 0.17452573 | M98: 0.16765046 | N98: 08:12:44.023 | O98: 2 | S98: 04:11:19.023 | T98: 04:01:25.000
A99: M-MC1-MASTER C1 | B99: 4 | C99: 473 | D99: CARLOS AUGUSTO GOMES DE SOUSA | E99: Piauí | F99: PI | G99: 19.38929.19 | H99: CANNONDALE | I99: FOXTEAM | L99: 0.21530168 | M99: 0.20096074 | N99: 09:59:25.073 | O99: 2 | S99: 05:10:02.065 | T99: 04:49:23.008
D100: *** MASTER C2 ***
A101: M-MC2-MASTER C2 | B101: 1 | C101: 414 | D101: JOSE ANTONIO BARBOSA | E101: Paraíba | F101: PB | G101: 16.30678.17 | H101: SPECIALIZED | I101: WELBIKE | L101: 0.16953725 | M101: 0.17295193 | N101: 08:13:11.065 | O101: 2 | S101: 04:04:08.018 | T101: 04:09:03.047
A102: M-MC2-MASTER C2 | B102: 2 | C102: 428 | D102: JOSE HENRIQUE PIMENTEL ROCHA | E102: Piauí | F102: PI | G102: 19.23805.15 | H102: SPECIALIZED | I102: CATRACA FORTE TEAM - CFT | L102: 0.18772072 | M102: 0.17104241 | N102: 08:36:37.134 | O102: 2 | S102: 04:30:19.070 | T102: 04:06:18.064
A103: M-MC2-MASTER C2 | B103: 3 | C103: 515 | D103: VALDI SOARES DA SILVA | E103: PÍ - UF NÃO cadastrado | F103: PÍ | H103: SPECIALIZED | I103: PEDAL GREEN | L103: 0.18489597 | M103: 0.17884337 | N103: 08:43:47.079 | O103: 2 | S103: 04:26:15.012 | T103: 04:17:32.067
A104: M-MC2-MASTER C2 | B104: 4 | C104: 457 | D104: EDMILSON SILVA RIBEIRO | E104: Bahia | F104: BA | G104: 12.22342.14 | H104: FIRST | I104: SEM EQUIPE | L104: 0.22780168 | M104: 0.15560292 | N104: 09:12:06.157 | O104: 2 | S104: 05:28:02.065 | T104: 03:44:04.092
...
