Workbook

Sheet RELATORIO
A1: ACUMULADO CATEGORIAS OFICIAIS
A2: ELITE MASCULINO
Q3: BKP
A4: N° | B4: Licenca CBC | C4: ATLETA | D4: ESTADO | E4: UF | F4: BIKE | G4: EQUIPE/PATROCÍNIO | H4: DIA 1 | I4: DIA 2 | J4: DIA 3 | K4: DIA 4 | L4: TEMPO TOTAL | M4: RANKING | Q4: DIA 1 | R4: DIA 2 | S4: DIA 3 | T4: DIA 4 | U4: TEMPO TOTAL
A5: 454 | B5: 04.13916.11 | C5: JOSE GABRIEL MARQUES DE ALMEIDA | D5: Minas Gerais | E5: MG | F5: AUDAX | G5: CORINTHIANS AUDAX | H5: 0.18781312 | I5: 0.13731495 | J5: =IF(ISNA(VLOOKUP($A5,RallyPiocera2020!$C$4:$O$116,10,0)),0,VLOOKUP($A5,RallyPiocera2020!$C$4:$O$116,10,0)) -> 0.11936362 | K5: =IF(ISNA(VLOOKUP($A5,RallyPiocera2020!$C$4:$O$116,11,0)),0,VLOOKUP($A5,RallyPiocera2020!$C$4:$O$116,11,0)) -> 0.1255326 | L5: =SUM(H5:K5) -> 0.57002431 | Q5: 04:25:12.077 | R5: 03:42:22.029 | S5: 0.12454973 | T5: 0.12790574 | U5: 08:07:34.106
A6: 496 | B6: 19.19546.13 | C6: FRANCISCO EDIO NEVES DA SILVA | D6: Piauí | E6: PI | F6: AUDAX | G6: MR PEÇAS /AUDAX | H6: 0.18416756 | I6: 0.15442163 | J6: =IF(ISNA(VLOOKUP($A6,RallyPiocera2020!$C$4:$O$116,10,0)),0,VLOOKUP($A6,RallyPiocera2020!$C$4:$O$116,10,0)) -> 0.12454973 | K6: =IF(ISNA(VLOOKUP($A6,RallyPiocera2020!$C$4:$O$116,11,0)),0,VLOOKUP($A6,RallyPiocera2020!$C$4:$O$116,11,0)) -> 0.12790574 | L6: =SUM(H6:K6) -> 0.59104466 | Q6: 04:30:02.059 | R6: 03:43:05.031 | S6: 0.12693314 | T6: 0.13208343 | U6: 08:13:07.090
A7: 431 | B7: 16.32456.17 | C7: ANDERSON BARROS DE SOUZA | D7: Paraíba | E7: PB | F7: SPECIALIZED | G7: WELLBIKE | H7: 0.18752383 | I7: 0.15491934 | J7: =IF(ISNA(VLOOKUP($A7,RallyPiocera2020!$C$4:$O$116,10,0)),0,VLOOKUP($A7,RallyPiocera2020!$C$4:$O$116,10,0)) -> 0.12693314 | K7: =IF(ISNA(VLOOKUP($A7,RallyPiocera2020!$C$4:$O$116,11,0)),0,VLOOKUP($A7,RallyPiocera2020!$C$4:$O$116,11,0)) -> 0.13208343 | L7: =SUM(H7:K7) -> 0.60145973 | Q7: 04:46:42.002 | R7: 03:36:52.092 | S7: 0.12693345 | T7: 0.13880863 | U7: 08:23:34.094
A8: 437 | B8: 20.19199.13 | C8: CELSO PEREIRA NUNES | D8: Maranhão | E8: MA | F8: CANNONDALE | G8: BIKEBROTHERS/EZERCITO/SPORT BIKE BRAS | H8: 0.18796331 | I8: 0.16400542 | J8: =IF(ISNA(VLOOKUP($A8,RallyPiocera2020!$C$4:$O$116,10,0)),0,VLOOKUP($A8,RallyPiocera2020!$C$4:$O$116,10,0)) -> 0.12838047 | K8: =IF(ISNA(VLOOKUP($A8,RallyPiocera2020!$C$4:$O$116,11,0)),0,VLOOKUP($A8,RallyPiocera2020!$C$4:$O$116,11,0)) -> 0.1279058 | L8: =SUM(H8:K8) -> 0.608255 | Q8: 04:30:40.030 | R8: 03:56:10.068 | S8: 0.12838047 | T8: 0.1279058 | U8: 08:26:50.098
A9: 470 | B9: 16.6248.07 | C9: SHARLYS SILVA DE OLIVEIRA | D9: Paraíba | E9: PB | F9: AUDAX | G9: AUDAX WELL BIKE | H9: 0.20939826 | I9: 0.15430586 | J9: =IF(ISNA(VLOOKUP($A9,RallyPiocera2020!$C$4:$O$116,10,0)),0,VLOOKUP($A9,RallyPiocera2020!$C$4:$O$116,10,0)) -> 0.12456064 | K9: =IF(ISNA(VLOOKUP($A9,RallyPiocera2020!$C$4:$O$116,11,0)),0,VLOOKUP($A9,RallyPiocera2020!$C$4:$O$116,11,0)) -> 0.12551029 | L9: =SUM(H9:K9) -> 0.61377505 | Q9: 05:01:32.010 | R9: 03:42:12.026 | S9: 0.12456064 | T9: 0.12551029 | U9: 08:43:44.036
A10: 498 | B10: 16.10453.09 | C10: JOACI OLIVEIRA DA SILVA | D10: Paraíba | E10: PB | F10: AUDAX | G10: AUDAX WELL BIKE | H10: 0.19909725 | I10: 0.15060292 | J10: =IF(ISNA(VLOOKUP($A10,RallyPiocera2020!$C$4:$O$116,10,0)),0,VLOOKUP($A10,RallyPiocera2020!$C$4:$O$116,10,0)) -> 0.12693345 | K10: =IF(ISNA(VLOOKUP($A10,RallyPiocera2020!$C$4:$O$116,11,0)),0,VLOOKUP($A10,RallyPiocera2020!$C$4:$O$116,11,0)) -> 0.13880863 | L10: =SUM(H10:K10) -> 0.61544225 | Q10: 05:07:57.061 | R10: 04:24:55.029 | S10: 0.14436417 | T10: 0.1368638 | U10: 09:32:52.090
A11: 404 | B11: 19.38987.19 | C11: LUCAS COELHO DIAS RIBEIRO | D11: Piauí | E11: PI | F11: CANNONDALE | G11: APC | H11: 0.21385487 | I11: 0.18397024 | J11: =IF(ISNA(VLOOKUP($A11,RallyPiocera2020!$C$4:$O$116,10,0)),0,VLOOKUP($A11,RallyPiocera2020!$C$4:$O$116,10,0)) -> 0.14436417 | K11: =IF(ISNA(VLOOKUP($A11,RallyPiocera2020!$C$4:$O$116,11,0)),0,VLOOKUP($A11,RallyPiocera2020!$C$4:$O$116,11,0)) -> 0.1368638 | L11: =SUM(H11:K11) -> 0.67905308 | Q11: 04:57:53.014 | R11: 04:36:31.039 | S11: 0.15218823 | T11: 0.14412049 | U11: 09:34:24.053
A12: 495 | B12: 18.271.04 | C12: FRANCISCO DE OLIVEIRA LIMA JUNIOR | D12: Ceará | E12: CE | F12: CALOI | G12: AUDAX/FULLGAS/AGUA SANTA M??A | H12: 0.20686359 | I12: 0.19202591 | J12: =IF(ISNA(VLOOKUP($A12,RallyPiocera2020!$C$4:$O$116,10,0)),0,VLOOKUP($A12,RallyPiocera2020!$C$4:$O$116,10,0)) -> 0.15218823 | K12: =IF(ISNA(VLOOKUP($A12,RallyPiocera2020!$C$4:$O$116,11,0)),0,VLOOKUP($A12,RallyPiocera2020!$C$4:$O$116,11,0)) -> 0.14412049 | L12: =SUM(H12:K12) -> 0.69519822 | Q12: 05:56:08.068 | R12: 04:49:20.063 | S12: 0.16040525 | T12: 0.15985041 | U12: 10:45:28.131
A13: 486 | B13: 04.1305.04 | C13: MARCELO FLORENTINO SOARES | D13: São Paulo | E13: SP | F13: SPECIALIZED | G13: SEM EQUIPE | H13: 0.2473156 | I13: 0.20092666 | J13: =IF(ISNA(VLOOKUP($A13,RallyPiocera2020!$C$4:$O$116,10,0)),0,VLOOKUP($A13,RallyPiocera2020!$C$4:$O$116,10,0)) -> 0.16040525 | K13: =IF(ISNA(VLOOKUP($A13,RallyPiocera2020!$C$4:$O$116,11,0)),0,VLOOKUP($A13,RallyPiocera2020!$C$4:$O$116,11,0)) -> 0.15985041 | L13: =SUM(H13:K13) -> 0.76849792 | Q13: 04:19:39.046 | S13: 0.12839149 | T13: 0 | U13: 04:19:39.046
A14: ELITE FEMININO
A15: N° | B15: Licenca CBC | C15: ATLETA | D15: ESTADO | E15: UF | F15: BIKE | G15: EQUIPE/PATROCÍNIO | H15: DIA 1 | I15: DIA 2 | J15: DIA 3 | K15: DIA 4 | L15: TEMPO TOTAL | M15: RANKING | Q15: DIA 1 | R15: DIA 2 | S15: DIA 3 | T15: DIA 4 | U15: TEMPO TOTAL
A16: 499 | B16: 05.20300.13 | C16: KAREN FERNANDES OL?IO | D16: Minas Gerais | E16: MG | F16: AUDAX | G16: CORINTHIANS AUDAX | H16: 0.22929447 | I16: 0.18488455 | J16: =IF(ISNA(VLOOKUP($A16,RallyPiocera2020!$C$4:$O$116,10,0)),0,VLOOKUP($A16,RallyPiocera2020!$C$4:$O$116,10,0)) -> 0.14166698 | K16: =IF(ISNA(VLOOKUP($A16,RallyPiocera2020!$C$4:$O$116,11,0)),0,VLOOKUP($A16,RallyPiocera2020!$C$4:$O$116,11,0)) -> 0.13569451 | L16: =SUM(H16:K16) -> 0.69154051 | Q16: 05:30:11.042 | R16: 04:26:14.025 | S16: 0.14166698 | T16: 0.13569451 | U16: 09:56:25.067
A17: 463 | B17: 18.7638.07 | C17: JANICE FARIAS E SILVA | D17: Ceará | E17: CE | F17: TREK | G17: MM TEAM | H17: 0.25202633 | I17: 0.22589179 | J17: =IF(ISNA(VLOOKUP($A17,RallyPiocera2020!$C$4:$O$116,10,0)),0,VLOOKUP($A17,RallyPiocera2020!$C$4:$O$116,10,0)) -> 0.17052098 | K17: =IF(ISNA(VLOOKUP($A17,RallyPiocera2020!$C$4:$O$116,11,0)),0,VLOOKUP($A17,RallyPiocera2020!$C$4:$O$116,11,0)) -> 0.15597323 | L17: =SUM(H17:K17) -> 0.80441234 | Q17: 06:02:55.075 | R17: 05:25:17.051 | S17: 0.17052098 | T17: 0.15597323 | U17: 11:28:12.126
A18: 425 | B18: 18.27415.15 | C18: ANA PAULA PEDROSA DE ALMEIDA | D18: Ceará | E18: CE | F18: SPECIALIZED | G18: SEM EQUIPE | H18: 0.24699089 | I18: 0.23363447 | J18: =IF(ISNA(VLOOKUP($A18,RallyPiocera2020!$C$4:$O$116,10,0)),0,VLOOKUP($A18,RallyPiocera2020!$C$4:$O$116,10,0)) -> 0.17261615 | K18: =IF(ISNA(VLOOKUP($A18,RallyPiocera2020!$C$4:$O$116,11,0)),0,VLOOKUP($A18,RallyPiocera2020!$C$4:$O$116,11,0)) -> 0.16452586 | L18: =SUM(H18:K18) -> 0.81776736 | Q18: 05:55:40.013 | R18: 05:36:26.018 | S18: 0.17261615 | T18: 0.16452586 | U18: 11:32:06.031
A19: MASTER FEMININO
A20: N° | B20: Licenca CBC | C20: ATLETA | D20: ESTADO | E20: UF | F20: BIKE | G20: EQUIPE/PATROCÍNIO | H20: DIA 1 | I20: DIA 2 | J20: DIA 3 | K20: DIA 4 | L20: TEMPO TOTAL | M20: RANKING | Q20: DIA 1 | R20: DIA 2 | S20: DIA 3 | T20: DIA 4 | U20: TEMPO TOTAL
A21: 439 | B21: 18.18849.13 | C21: VENILDA ELI | D21: Ceará | E21: CE | F21: CANNONDALE | G21: GOLDEN HAIR | H21: 0.24209563 | I21: 0.21516252 | J21: =IF(ISNA(VLOOKUP($A21,RallyPiocera2020!$C$4:$O$116,10,0)),0,VLOOKUP($A21,RallyPiocera2020!$C$4:$O$116,10,0)) -> 0.16672551 | K21: =IF(ISNA(VLOOKUP($A21,RallyPiocera2020!$C$4:$O$116,11,0)),0,VLOOKUP($A21,RallyPiocera2020!$C$4:$O$116,11,0)) -> 0.15531353 | L21: =SUM(H21:K21) -> 0.77929719 | Q21: 05:48:37.062 | R21: 05:09:50.042 | S21: 0.16672551 | T21: 0.15531353 | U21: 10:58:27.104
A22: 434 | B22: 18.17834.12 | C22: JUSCELINA MOTA ANDRADE | D22: Ceará | E22: CE | F22: SPECIALIZED | G22: JARDEL SILVA | H22: 0.24784807 | I22: 0.23755876 | J22: =IF(ISNA(VLOOKUP($A22,RallyPiocera2020!$C$4:$O$116,10,0)),0,VLOOKUP($A22,RallyPiocera2020!$C$4:$O$116,10,0)) -> 0.17453759 | K22: =IF(ISNA(VLOOKUP($A22,RallyPiocera2020!$C$4:$O$116,11,0)),0,VLOOKUP($A22,RallyPiocera2020!$C$4:$O$116,11,0)) -> 0.16782521 | L22: =SUM(H22:K22) -> 0.82776963 | Q22: 05:56:54.073 | R22: 05:42:05.077 | S22: 0.17453759 | T22: 0.16782521 | U22: 11:38:59.150
A23: 510 | B23: 19.19643.13 | C23: SIMONE GILVANI DA VERA | D23: Piauí | E23: PI | F23: CALOI | G23: OMEGA BIKE \POSTO LIDER\ SERTAO MOTO | H23: 0.28890119 | I23: 0.24719978 | J23: =IF(ISNA(VLOOKUP($A23,RallyPiocera2020!$C$4:$O$116,10,0)),0,VLOOKUP($A23,RallyPiocera2020!$C$4:$O$116,10,0)) -> 0.1693405 | K23: =IF(ISNA(VLOOKUP($A23,RallyPiocera2020!$C$4:$O$116,11,0)),0,VLOOKUP($A23,RallyPiocera2020!$C$4:$O$116,11,0)) -> 0.17026623 | L23: =SUM(H23:K23) -> 0.8757077 | Q23: 06:25:25.048 | R23: 05:49:09.064 | S23: 0.18658623 | T23: 0.18275497 | U23: 12:14:34.112
A24: 459 | B24: 19.10528.09 | C24: ANTONIA LUIZA RODRIGUES DOS SANTOS | D24: Maranhão | E24: MA | F24: AUDAX | G24: AUDAX BIKE. CICLO PECAS FLO | H24: 0.26765102 | I24: 0.24246602 | J24: =IF(ISNA(VLOOKUP($A24,RallyPiocera2020!$C$4:$O$116,10,0)),0,VLOOKUP($A24,RallyPiocera2020!$C$4:$O$116,10,0)) -> 0.18658623 | K24: =IF(ISNA(VLOOKUP($A24,RallyPiocera2020!$C$4:$O$116,11,0)),0,VLOOKUP($A24,RallyPiocera2020!$C$4:$O$116,11,0)) -> 0.18275497 | L24: =SUM(H24:K24) -> 0.87945823 | Q24: 06:56:01.063 | R24: 05:55:58.061 | S24: 0.1693405 | T24: 0.17026623 | U24: 12:51:59.124
A25: 447 | B25: 19.18505.13 | C25: CRISTIANY DE SIQUEIRA DANTAS | D25: Piauí | E25: PI | F25: CANNONDALE | G25: EQUIPE GIRO ALTO | H25: 0.30486111 | I25: 0.25488528 | J25: =IF(ISNA(VLOOKUP($A25,RallyPiocera2020!$C$4:$O$116,10,0)),0,VLOOKUP($A25,RallyPiocera2020!$C$4:$O$116,10,0)) -> 0.18228076 | K25: =IF(ISNA(VLOOKUP($A25,RallyPiocera2020!$C$4:$O$116,11,0)),0,VLOOKUP($A25,RallyPiocera2020!$C$4:$O$116,11,0)) -> 0.18015113 | L25: =SUM(H25:K25) -> 0.92217829 | Q25: 07:19:00.000 | R25: 06:07:02.088 | S25: 0.18228076 | T25: 0.18015113 | U25: 13:26:02.088
A26: 444 | B26: 18.31512.17 | C26: ELISANGELA BISPO RODRIGUES VIANA | D26: Ceará | E26: CE | F26: AUDAX | G26: CILANDE BIKE TEAM - FRECHEIRINHA | H26: 0.28416689 | I26: 0.28208446 | J26: =IF(ISNA(VLOOKUP($A26,RallyPiocera2020!$C$4:$O$116,10,0)),0,VLOOKUP($A26,RallyPiocera2020!$C$4:$O$116,10,0)) -> 0.19945632 | K26: =IF(ISNA(VLOOKUP($A26,RallyPiocera2020!$C$4:$O$116,11,0)),0,VLOOKUP($A26,RallyPiocera2020!$C$4:$O$116,11,0)) -> 0.20560258 | L26: =SUM(H26:K26) -> 0.97131024 | Q26: 06:49:12.019 | R26: 06:46:12.097 | S26: 0.19945632 | T26: 0.20560258 | U26: 13:35:24.116
A27: MASTER A1
A28: N° | B28: Licenca CBC | C28: ATLETA | D28: ESTADO | E28: UF | F28: BIKE | G28: EQUIPE/PATROCÍNIO | H28: DIA 1 | I28: DIA 2 | J28: DIA 3 | K28: DIA 4 | L28: TEMPO TOTAL | M28: RANKING | Q28: DIA 1 | R28: DIA 2 | S28: DIA 3 | T28: DIA 4 | U28: TEMPO TOTAL
A29: 438 | B29: 16.4136.05 | C29: FERNANDO DANTAS LIMA | D29: Pernambuco | E29: PE | F29: SPECIALIZED | G29: WELBIKE | H29: 0.18768559 | I29: 0.15265146 | J29: =IF(ISNA(VLOOKUP($A29,RallyPiocera2020!$C$4:$O$116,10,0)),0,VLOOKUP($A29,RallyPiocera2020!$C$4:$O$116,10,0)) -> 0.13540552 | K29: =IF(ISNA(VLOOKUP($A29,RallyPiocera2020!$C$4:$O$116,11,0)),0,VLOOKUP($A29,RallyPiocera2020!$C$4:$O$116,11,0)) -> 0.12649326 | L29: =SUM(H29:K29) -> 0.60223583 | Q29: 05:00:55.013 | R29: 04:18:54.038 | S29: 0.13922521 | T29: 0.13366986 | U29: 09:19:49.051
A30: 490 | B30: 191465511 | C30: SAMUEL DOS SANTOS SARAIVA | D30: Piauí | E30: PI | F30: CANNONDALE | G30: AUDAX /RBIKE | H30: 0.20193369 | I30: 0.18521998 | J30: =IF(ISNA(VLOOKUP($A30,RallyPiocera2020!$C$4:$O$116,10,0)),0,VLOOKUP($A30,RallyPiocera2020!$C$4:$O$116,10,0)) -> 0.13363428 | K30: =IF(ISNA(VLOOKUP($A30,RallyPiocera2020!$C$4:$O$116,11,0)),0,VLOOKUP($A30,RallyPiocera2020!$C$4:$O$116,11,0)) -> 0.13404046 | L30: =SUM(H30:K30) -> 0.65482841 | Q30: 05:14:59.059 | R30: 04:48:32.048 | S30: 0.15970014 | T30: 0.1475242 | U30: 10:03:31.107
A31: 419 | B31: 224107020 | C31: THIAGO HENRIQUE ARAUJO DA SILVA | D31: Pará | E31: PA | F31: AUDAX | G31: HENRIQUE BIKES | H31: 0.20897006 | I31: 0.17979211 | J31: =IF(ISNA(VLOOKUP($A31,RallyPiocera2020!$C$4:$O$116,10,0)),0,VLOOKUP($A31,RallyPiocera2020!$C$4:$O$116,10,0)) -> 0.13922521 | K31: =IF(ISNA(VLOOKUP($A31,RallyPiocera2020!$C$4:$O$116,11,0)),0,VLOOKUP($A31,RallyPiocera2020!$C$4:$O$116,11,0)) -> 0.13366986 | L31: =SUM(H31:K31) -> 0.66165723 | Q31: 06:13:11.059 | R31: 04:32:41.086 | S31: 0.13699117 | T31: 0.13688685 | U31: 10:45:52.145
A32: 480 | B32: 18.35739.18 | C32: JOSE MAGALHAES DE ARAUJO NETO | D32: Ceará | E32: CE | F32: SPECIALIZED | G32: JOÏ CICLO/CASA DO FRANGO | H32: 0.25915578 | I32: 0.18936442 | J32: =IF(ISNA(VLOOKUP($A32,RallyPiocera2020!$C$4:$O$116,10,0)),0,VLOOKUP($A32,RallyPiocera2020!$C$4:$O$116,10,0)) -> 0.13699117 | K32: =IF(ISNA(VLOOKUP($A32,RallyPiocera2020!$C$4:$O$116,11,0)),0,VLOOKUP($A32,RallyPiocera2020!$C$4:$O$116,11,0)) -> 0.13688685 | L32: =SUM(H32:K32) -> 0.72239822 | Q32: 06:54:09.087 | R32: 06:14:44.008 | S32: 0.17337992 | T32: 0.15583367 | U32: 13:08:53.095
A33: 448 | B33: INRREGULAR | C33: FAGNER DA SILVA OLIVEIRA | D33: Ceará | E33: CE | F33: CANNONDALE | G33: MARIMBONDOS BIKES | H33: 0.21873911 | I33: 0.20037093 | J33: =IF(ISNA(VLOOKUP($A33,RallyPiocera2020!$C$4:$O$116,10,0)),0,VLOOKUP($A33,RallyPiocera2020!$C$4:$O$116,10,0)) -> 0.15970014 | K33: =IF(ISNA(VLOOKUP($A33,RallyPiocera2020!$C$4:$O$116,11,0)),0,VLOOKUP($A33,RallyPiocera2020!$C$4:$O$116,11,0)) -> 0.1475242 | L33: =SUM(H33:K33) -> 0.72633437 | Q33: 04:25:11.173 | S33: #N/A | T33: #N/A | U33: 04:25:11.173
A34: 464 | B34: 19.33611.17 | C34: BRUNO LIMA BEZERRA | D34: Piauí | E34: PI | F34: CALOI | G34: TBA | H34: 0.28760517 | I34: 0.26023157 | J34: =IF(ISNA(VLOOKUP($A34,RallyPiocera2020!$C$4:$O$116,10,0)),0,VLOOKUP($A34,RallyPiocera2020!$C$4:$O$116,10,0)) -> 0.17337992 | K34: =IF(ISNA(VLOOKUP($A34,RallyPiocera2020!$C$4:$O$116,11,0)),0,VLOOKUP($A34,RallyPiocera2020!$C$4:$O$116,11,0)) -> 0.15583367 | L34: =SUM(H34:K34) -> 0.87705034 | Q34: 05:01:21.086 | S34: #N/A | T34: #N/A | U34: 05:01:21.086
A35: MASTER A2
A36: N° | B36: Licenca CBC | C36: ATLETA | D36: ESTADO | E36: UF | F36: BIKE | G36: EQUIPE/PATROCÍNIO | H36: DIA 1 | I36: DIA 2 | J36: DIA 3 | K36: DIA 4 | L36: TEMPO TOTAL | M36: RANKING | Q36: DIA 1 | R36: DIA 2 | S36: DIA 3 | T36: DIA 4 | U36: TEMPO TOTAL
A37: 461 | B37: 14.35086.18 | C37: RENATO WILLAMS DE VASCONCELOS SOUSA | D37: Pernambuco | E37: PE | F37: SPECIALIZED | G37: WELLBIKE | H37: 0.18044054 | I37: 0.15451495 | J37: =IF(ISNA(VLOOKUP($A37,RallyPiocera2020!$C$4:$O$116,10,0)),0,VLOOKUP($A37,RallyPiocera2020!$C$4:$O$116,10,0)) -> 0.12454939 | K37: =IF(ISNA(VLOOKUP($A37,RallyPiocera2020!$C$4:$O$116,11,0)),0,VLOOKUP($A37,RallyPiocera2020!$C$4:$O$116,11,0)) -> 0.1292133 | L37: =SUM(H37:K37) -> 0.58871818 | Q37: 05:01:00.052 | R37: 04:27:37.064 | S37: 0.13938757 | T37: 0.15582183 | U37: 09:28:37.116
A38: 417 | B38: 18.12510.10 | C38: MARCELINO DE MIRANDA PINTO | D38: Ceará | E38: CE | F38: AUDAX | G38: MM TEAM | H38: 0.19312545 | I38: 0.15309039 | J38: =IF(ISNA(VLOOKUP($A38,RallyPiocera2020!$C$4:$O$116,10,0)),0,VLOOKUP($A38,RallyPiocera2020!$C$4:$O$116,10,0)) -> 0.12834515 | K38: =IF(ISNA(VLOOKUP($A38,RallyPiocera2020!$C$4:$O$116,11,0)),0,VLOOKUP($A38,RallyPiocera2020!$C$4:$O$116,11,0)) -> 0.12922476 | L38: =SUM(H38:K38) -> 0.60378575 | Q38: 05:00:32.019 | R38: 04:37:21.057 | S38: 0.13922499 | T38: 0.12926023 | U38: 09:37:53.076
A39: 441 | B39: 18.1917.04 | C39: ANDRE MATOS BARBOSA | F39: CALOI | G39: JOAO CICLO CANNONDALE TEAM | H39: 0.18773233 | I39: 0.16432965 | J39: =IF(ISNA(VLOOKUP($A39,RallyPiocera2020!$C$4:$O$116,10,0)),0,VLOOKUP($A39,RallyPiocera2020!$C$4:$O$116,10,0)) -> 0.12692216 | K39: =IF(ISNA(VLOOKUP($A39,RallyPiocera2020!$C$4:$O$116,11,0)),0,VLOOKUP($A39,RallyPiocera2020!$C$4:$O$116,11,0)) -> 0.12649308 | L39: =SUM(H39:K39) -> 0.60547722 | Q39: 06:13:12.029 | R39: 03:54:44.062 | S39: 0.13364649 | T39: 0.13687568 | U39: 10:07:56.091
A40: 403 | B40: 18.26815.15 | C40: FRANCILANGIO PINTO DOS SANTOS | D40: Ceará | E40: CE | F40: CALOI | G40: CILANDE BIKE TEAM - FRECHEIRINHA | H40: 0.19233837 | I40: 0.16691002 | J40: =IF(ISNA(VLOOKUP($A40,RallyPiocera2020!$C$4:$O$116,10,0)),0,VLOOKUP($A40,RallyPiocera2020!$C$4:$O$116,10,0)) -> 0.14417874 | K40: =IF(ISNA(VLOOKUP($A40,RallyPiocera2020!$C$4:$O$116,11,0)),0,VLOOKUP($A40,RallyPiocera2020!$C$4:$O$116,11,0)) -> 0.1313774 | L40: =SUM(H40:K40) -> 0.63480453 | Q40: 05:24:32.036 | R40: 04:53:39.022 | S40: #N/A | T40: #N/A | U40: 10:18:11.058
...

Sheet RallyPiocera2020
D1: Rally Piocerá 2020
A2: Sexo-Categoria | B2: Coloc. | C2: No. | D2: Atleta/Dupla | E2: Estado | F2: UF | G2: CPF | H2: Bike | I2: Equipe/Patrocinador | J2: Etapa1 | K2: Etapa2 | L2: Etapa3 | M2: Etapa4 | N2: TempoTotal | O2: Etapas | S2: bkp etapa 3 | T2: bkp etapa 4
D3: *** DUPLA ***
A4: D-DUPLA-DUPLA | B4: 1 | C4: 543D | D4: MATEUS MUINARSKI DE ARAUJO | E4: Mato Grosso do Sul | F4: MS | H4: AUDAX | I4: CORINTHIANS AUDAX | L4: 0.13704907 | M4: 0.1356836 | N4: 06:32:44.103 | O4: 2 | S4: 03:17:21.040 | T4: 03:15:23.063
A5: D-DUPLA-DUPLA | B5: 2 | C5: 542D | D5: GUTEMBERG ANDRADE FREITAS | E5: Piauí | F5: PI | H5: SPECIALIZED | I5: PEDAL GREEN | L5: 0.13883206 | M5: 0.13795149 | N5: 06:38:34.099 | O5: 2 | S5: 03:19:55.090 | T5: 03:18:39.009
A6: D-DUPLA-DUPLA | B6: 3 | C6: 540D | D6: CROMWELL ANDRADE NETO/ANTONIO MARCELO | E6: Piauí | F6: PI | H6: AUDAX | I6: STUDIO SET | L6: 0.14180618 | M6: 0.13759314 | N6: 06:42:20.101 | O6: 2 | S6: 03:24:12.054 | T6: 03:18:08.047
A7: D-DUPLA-DUPLA | B7: 4 | C7: 537D | D7: RAFAEL SOUTO ATAIDE GOMES | E7: Ceará | F7: CE | H7: CANNONDALE | I7: JOAO CICLO / FUNFIT STORE | L7: 0.14197986 | M7: 0.14096102 | N7: 06:47:26.092 | O7: 2 | S7: 03:24:27.060 | T7: 03:22:59.032
A8: D-DUPLA-DUPLA | B8: 5 | C8: 531D | D8: GUSTAVO MARINHO RAMOS SOARES | E8: Piauí | F8: PI | H8: AUDAX | I8: 4MOV | L8: 0.13945645 | M8: 0.14502406 | N8: 06:49:39.116 | O8: 2 | S8: 03:20:49.037 | T8: 03:28:50.079
A9: D-DUPLA-DUPLA | B9: 6 | C9: 533D | D9: FRANCISCO ANDERSON DA SILVA | E9: Ceará | F9: CE | H9: OUTRAS | I9: GARDENAL BIKE TEAM | L9: 0.15093791 | M9: 0.15402859 | N9: 07:19:09.105 | O9: 2 | S9: 03:37:21.035 | T9: 03:41:48.070
A10: D-DUPLA-DUPLA | B10: 7 | C10: 539D | D10: JOSE ALVES DE OLIVEIRA NETO | E10: Ceará | F10: CE | H10: CANNONDALE | I10: JOÏ CICLO/CASA DO FRANGO | L10: 0.15721139 | M10: 0.15489635 | N10: 07:29:26.109 | O10: 2 | S10: 03:46:23.064 | T10: 03:43:03.045
A11: D-DUPLA-DUPLA | B11: 8 | C11: 541D | D11: FRANCISCO JOSE | E11: Ceará | F11: CE | H11: AUDAX | I11: CILANDE BIKE TEAM - FRECHEIRINHA | L11: 0.16777888 | M11: 0.15582273 | N11: 07:45:59.179 | O11: 2 | S11: 04:01:36.095 | T11: 03:44:23.084
A12: D-DUPLA-DUPLA | B12: 9 | C12: 534D | D12: ANTONIO FABIO OLIVEIRA CARIOLANO | E12: Maranhão | F12: MA | H12: AUDAX | I12: TIMON BIKE ADVENTURE- TBA | L12: 0.16929502 | M12: 0.15819539 | N12: 07:51:35.172 | O12: 2 | S12: 04:03:47.090 | T12: 03:47:48.082
A13: D-DUPLA-DUPLA | B13: 10 | C13: 545D | D13: MARCELO CARRIAS | E13: Piauí | F13: PI | H13: AUDAX | I13: BIKERS MARATHAOAN | L13: 0.16248944 | M13: 0.17884279 | N13: 08:11:31.105 | O13: 2 | S13: 03:53:59.088 | T13: 04:17:32.017
A14: D-DUPLA-DUPLA | B14: 11 | C14: 532D | D14: EMERSON FERNANDES ROSA | E14: Ceará | F14: CE | H14: SOUL VOLCANO COR LARANJA | I14: BRAVUS MTB TEAM | L14: 0.1765627 | M14: 0.16511644 | N14: 08:12:01.077 | O14: 2 | S14: 04:14:15.017 | T14: 03:57:46.060
A15: D-DUPLA-DUPLA | B15: 12 | C15: 538D | D15: NABOR BEZERRA DE MOURA JUNIOR | E15: Piauí | F15: PI | H15: OUTRAS | I15: FOXTEAM | L15: 0.15721163 | M15: 0.20096135 | N15: 08:35:46.146 | O15: 2 | S15: 03:46:23.085 | T15: 04:49:23.061
A16: D-DUPLA-DUPLA | B16: 13 | C16: 544D | D16: MARIA REGINA DA SILVA PEDRINI | E16: Rio Grande do Norte | F16: RN | H16: SPECIALIZED | I16: MISS BIKE | L16: 0.18790515 | M16: 0.1891092 | N16: 09:02:54.040 | O16: 2 | S16: 04:30:35.005 | T16: 04:32:19.035
A17: D-DUPLA-DUPLA | B17: 14 | C17: 536D | D17: PAULO EDUARDO ALMEIDA RODRIGUES | E17: Ceará | F17: CE | H17: SPECIALIZED | I17: JARDEL SILVA | M17: 0.14717598 | N17: 03:31:56.005 | O17: 1 | T17: 03:31:56.005
A18: D-DUPLA-DUPLA | B18: 15 | C18: 535D | D18: FERNANDO ROCHA BARBOSA | E18: Piauí | F18: PI | H18: OUTRAS | I18: TIMON BIKERS ADVENTURE | L18: 0.15485031 | N18: 03:42:59.067 | O18: 1 | S18: 03:42:59.067
D19: *** ELITE FEMININO ***
A20: F-ELITEF-ELITE FEMININO | B20: 1 | C20: 499 | D20: KAREN FERNANDES OL?IO | E20: Minas Gerais | F20: MG | G20: 05.20300.13 | H20: AUDAX | I20: CORINTHIANS AUDAX | L20: 0.14166698 | M20: 0.13569451 | N20: 06:39:24.033 | O20: 2 | S20: 03:24:00.027 | T20: 03:15:24.006
A21: F-ELITEF-ELITE FEMININO | B21: 2 | C21: 463 | D21: JANICE FARIAS E SILVA | E21: Ceará | F21: CE | G21: 18.7638.07 | H21: TREK | I21: MM TEAM | L21: 0.17052098 | M21: 0.15597323 | N21: 07:50:09.100 | O21: 2 | S21: 04:05:33.013 | T21: 03:44:36.087
A22: F-ELITEF-ELITE FEMININO | B22: 3 | C22: 425 | D22: ANA PAULA PEDROSA DE ALMEIDA | E22: Ceará | F22: CE | G22: 18.27415.15 | H22: SPECIALIZED | I22: SEM EQUIPE | L22: 0.17261615 | M22: 0.16452586 | N22: 08:05:29.069 | O22: 2 | S22: 04:08:34.035 | T22: 03:56:55.034
D23: *** MASTER FEMININO ***
A24: F-MASTF-MASTER FEMININO | B24: 1 | C24: 439 | D24: VENILDA ELI | E24: Ceará | F24: CE | G24: 18.18849.13 | H24: CANNONDALE | I24: GOLDEN HAIR | L24: 0.16672551 | M24: 0.15531353 | N24: 07:43:44.173 | O24: 2 | S24: 04:00:05.084 | T24: 03:43:39.089
A25: F-MASTF-MASTER FEMININO | B25: 2 | C25: 510 | D25: SIMONE GILVANI DA VERA | E25: Piauí | F25: PI | H25: CALOI | I25: OMEGA BIKE \POSTO LIDER\ SERTAO MOTO | L25: 0.1693405 | M25: 0.17026623 | N25: 08:09:02.021 | O25: 2 | S25: 04:03:51.019 | T25: 04:05:11.002
A26: F-MASTF-MASTER FEMININO | B26: 3 | C26: 434 | D26: JUSCELINA MOTA ANDRADE | E26: Ceará | F26: CE | G26: 18.17834.12 | H26: SPECIALIZED | I26: JARDEL SILVA | L26: 0.17453759 | M26: 0.16782521 | N26: 08:13:00.146 | O26: 2 | S26: 04:11:20.048 | T26: 04:01:40.098
A27: F-MASTF-MASTER FEMININO | B27: 4 | C27: 447 | D27: CRISTIANY DE SIQUEIRA DANTAS | E27: Piauí | F27: PI | G27: 19.18505.13 | H27: CANNONDALE | I27: EQUIPE GIRO ALTO | L27: 0.18228076 | M27: 0.18015113 | N27: 08:41:54.116 | O27: 2 | S27: 04:22:29.058 | T27: 04:19:25.058
A28: F-MASTF-MASTER FEMININO | B28: 5 | C28: 459 | D28: ANTONIA LUIZA RODRIGUES DOS SANTOS | E28: Maranhão | F28: MA | G28: 19.10528.09 | H28: AUDAX | I28: AUDAX BIKE. CICLO PECAS FLO | L28: 0.18658623 | M28: 0.18275497 | N28: 08:51:51.079 | O28: 2 | S28: 04:28:41.050 | T28: 04:23:10.029
A29: F-MASTF-MASTER FEMININO | B29: 6 | C29: 444 | D29: ELISANGELA BISPO RODRIGUES VIANA | E29: Ceará | F29: CE | G29: 18.31512.17 | H29: AUDAX | I29: CILANDE BIKE TEAM - FRECHEIRINHA | L29: 0.19945632 | M29: 0.20560258 | N29: 09:43:17.089 | O29: 2 | S29: 04:47:13.026 | T29: 04:56:04.063
D30: *** ELITE MASCULINO ***
A31: M-ELITE-ELITE MASCULINO | B31: 1 | C31: 454 | D31: JOSE GABRIEL MARQUES DE ALMEIDA | E31: Minas Gerais | F31: MG | G31: 04.13916.11 | H31: AUDAX | I31: CORINTHIANS AUDAX | L31: 0.11936362 | M31: 0.1255326 | N31: 05:52:39.034 | O31: 2 | S31: 02:51:53.017 | T31: 03:00:46.017
A32: M-ELITE-ELITE MASCULINO | B32: 2 | C32: 470 | D32: SHARLYS SILVA DE OLIVEIRA | E32: Paraíba | F32: PB | G32: 16.6248.07 | H32: AUDAX | I32: AUDAX WELL BIKE | L32: 0.12456064 | M32: 0.12551029 | N32: 06:00:06.128 | O32: 2 | S32: 02:59:22.039 | T32: 03:00:44.089
A33: M-ELITE-ELITE MASCULINO | B33: 3 | C33: 496 | D33: FRANCISCO EDIO NEVES DA SILVA | E33: Piauí | F33: PI | G33: 19.19546.13 | H33: AUDAX | I33: MR PE? /AUDAX | L33: 0.12454973 | M33: 0.12790574 | N33: 06:03:32.153 | O33: 2 | S33: 02:59:21.097 | T33: 03:04:11.056
A34: M-ELITE-ELITE MASCULINO | B34: 4 | C34: 437 | D34: CELSO PEREIRA NUNES | E34: Maranhão | F34: MA | G34: 20.19199.13 | H34: CANNONDALE | I34: BIKEBROTHERS/EZERCITO/SPORT BIKE BRASIL | L34: 0.12838047 | M34: 0.1279058 | N34: 06:09:03.134 | O34: 2 | S34: 03:04:52.073 | T34: 03:04:11.061
A35: M-ELITE-ELITE MASCULINO | B35: 5 | C35: 431 | D35: ANDERSON BARROS DE SOUZA | E35: Paraíba | F35: PB | G35: 16.32456.17 | H35: SPECIALIZED | I35: WELLBIKE | L35: 0.12693314 | M35: 0.13208343 | N35: 06:12:59.031 | O35: 2 | S35: 03:02:47.023 | T35: 03:10:12.008
A36: M-ELITE-ELITE MASCULINO | B36: 6 | C36: 498 | D36: JOACI OLIVEIRA DA SILVA | E36: Paraíba | F36: PB | G36: 16.10453.09 | H36: AUDAX | I36: AUDAX WELL BIKE | L36: 0.12693345 | M36: 0.13880863 | N36: 06:22:40.116 | O36: 2 | S36: 03:02:47.050 | T36: 03:19:53.066
A37: M-ELITE-ELITE MASCULINO | B37: 7 | C37: 404 | D37: LUCAS COELHO DIAS RIBEIRO | E37: Piauí | F37: PI | G37: 19.38987.19 | H37: CANNONDALE | I37: APC ASSOCIA? PIAUIENSE DE CICLISMO E CICLOTURISMO | L37: 0.14436417 | M37: 0.1368638 | N37: 06:44:58.096 | O37: 2 | S37: 03:27:53.064 | T37: 03:17:05.032
A38: M-ELITE-ELITE MASCULINO | B38: 8 | C38: 495 | D38: FRANCISCO DE OLIVEIRA LIMA JUNIOR | E38: Ceará | F38: CE | G38: 18.271.04 | H38: CALOI | I38: AUDAX/FULLGAS/AGUA SANTA M??A | L38: 0.15218823 | M38: 0.14412049 | N38: 07:06:41.073 | O38: 2 | S38: 03:39:09.063 | T38: 03:27:32.010
A39: M-ELITE-ELITE MASCULINO | B39: 9 | C39: 486 | D39: MARCELO FLORENTINO SOARES | E39: São Paulo | F39: SP | G39: 04.1305.04 | H39: SPECIALIZED | I39: SEM EQUIPE | L39: 0.16040525 | M39: 0.15985041 | N39: 07:41:10.089 | O39: 2 | S39: 03:50:59.014 | T39: 03:50:11.075
A40: M-ELITE-ELITE MASCULINO | B40: 10 | C40: 440 | D40: DANIEL CARNEIRO BRUM MASCULINO | E40: Minas Gerais | F40: MG | G40: 02.534.04 | H40: AUDAX | I40: CORINTHIANS AUDAX | L40: 0.12839149 | N40: 03:04:53.025 | O40: 1 | S40: 03:04:53.025
...
