Workbook

Sheet ELITE FEMININO -
A5: NOME DO EVENTO: | C5: =CONFIG!D1 -> DESAFIO TIMON BIKERS 2019
A6: DATA DO EVENTO: | C6: =CONFIG!D2 -> 43709
A7: MODALIDADE | C7: =CONFIG!D3 -> MOUNTAIN BIKE
A8: CLASSE DO EVENTO: | C8: =CONFIG!D4 -> XCM1
A9: CATEGORIA: | C9: =CONFIG!A1 -> ELITE FEMININO
A10: ORGANIZADOR: | C10: =CONFIG!D6 -> TBA
A12: RESULTADOS OFICIAIS
A13: TEMPO DE PROVA: | B13: =E17 -> 03:29:19.083
A16: POSIÇÃO | B16: N. LICENÇA | C16: ATLETA (Nome Completo, sem abreviações) | D16: CLUBE/EQUIPE
A17: 1 | B17: 19.20957.13 | C17: KARINE DE MACEDO FROTA | D17: EVO PRO TEAM - TERESINA - PI | E17: 03:29:19.083
A18: 2 | B18: 19.31277.17 | C18: JOILMA NUNES | D18: CBA - CAXIAS BIKE ADVENTURE - CAXIAS - MA | E18: 03:53:06.028
A19: 3 | B19: 20.32976.17 | C19: DOMINGAS CORREIA | D19: BIKEBROTHERS MTB TEAM - SÃO LUÍS - MA | E19: 04:01:54.084
A20: 4 | B20: 19.38710.19 | C20: SABRINA PAULA DE SOUSA BEZERRA CRUZ | D20: BIKEXTREMEPIRIPIRI - PIRIPIRI - PI | E20: 04:25:28.028
A21: 5 | B21: 19.38731.19 | C21: YARLA RANIERY | D21: EQUIPE GIRO FORTE - ALTOS - PI | E21: 04:49:09.040
A22: 6 | B22: 20.38331.19 | C22: ERONILDES MOREIRA | D22: PRO-X TUTÓIA - CHAPADINHA - MA | E22: 06:12:02.757
A47: DNF: | B47: DID NOT FINISH | C47: NÃO TERMINOU A PROVA
A48: DNS: | B48: DID NOT START | C48: NÃO LARGOU A PROVA
A49: DSQ | B49: DESQUALIFIED | C49: DESQUALIFICADO
A51: * Caso seja um circuito, adicionar a coluna de voltas da prova.

Sheet MASTER FEMININO
A5: NOME DO EVENTO: | C5: =CONFIG!D1 -> DESAFIO TIMON BIKERS 2019
A6: DATA DO EVENTO: | C6: =CONFIG!D2 -> 43709
A7: MODALIDADE | C7: =CONFIG!D3 -> MOUNTAIN BIKE
A8: CLASSE DO EVENTO: | C8: =CONFIG!D4 -> XCM1
A9: CATEGORIA: | C9: =CONFIG!A2 -> MASTER FEMININO
A10: ORGANIZADOR: | C10: =CONFIG!D6 -> TBA
A12: RESULTADOS OFICIAIS
A13: TEMPO DE PROVA: | B13: =E17 -> 03:49:44.059
A16: POSIÇÃO | B16: N. LICENÇA | C16: ATLETA (Nome Completo, sem abreviações) | D16: CLUBE/EQUIPE
A17: 1 | B17: 19.10528.09 | C17: ANTONIA LUIZA RODRIGUES DOS SANTOS | D17: PACEIROS AUDAX - BARÃO DE GRAJAÚ - MA | E17: 03:49:44.059
A18: 2 | B18: 19.34659.18 | C18: KELY CRISTINA NUNES | D18: CATRACA FORTE TEAM - TERESINA - PI | E18: 04:11:02.869
A19: 3 | B19: 19.18505.13 | C19: CRISTIANY SIQUEIRA DANTAS | D19: EQUIPE GIRO ALTO - TERESINA - PI | E19: 04:12:39.007
A20: 4 | B20: 19.40486.19 | C20: CYNTHIA FERREIRA DO VALE | D20: CBA - CAXIAS BIKE ADVENTURE - CAXIAS - MA | E20: 04:16:49.088
A21: 5 | B21: 19.35939.18 | C21: SABINA FRAGA DA SILVA PASSOS VIANA | D21: CBA - CAXIAS BIKE ADVENTURE - CAXIAS - MA | E21: 04:20:17.078
A22: 6 | B22: 19.10777.09 | C22: LEILA MARIA MELO DE MATOS | D22: MARACAJÁ BIKERS - TERESINA - PI | E22: 04:24:25.041
A23: 7 | B23: 19.24079.15 | C23: LAYANE LIMA DE SOUSA | D23: EQUIPE GIRO FORTE - ALTOS - PI | E23: 04:43:56.012
A24: 8 | B24: 19.29232.16 | C24: SARA MARIA ARAUJO MELO | D24: CATRACA FORTE TEAM - TERESINA - PI | E24: 05:56:50.146
A47: DNF: | B47: DID NOT FINISH | C47: NÃO TERMINOU A PROVA
A48: DNS: | B48: DID NOT START | C48: NÃO LARGOU A PROVA
A49: DSQ | B49: DESQUALIFIED | C49: DESQUALIFICADO
A51: * Caso seja um circuito, adicionar a coluna de voltas da prova.

Sheet ELITE MASCULINO
A5: NOME DO EVENTO: | C5: =CONFIG!D1 -> DESAFIO TIMON BIKERS 2019
A6: DATA DO EVENTO: | C6: =CONFIG!D2 -> 43709
A7: MODALIDADE | C7: =CONFIG!D3 -> MOUNTAIN BIKE
A8: CLASSE DO EVENTO: | C8: =CONFIG!D4 -> XCM1
A9: CATEGORIA: | C9: =CONFIG!A3 -> ELITE MASCULINO
A10: ORGANIZADOR: | C10: =CONFIG!D6 -> TBA
A12: RESULTADOS OFICIAIS
A13: TEMPO DE PROVA: | B13: =E17 -> 02:46:09.002
A16: POSIÇÃO | B16: N. LICENÇA | C16: ATLETA (Nome Completo, sem abreviações) | D16: CLUBE/EQUIPE
A17: 1 | B17: 04.13916.11 | C17: JOSE GABRIEL MARQUES DE ALMEIDA | D17: CORINTHIANS AUDAX BIKE TEAM - TERESINA - PI | E17: 02:46:09.002
A18: 2 | B18: 02.534.04 | C18: DANIEL ZOIA | D18: CORINTHIANS AUDAX BIKE TEAM - TERESINA - PI | E18: 02:46:20.063
A19: 3 | B19: 19.19546.13 | C19: FRANCISCO EDIO NEVES DA SILVA | D19: AUDAX/MRPEÇAS - TERESINA - PI | E19: 02:46:25.065
A20: 4 | B20: 19.34656.18 | C20: KENNEDY DA SILVA OLIVEIRA | D20: OEIRAS BIKE CLUBE - OBC - OEIRAS - PI | E20: 02:55:23.011
A21: 5 | B21: 19.38489.19 | C21: DAVI RODRIGUES | D21: BORA DOTÔ! - SÃO RAIMUNDO NONATO - PI | E21: 02:55:23.075
A22: 6 | B22: 12.34285.18 | C22: TALISSON DE CASTRO SOUZA | D22: EQUIPE NÃO INFORMADA - PETROLINA - PE | E22: 02:55:47.036
A23: 7 | B23: 20.32966.17) | C23: JOELSON LIMA LOPES | D23: EQUIPE NÃO INFORMADA - SÃO JOSÉ DE RIBAMAR - MA | E23: 02:57:23.016
A24: 8 | B24: 19.15617.12 | C24: MATHEUS FERREIRA SOUSA | D24: EQUIPE GIRO FORTE - ALTOS - PI | E24: 02:59:05.091
A25: 9 | B25: 19.14495.11 | C25: LUIS MACEDO DA SILVA JUNIOR | D25: BIKER PIAUI | E25: 02:59:07.028
A26: 10 | B26: 20.19199.13 | C26: CELSO NUNES | D26: EZERCITO MTB TEAM - SÃO LUÍS - MA | E26: 02:59:26.073
A27: 11 | B27: 20.28992.16 | C27: JESSE SANTOSMTB | D27: SENSE FACTORY RACING - SÃO LUÍS - MA | E27: 03:05:30.021
A28: 12 | B28: 19.19545.13 | C28: ANTONIO MARCELO TRINDADE DE MOURA | D28: MR TEAM - TERESINA - PI | E28: 03:10:29.042
... A37: 21 | B37: 20.29298.16 | C37: WESLEY CONCEICAO DE SOUSA | D37: PEDAL 100 LIMITES - TUTÓIA - MA | E37: 04:13:31.032
A38: 22 | B38: #N/A | C38: WANDERSON HERCULES | D38: EQUIPE NÃO INFORMADA - BURITICUPU - MA | E38: 04:16:03.084
A47: DNF: | B47: DID NOT FINISH | C47: NÃO TERMINOU A PROVA
A48: DNS: | B48: DID NOT START | C48: NÃO LARGOU A PROVA
A49: DSQ | B49: DESQUALIFIED | C49: DESQUALIFICADO
A51: * Caso seja um circuito, adicionar a coluna de voltas da prova.

Sheet JUNIOR
A5: NOME DO EVENTO: | C5: =CONFIG!D1 -> DESAFIO TIMON BIKERS 2019
A6: DATA DO EVENTO: | C6: =CONFIG!D2 -> 43709
A7: MODALIDADE | C7: =CONFIG!D3 -> MOUNTAIN BIKE
A8: CLASSE DO EVENTO: | C8: =CONFIG!D4 -> XCM1
A9: CATEGORIA: | C9: =CONFIG!A4 -> JUNIOR
A10: ORGANIZADOR: | C10: =CONFIG!D6 -> TBA
A12: RESULTADOS OFICIAIS
A13: TEMPO DE PROVA: | B13: =E17 -> 01:07:41.018
A16: POSIÇÃO | B16: N. LICENÇA | C16: ATLETA (Nome Completo, sem abreviações) | D16: CLUBE/EQUIPE
A17: 1 | B17: IRREGULAR (S/CONFIRMAçãO) | C17: LEONARDO JOSÉ DA SILVA SANTOS | D17: TBA - TERESINA - PI | E17: 01:07:41.018
A18: 2 | B18: 19.38992.19 | C18: ERIC JOÃO DE SOUSA PEREIRA | D18: EQUIPE NÃO INFORMADA - TERESINA - PI | E18: 01:07:41.020
A19: 3 | B19: 19.37240.18 | C19: GABRIEL SOARES RODRIGUES ALVES | D19: PEDAL GREEN - TERESINA - PI | E19: 01:30:08.039
A20: 4 | B20: 19.31203.17 | C20: BRENNO JHESNNEIR | D20: EQUIPE GIRO FORTE - ALTOS - PI | E20: 01:39:59.080
A21: 5 | B21: 19.39671.19 | C21: EDUARDO BRITO | D21: BRUTUS MTB J.C.M. - MIGUEL ALVES - PI | E21: 02:32:37.009
A47: DNF: | B47: DID NOT FINISH | C47: NÃO TERMINOU A PROVA
A48: DNS: | B48: DID NOT START | C48: NÃO LARGOU A PROVA
A49: DSQ | B49: DESQUALIFIED | C49: DESQUALIFICADO
A51: * Caso seja um circuito, adicionar a coluna de voltas da prova.

Sheet JUVENIL
A5: NOME DO EVENTO: | C5: =CONFIG!D1 -> DESAFIO TIMON BIKERS 2019
A6: DATA DO EVENTO: | C6: =CONFIG!D2 -> 43709
A7: MODALIDADE | C7: =CONFIG!D3 -> MOUNTAIN BIKE
A8: CLASSE DO EVENTO: | C8: =CONFIG!D4 -> XCM1
A9: CATEGORIA: | C9: =CONFIG!A5 -> JUVENIL
A10: ORGANIZADOR: | C10: =CONFIG!D6 -> TBA
A12: RESULTADOS OFICIAIS
A13: TEMPO DE PROVA: | B13: =E17 -> 01:11:54.066
A16: POSIÇÃO | B16: N. LICENÇA | C16: ATLETA (Nome Completo, sem abreviações) | D16: CLUBE/EQUIPE
A17: 1 | B17: 19.34497.18 | C17: JOÃO VICTOR MAGALHÃES PESSOA | D17: MARACAJÁ BIKERS - TERESINA - PI | E17: 01:11:54.066
A18: 2 | B18: 19.37120.18 | C18: RAIMUNDO NONATO FERREIRA DA SILVA NETO | D18: TBA TIMON BIKERS ADVENTURE - TIMON - MA | E18: 01:11:55.096
A19: 3 | B19: 20.38989.19 | C19: KEVIN SOUSA VIEIRA SOUSA | D19: PEDAL SEM LIMITES - TUTÓIA - MA | E19: 01:26:37.027
A20: 4 | B20: 19.40414.19 | C20: VINICIUS DANTAS DANTAS | D20: EQUIPE GIRO FORTE - ALTOS - PI | E20: 01:27:51.093
A21: 5 | B21: 19.38821.19 | C21: WALLACE ESDRAS DA COSTA FERREIRA CAFE | D21: GIRO FORTE - ALTOS - PI | E21: 01:56:17.060
A22: 6 | B22: RECéM FILIADO | C22: WILTON SEGUNDO | D22: EQUIPE GIRO FORTE - ALTOS - PI | E22: 02:15:41.097
A47: DNF: | B47: DID NOT FINISH | C47: NÃO TERMINOU A PROVA
A48: DNS: | B48: DID NOT START | C48: NÃO LARGOU A PROVA
A49: DSQ | B49: DESQUALIFIED | C49: DESQUALIFICADO
A51: * Caso seja um circuito, adicionar a coluna de voltas da prova.

Sheet MASTER 30 34
A5: NOME DO EVENTO: | C5: =CONFIG!D1 -> DESAFIO TIMON BIKERS 2019
A6: DATA DO EVENTO: | C6: =CONFIG!D2 -> 43709
A7: MODALIDADE | C7: =CONFIG!D3 -> MOUNTAIN BIKE
A8: CLASSE DO EVENTO: | C8: =CONFIG!D4 -> XCM1
A9: CATEGORIA: | C9: =CONFIG!A6 -> MASTER 30-34
A10: ORGANIZADOR: | C10: =CONFIG!D6 -> TBA
A12: RESULTADOS OFICIAIS
A13: TEMPO DE PROVA: | B13: =E17 -> 03:00:35.082
A16: POSIÇÃO | B16: N. LICENÇA | C16: ATLETA (Nome Completo, sem abreviações) | D16: CLUBE/EQUIPE
A17: 1 | B17: 19.4115.05 | C17: ANTUNES SOUSA DA SILVA | D17: CBA - CAXIAS BIKE ADVENTURE - CAXIAS - MA | E17: 03:00:35.082
A18: 2 | B18: 20.12523.10 | C18: RAFAEL PINTO SILVA | D18: GIROTEAM - SÃO LUÍS - MA | E18: 03:00:46.063
A19: 3 | B19: 19.14655.11 | C19: SAMUEL DOS SANTOS | D19: MARACAJÁ BIKERS - TERESINA - PI | E19: 03:03:31.007
A20: 4 | B20: 12.37376.18 | C20: ANTÔNIO JOSÉ DE SOUZA RODRIGUES SOUZA | D20: NILO BIKE - PETROLINA - PE | E20: 03:08:37.014
A21: 5 | B21: 20.29816.16 | C21: CICERO SALES | D21: EZERCITO MTB TEAM - SÃO LUÍS - MA | E21: 03:08:49.080
A22: 6 | B22: 19.34234.18 | C22: VITOR HUGO ARAUJO VERAS | D22: EQUIPE GIRO FORTE - ALTOS - PI | E22: 03:16:27.069
A23: 7 | B23: 19.34261.18 | C23: JOHN KENNEDY DE CARVALHO JUSTINO | D23: EQUIPE GIRO FORTE - ALTOS - PI | E23: 03:16:28.008
A24: 8 | B24: 19.23179.14 | C24: FRANCISCO JOSUE DOS SANTOS | D24: MARACAJÁ BIKERS - TERESINA - PI | E24: 03:17:56.025
A25: 9 | B25: 19.38584.19 | C25: JOSE WILTON MOURA | D25: BRUTOS JCM - MIGUEL ALVES - PI | E25: 03:22:31.071
A26: 10 | B26: 19.33097.17 | C26: GNONES CAMPOS POMPEU | D26: PEDAL BIKERS CLUB - TERESINA - PI | E26: 03:22:31.084
A27: 11 | B27: 19.27277.15 | C27: ALMIR FRANCISCO DE MESQUITA | D27: EQUIPE NÃO INFORMADA - TERESINA - PI | E27: 03:23:51.087
A28: 12 | B28: 19.38601.19 | C28: LUCAS NERY | D28: BRUTUS MTB J.C.M. - MIGUEL ALVES - PI | E28: 03:25:09.043
... A50: 34 | B50: 19.31185.17 | C50: OTAVIO JOSE BARROS SILVA | D50: CATRACA FORTE TEAM - TERESINA - PI | E50: 05:25:48.053
A51: DNF: | B51: DID NOT FINISH | C51: NÃO TERMINOU A PROVA
A52: DNS: | B52: DID NOT START | C52: NÃO LARGOU A PROVA
A53: DSQ | B53: DESQUALIFIED | C53: DESQUALIFICADO
A55: * Caso seja um circuito, adicionar a coluna de voltas da prova.

Sheet MASTER 35 39)
A5: NOME DO EVENTO: | C5: =CONFIG!D1 -> DESAFIO TIMON BIKERS 2019
A6: DATA DO EVENTO: | C6: =CONFIG!D2 -> 43709
A7: MODALIDADE | C7: =CONFIG!D3 -> MOUNTAIN BIKE
A8: CLASSE DO EVENTO: | C8: =CONFIG!D4 -> XCM1
A9: CATEGORIA: | C9: =CONFIG!A7 -> MASTER 35-39
A10: ORGANIZADOR: | C10: =CONFIG!D6 -> TBA
A12: RESULTADOS OFICIAIS
A13: TEMPO DE PROVA: | B13: =E17 -> 02:56:25.074
A16: POSIÇÃO | B16: N. LICENÇA | C16: ATLETA (Nome Completo, sem abreviações) | D16: CLUBE/EQUIPE
A17: 1 | B17: 19.22035.14 | C17: ROGERIO FERREIRA DO NASCIMENTO | D17: TIMON BIKERS ADVENTURE - TBA - TIMON - MA | E17: 02:56:25.074
A18: 2 | B18: 19.32538.17 | C18: ISIRAN ISIDORIO DE CARVALHO | D18: EQUIPE NÃO INFORMADA - JACOBINA DO PIAUÍ - PI | E18: 03:08:09.030
A19: 3 | B19: 19.14660.11 | C19: FRANCISCO DANIEL MELO AMÉRICO | D19: PEDAL BIKERS CLUB - TERESINA - PI | E19: 03:08:51.099
A20: 4 | B20: 20.23292.14 | C20: EMERSOM GERSOM SILVA SERRA | D20: BIKEBROTHERS MTB TEAM - SÃO LUÍS - MA | E20: 03:11:00.063
A21: 5 | B21: 20.39694.19 | C21: RAIMUNDO NONATO MIRANDA | D21: EQUIPE NÃO INFORMADA - SÃO JOSÉ DE RIBAMAR - MA | E21: 03:11:43.053
A22: 6 | B22: 20.30862.17 | C22: RODRIGO PAIVA | D22: BIKEBROTHERS MTB TEAM - SÃO LUÍS - MA | E22: 03:17:33.066
A23: 7 | B23: 19.33351.17 | C23: FLAVIO DIAS GONCALVAS | D23: EQUIPE GIRO FORTE - ALTOS - PI | E23: 03:19:33.065
A24: 8 | B24: 20.29262.16 | C24: JUVSON BARBOSA | D24: CICLO BIKE TEAM - SÃO JOSÉ DE RIBAMAR - MA | E24: 03:22:32.080
A25: 9 | B25: 19.37375.18 | C25: GUTEMBERG ANDRADE FREITAS FREITAS | D25: PEDAL GREEN - TERESINA - PI | E25: 03:26:56.076
A26: 10 | B26: 19.22037.14 | C26: BERTONE SILVA CAVALCANTE | D26: TIMON BIKERS ADVENTURE - TBA - TIMON - MA | E26: 03:27:05.006
A27: 11 | B27: 19.29579.16 | C27: MARCEL RUFINO DE CARVALHO | D27: PEDAL BIKERS CLUB - TERESINA - PI | E27: 03:28:57.041
A28: 12 | B28: 19.34283.18 | C28: HENRIQUE VITAL ANDRADE | D28: EQUIPE NÃO INFORMADA - TERESINA - PI | E28: 03:31:18.020
... A44: 28 | B44: 19.15374.11 | C44: JOSE ITAMAR FERREIRA FILHO | D44: PEDAL BIKERS CLUB - TERESINA - PI | E44: 04:57:27.042
A45: DNF | B45: 19.19649.13 | C45: RAIMUNDO NONATO MARQUES FILHO | D45: PEDAL BIKERS CLUB - TERESINA - PI | E45: 01:51:17.038
A47: DNF: | B47: DID NOT FINISH | C47: NÃO TERMINOU A PROVA
A48: DNS: | B48: DID NOT START | C48: NÃO LARGOU A PROVA
A49: DSQ | B49: DESQUALIFIED | C49: DESQUALIFICADO
A51: * Caso seja um circuito, adicionar a coluna de voltas da prova.

Sheet MASTER 40 44
A5: NOME DO EVENTO: | C5: =CONFIG!D1 -> DESAFIO TIMON BIKERS 2019
A6: DATA DO EVENTO: | C6: =CONFIG!D2 -> 43709
A7: MODALIDADE | C7: =CONFIG!D3 -> MOUNTAIN BIKE
A8: CLASSE DO EVENTO: | C8: =CONFIG!D4 -> XCM1
A9: CATEGORIA: | C9: =CONFIG!A8 -> MASTER 40-44
A10: ORGANIZADOR: | C10: =CONFIG!D6 -> TBA
A12: RESULTADOS OFICIAIS
A13: TEMPO DE PROVA: | B13: =E17 -> 02:59:34.026
A16: POSIÇÃO | B16: N. LICENÇA | C16: ATLETA (Nome Completo, sem abreviações) | D16: CLUBE/EQUIPE
A17: 1 | B17: 19.3000.05 | C17: LINDOMAR FERREIRA DOS SANTOS | D17: AZIAS BIKERS - TERESINA - PI | E17: 02:59:34.026
A18: 2 | B18: 19.2264.04 | C18: GERSON DE ALBUQUERQUE ALVES | D18: PEDAL BIKERS CLUB - TERESINA - PI | E18: 03:06:08.047
A19: 3 | B19: 19.2929.05 | C19: JOCEANO LUSTOSA ALVES | D19: TREINO ACADEMIA / TREINO ASSESSORIA DE CICLISMO - TERESINA - PI | E19: 03:07:10.042
A20: 4 | B20: 19.17881.12 | C20: ADELMAR ANFRADE DE CARVALHO | D20: FLORIANO BIKERS CLUBE - FLORIANO - PI | E20: 03:07:44.002
A21: 5 | B21: 20.12009.10 | C21: JOSE ROBERTO ALVES DE ARAUJO | D21: BIKEBROTHERS MTB TEAM - SÃO LUÍS - MA | E21: 03:17:59.037
A22: 6 | B22: 20.29302.16 | C22: PAULO SÉRGIO ASCENÇÃO CABRAL BANCO CABRAL | D22: PEDAL 100 LIMITES - TUTÓIA - MA | E22: 03:18:53.079
A23: 7 | B23: 20.32961.17 | C23: FRANCISCO GELTON ALMEIDA SILVA | D23: BRUTUS SANTA INÊS - SANTA INÊS - MA | E23: 03:27:04.035
A24: 8 | B24: 20.37535.19 | C24: CARLOS MARX NÓBREGA DE SÁ | D24: EQUIPE NÃO INFORMADA - COLINAS - MA | E24: 03:37:51.046
A25: 9 | B25: 19.14515.11 | C25: MARCOS VINICIUS MORAIS SOUZA CRUZ | D25: PEDAL GREEN - TERESINA - PI | E25: 03:42:20.062
A26: 10 | B26: 19.26137.15 | C26: MAXWELL DA SILVA CARVALHO | D26: FOXTEAM - TERESINA - PI | E26: 03:45:40.030
A27: 11 | B27: 19.27190.15 | C27: PAULO JOSÉ LULA PEDREIRA JUN | D27: TIMON BIKERS ADVENTURE - TBA - TIMON - MA | E27: 03:47:23.051
A28: 12 | B28: 19.39200.19 | C28: HELDER BATISTA PIRES | D28: MARACAJÁ BIKERS - TERESINA - PI | E28: 03:48:12.084
... A35: 19 | B35: 19.31260.17 | C35: SERGINALDO COSTA DE SOUSA | D35: EQUIPE GIRO FORTE - ALTOS - PI | E35: 04:06:42.086
A36: 20 | B36: #N/A | C36: ANTÔNIO FRANCISCO MESQUITA | D36: EQUIPE NÃO INFORMADA - FORTALEZA - CE | E36: 04:11:38.010
A37: 21 | B37: RECéM FILIADO | C37: FABIO DE ALMEIDA SOUSA | D37: NATUBADA - TERESINA - PI | E37: 04:11:48.021
A38: 22 | B38: 19.33482.17 | C38: ALYSSON CASTRO DE OLIVEIRA | D38: MARACAJÁ BIKERS - TERESINA - PI | E38: 04:26:40.089
A39: 23 | B39: 19.22727.15 | C39: ISAAC VASCONCELOS DE ARAUJO | D39: PEDAL BIKERS CLUB - TERESINA - PI | E39: 04:29:49.084
A40: 24 | B40: 19.14711.11 | C40: WAGNER M.S.G.SILVA GUEDES | D40: HAC LOCADORA - TERESINA - PI | E40: 04:52:51.091
A41: 25 | B41: 19.19677.13 | C41: JULIANO TAVARES PEDROSA SILVA | D41: PEDAL BIKERS CLUB - TERESINA - PI | E41: 05:02:59.009
A42: DNF | B42: 19.2274.04 | C42: KLEYSSON PEREIRA DA SILVA | D42: EQUIPE NÃO INFORMADA - TERESINA - PI | E42: 03:58:20.076
A46: DNF: | B46: DID NOT FINISH | C46: NÃO TERMINOU A PROVA
A47: DNS: | B47: DID NOT START | C47: NÃO LARGOU A PROVA
A48: DSQ | B48: DESQUALIFIED | C48: DESQUALIFICADO
A50: * Caso seja um circuito, adicionar a coluna de voltas da prova.

Sheet MASTER 45 49
A5: NOME DO EVENTO: | C5: =CONFIG!D1 -> DESAFIO TIMON BIKERS 2019
A6: DATA DO EVENTO: | C6: =CONFIG!D2 -> 43709
A7: MODALIDADE | C7: =CONFIG!D3 -> MOUNTAIN BIKE
A8: CLASSE DO EVENTO: | C8: =CONFIG!D4 -> XCM1
A9: CATEGORIA: | C9: =CONFIG!A9 -> MASTER 45-49
A10: ORGANIZADOR: | C10: =CONFIG!D6 -> TBA
A12: RESULTADOS OFICIAIS
A13: TEMPO DE PROVA: | B13: =E17 -> 03:10:26.014
A16: POSIÇÃO | B16: N. LICENÇA | C16: ATLETA (Nome Completo, sem abreviações) | D16: CLUBE/EQUIPE
A17: 1 | B17: 20.2314.04 | C17: MAURÍCIO ROBERTO MIRANDA | D17: SPORT BIKE BRASIL SLZ - SÃO LUÍS - MA | E17: 03:10:26.014
A18: 2 | B18: 19.33569.17 | C18: REINALDO SOARES DE OLIVEIRA | D18: AZIAS BIKERS - TERESINA - PI | E18: 03:10:39.089
A19: 3 | B19: 19.2656.05 | C19: ERNANI DE CASTRO COSTA | D19: BIKE RACE TEAM - TERESINA - PI | E19: 03:17:11.003
A20: 4 | B20: 19.14584.11 | C20: FÁBIO NOGUEIRA DANTAS | D20: PEDAL BIKERS CLUB - TERESINA - PI | E20: 03:20:52.063
A21: 5 | B21: 19.23371.14 | C21: FRANCISCO DURVAL DO NASCIMENTO | D21: AZIAS BIKERS - TERESINA - PI | E21: 03:21:52.017
A22: 6 | B22: 20.12018.10 | C22: GEORGE MARTINS | D22: BIKEBROTHERS MTB TEAM - SÃO LUÍS - MA | E22: 03:25:55.044
A23: 7 | B23: 19.33440.17 | C23: ALLISSON LEONARDO COSTA MACHADO | D23: MARACAJÁ BIKERS - TERESINA - PI | E23: 03:35:47.002
A24: 8 | B24: 20.37476.19 | C24: JOSSERVAL PEREIRA DA SILVA | D24: BRUTUS SANTA INÊS - SANTA INÊS - MA | E24: 03:41:38.005
A25: 9 | B25: 19.39936.19 | C25: FLÁVIO OLIVEIRA COELHO | D25: PEDRA BRANCA MTB - TERESINA - PI | E25: 03:45:56.067
A26: 10 | B26: 19.27195.15 | C26: ROBERT KENNEDY COUTINHO COSTA | D26: TIMON BIKERS ADVENTURE - TBA - TIMON - MA | E26: 03:46:48.084
A27: 11 | B27: 19.38552.19 | C27: JESSE SILVA SOUSA | D27: MARACAJÁ BIKERS - TERESINA - PI | E27: 03:49:52.028
A28: 12 | B28: 19.17395.12 | C28: DSORDI SOUSA DANTAS | D28: PEDAL BIKERS CLUB - TERESINA - PI | E28: 03:55:01.016
... A35: 19 | B35: 19.32479.17 | C35: JEFERSON ALVES BRANDAO | D35: CATRACA FORTE TEAM - TERESINA - PI | E35: 05:58:38.146
A36: DNF | B36: 19.17938.12 | C36: BONIFÁCIO TEIXEIRA LIMA | D36: BIKE RACE TEAM - TERESINA - PI | E36: 03:57:36.796
A47: DNF: | B47: DID NOT FINISH | C47: NÃO TERMINOU A PROVA
A48: DNS: | B48: DID NOT START | C48: NÃO LARGOU A PROVA
A49: DSQ | B49: DESQUALIFIED | C49: DESQUALIFICADO
A51: * Caso seja um circuito, adicionar a coluna de voltas da prova.

Sheet MASTER C1
A5: NOME DO EVENTO: | C5: =CONFIG!D1 -> DESAFIO TIMON BIKERS 2019
A6: DATA DO EVENTO: | C6: =CONFIG!D2 -> 43709
A7: MODALIDADE | C7: =CONFIG!D3 -> MOUNTAIN BIKE
A8: CLASSE DO EVENTO: | C8: =CONFIG!D4 -> XCM1
A9: CATEGORIA: | C9: =CONFIG!A10 -> VETERANO
A10: ORGANIZADOR: | C10: =CONFIG!D6 -> TBA
A12: RESULTADOS OFICIAIS
A13: TEMPO DE PROVA: | B13: =E17 -> 03:16:41.041
A16: POSIÇÃO | B16: N. LICENÇA | C16: ATLETA (Nome Completo, sem abreviações) | D16: CLUBE/EQUIPE
A17: 1 | B17: 19.10776.09 | C17: JOSELITO GOMES DA SILVEIRA | D17: TIMON BIKERS ADVENTURE - TBA - TIMON - MA | E17: 03:16:41.041
A18: 2 | B18: 19.30059.16 | C18: FERNANDO SOARES DE OLIVEIRA | D18: EQUIPE GIRO FORTE - ALTOS - PI | E18: 03:16:54.040
A19: 3 | B19: 20.7953.09 | C19: ESDRAS SOUSA | D19: SLZ CYCLING TEAM - SÃO LUÍS - MA | E19: 03:36:20.066
A20: 4 | B20: 20.32944.17 | C20: PAULO CESAR SILVA ANCHIETA | D20: EQUIPE NÃO INFORMADA - SÃO LUÍS - MA | E20: 03:42:03.049
A21: 5 | B21: 19.6240.07 | C21: FRANCISCO HELIO CAMELO FERREIRA | D21: PEDAL BIKERS CLUB - TERESINA - PI | E21: 03:45:16.079
A22: 6 | B22: 19.6245.07 | C22: JOSÉ RIBAMAR DA SILVA | D22: ASSOCIAÇÃO PIAUIENSE DE CICLISMO E CICLOTURISMO - TERESINA - PI | E22: 03:50:52.036
A23: 7 | B23: 19.23805.15 | C23: JOSE HENRIQUE PIMENTEL ROCHA | D23: CATRACA FORTE TEAM - TERESINA - PI | E23: 04:01:09.015
A24: 8 | B24: 19.35299.18 | C24: FRANCISCO EDMAR CARVALHO DA SILVA | D24: EQUIPE GIRO FORTE - ALTOS - PI | E24: 04:05:31.059
A25: 9 | B25: 20.32998.17 | C25: NEIDSON MOREIRA | D25: BIKEBROTHERS MTB TEAM - SÃO LUÍS - MA | E25: 04:07:29.064
A26: 10 | B26: 09.5447.06 | C26: SÓSTENES NASCIMENTO | D26: EQUIPE NÃO INFORMADA - BRASÍLIA - DF | E26: 04:17:44.045
A27: 11 | B27: 19.40413.19 | C27: GEDALIAS SILVA DE SOUZA | D27: MARACAJÁ BIKERS - TERESINA - PI | E27: 04:38:02.024
A28: 12 | B28: 19.38929.19 | C28: CARLOS AUGUSTO GOMES DE SOUZA GOMES DE SOUZA | D28: FOXTEAM - TERESINA - PI | E28: 04:38:20.066
... A31: 15 | B31: 20.2312.04 | C31: LUIS HENRIQUE MARTINS LISBOA LISBOA | D31: ROCK TRILHA - SÃO LUÍS - MA | E31: 05:09:22.082
A35: DNF: | B35: DID NOT FINISH | C35: NÃO TERMINOU A PROVA
A36: DNS: | B36: DID NOT START | C36: NÃO LARGOU A PROVA
A37: DSQ | B37: DESQUALIFIED | C37: DESQUALIFICADO
A39: * Caso seja um circuito, adicionar a coluna de voltas da prova.

Sheet OVER
A5: NOME DO EVENTO: | C5: =CONFIG!D1 -> DESAFIO TIMON BIKERS 2019
A6: DATA DO EVENTO: | C6: =CONFIG!D2 -> 43709
A7: MODALIDADE | C7: =CONFIG!D3 -> MOUNTAIN BIKE
A8: CLASSE DO EVENTO: | C8: =CONFIG!D4 -> XCM1
A9: CATEGORIA: | C9: =CONFIG!A10 -> VETERANO
A10: ORGANIZADOR: | C10: =CONFIG!D6 -> TBA
A12: RESULTADOS OFICIAIS
A13: TEMPO DE PROVA: | B13: =E17 -> 03:32:19.065
A16: POSIÇÃO | B16: N. LICENÇA | C16: ATLETA (Nome Completo, sem abreviações) | D16: CLUBE/EQUIPE
A17: 1 | B17: 19.29096.16 | C17: PAULO CESAR FERREIRA DA SILVA | D17: CBA - CAXIAS BIKE ADVENTURE - CAXIAS - MA | E17: 03:32:19.065
A18: 2 | B18: 19.14302.11 | C18: ANTONIO FRANCISCO DE OLIVEIRA | D18: AUDAX/ARAXÁ BIKE PARK/MR PEÇAS - TERESINA - PI | E18: 03:32:20.077
A19: 3 | B19: 19.35892.18 | C19: MARDEN FROTA SILVA SILVA | D19: EQUIPE NÃO INFORMADA - TERESINA - PI | E19: 03:48:24.000
A20: 4 | B20: 19.6148.06 | C20: ALDO FERRO E SILVA NETO | D20: EVO PRO TEAM - TERESINA - PI | E20: 03:48:28.033
A21: 5 | B21: 19.23464.14 | C21: JOAO DE DEUS SOARES FILHO | D21: PEDAL BIKERS CLUB - TERESINA - PI | E21: 04:00:34.030
A22: 6 | B22: 19.18389.13 | C22: EDVALDO SANTOS SILVA | D22: EQUIPE GIRO ALTO - TERESINA - PI | E22: 04:24:35.055
A23: 7 | B23: 19.33650.17 | C23: VALDIR SOARES SILVA | D23: CATRACA FORTE TEAM - TERESINA - PI | E23: 04:32:11.020
A24: 8 | B24: 19.289.04 | C24: WILSON PARENTE | D24: PEDAL BIKERS CLUB - TERESINA - PI | E24: 05:39:06.479
A47: DNF: | B47: DID NOT FINISH | C47: NÃO TERMINOU A PROVA
A48: DNS: | B48: DID NOT START | C48: NÃO LARGOU A PROVA
A49: DSQ | B49: DESQUALIFIED | C49: DESQUALIFICADO
A51: * Caso seja um circuito, adicionar a coluna de voltas da prova.

Sheet SUB 30
A5: NOME DO EVENTO: | C5: =CONFIG!D1 -> DESAFIO TIMON BIKERS 2019
A6: DATA DO EVENTO: | C6: =CONFIG!D2 -> 43709
A7: MODALIDADE | C7: =CONFIG!D3 -> MOUNTAIN BIKE
A8: CLASSE DO EVENTO: | C8: =CONFIG!D4 -> XCM1
A9: CATEGORIA: | C9: =CONFIG!A11 -> SUB30
A10: ORGANIZADOR: | C10: =CONFIG!D6 -> TBA
A12: RESULTADOS OFICIAIS
A13: TEMPO DE PROVA: | B13: =E17 -> 02:57:41.045
A16: POSIÇÃO | B16: N. LICENÇA | C16: ATLETA (Nome Completo, sem abreviações) | D16: CLUBE/EQUIPE
A17: 1 | B17: 16.29011.16 | C17: LUIS DIEGO DO NASCIMENTO | D17: EQUIPE NÃO INFORMADA - CURITIBA - PR | E17: 02:57:41.045
A18: 2 | B18: 19.36451.18 | C18: MANOEL DE SOUSA SANTOS | D18: BIKEXTREMEPIRIPIRI - PIRIPIRI - PI | E18: 02:57:47.075
A19: 3 | B19: 19.32535.17 | C19: ALOÍSIO ERNESTO DE ANDRADE DA COSTA | D19: TIMON BIKERS ADVENTURE - TBA - TIMON - MA | E19: 03:07:58.091
A20: 4 | B20: 19.32369.17 | C20: RENATO SOUSA FONTES | D20: OEIRAS BIKE CLUBE - OBC - OEIRAS - PI | E20: 03:09:29.004
A21: 5 | B21: 20.29297.16 | C21: LEONARDO DA SILVA VILAR | D21: PEDAL SEM LIMITES - TUTÓIA - MA | E21: 03:09:32.053
A22: 6 | B22: 19.30178.16 | C22: FERNANDO ROCHA BARBOSA | D22: TIMON BIKERS ADVENTURE - TBA - TIMON - MA | E22: 03:14:09.091
A23: 7 | B23: 19.39201.19 | C23: YAN RANIERY DE ARAÚJO OLIVEIRA | D23: EQUIPE GIRO FORTE - ALTOS - PI | E23: 03:21:29.099
A24: 8 | B24: 19.11700.09 | C24: ADILSON SILVA IBIAPINA | D24: MARACAJÁ BIKERS - TERESINA - PI | E24: 03:24:27.093
A25: 9 | B25: 19.25731.15 | C25: FRANCISCO GUILHERME DA COSTA SILVA | D25: EVO PRO TEAM - TERESINA - PI | E25: 03:25:56.043
A26: 10 | B26: 19.31186.17 | C26: VENANCIO SILVA SÁ FERRO | D26: EQUIPE GIRO ALTO - TERESINA - PI | E26: 03:26:24.063
A27: 11 | B27: 19.29111.16 | C27: CARLOS AUGUSTO RÊGO DAMASCENO | D27: MARACAJÁ BIKERS - TERESINA - PI | E27: 03:28:37.023
A28: 12 | B28: 20.29295.16 | C28: SARDES MARQUES | D28: PEDAL SEM LIMITES - TUTÓIA - MA | E28: 03:29:10.050
... A34: 18 | B34: 19.38969.19 | C34: TALISOM BRUNO DE SOUSA OLIVEIRA | D34: EQUIPE NÃO INFORMADA - CURITIBA - PR | E34: 04:19:00.055
A52: DNF: | B52: DID NOT FINISH | C52: NÃO TERMINOU A PROVA
A53: DNS: | B53: DID NOT START | C53: NÃO LARGOU A PROVA
A54: DSQ | B54: DESQUALIFIED | C54: DESQUALIFICADO
A56: * Caso seja um circuito, adicionar a coluna de voltas da prova.

Sheet CONFIG
A1: ELITE FEMININO | C1: NOME DO EVENTO: | D1: DESAFIO TIMON BIKERS 2019
A2: MASTER FEMININO | C2: DATA DO EVENTO: | D2: 43709
A3: ELITE MASCULINO | C3: MODALIDADE | D3: MOUNTAIN BIKE
A4: JUNIOR | C4: CLASSE DO EVENTO: | D4: XCM1
A5: JUVENIL | C5: CATEGORIA:
A6: MASTER 30-34 | C6: ORGANIZADOR: | D6: TBA
A7: MASTER 35-39
A8: MASTER 40-44
A9: MASTER 45-49
A10: VETERANO
A11: SUB30
