Workbook

Sheet ELITE
A3: CORRIDA ECOLÓGICA BRUMADO A RIO DE CONTAS
A5: REALIZAÇÃO: FEDERAÇÃO BAIANA DE CICLISMO | E5: BRUMADO
A6: 42981 | C6: ELITE | E6: 01 Á 40
A8: INSCRITOS
A10: Com o prenchimento desta ficha de inscrição declaro-me apto a participar desta competição. Declarando outrossim, respeitar disciplinadamente Normas e Regulamentos da modalidade esportiva, eximindo a FBC - FEDERAÇÃO BAIANA DE CICLISMO; patrocinadores e colaboradores deste evento; em meu nome e de meus herdeiros ou sucessores, de qualquer responsabilidade por acidente que venha sofrer antes, durante ou depois da mesma. Permito o uso de minha imagem obtida por meio de filmes, fotos ou qualquer outro meio de gravação, para finalidades legítimas.
A12: No. | B12: Nome e Sobremone | C12: Registro | D12: Cidade | E12: Assinatura
A13: 1 | B13: DANIEL ALVES TEIXEIRA - 12.19108.13 | D13: VITÓRIA DA CONQUISTA
A14: 2 | B14: DANIEL CARNEIRO BRUM RIBEIRO ZÓIA - 02.434.04 | D14: VIÇOSA-MG
A15: 3 | B15: IVAN DIAS DA SOLIDADE - 12.33550.17 | D15: VITÓRIA DA CONQUISTA
A16: 4 | B16: MAXWELL PACHECO DOS SANTOS LOPES - 12.33512.17 | D16: VITÓRIA DA CONQUISTA
A17: 5 | B17: MICHELL PACHECO DOS SANTOS LOPES - 12.28065.16 | D17: VITÓRIA DA CONQUISTA
A18: 6 | B18: MOISÉS JOSÉ DOURADO NETO - 12.24536.15 | D18: LIVRAMENTO
A19: 7 | B19: RÔMULO DE SOUZA BRITO - 12.35040.18 | D19: TANQUINHO
A20: 8 | B20: ULAN BASTOS GALINSKI - 12.21845.14 | D20: CAPÃO
A21: 9 | B21: WILLIAN BISPO MOREIRA | D21: VITÓRIA DA CONQUISTA
A22: 10 | B22: DIVONEI BISPO DOS SANTOS | D22: MUCUGÊ

Sheet SUB30
A3: CORRIDA ECOLÓGICA BRUMADO A RIO DE CONTAS
A5: REALIZAÇÃO: FEDERAÇÃO BAIANA DE CICLISMO | E5: BRUMADO
A6: 42981 | C6: OPEN | E6: 41 Á 60
A7: INSCRITOS
A8: Com o prenchimento desta ficha de inscrição declaro-me apto a participar desta competição. Declarando outrossim, respeitar disciplinadamente Normas e Regulamentos da modalidade esportiva, eximindo a FBC - FEDERAÇÃO BAIANA DE CICLISMO; patrocinadores e colaboradores deste evento; em meu nome e de meus herdeiros ou sucessores, de qualquer responsabilidade por acidente que venha sofrer antes, durante ou depois da mesma. Permito o uso de minha imagem obtida por meio de filmes, fotos ou qualquer outro meio de gravação, para finalidades legítimas.
A10: No. | B10: Nome e Sobremone | C10: Registro | D10: Cidade | E10: Assinatura
A11: 26 | B11: ARISTIDES FERNANDES DE QUEIROZ - 12.24534.15 | D11: LENÇOIS
A12: 27 | B12: CAIKE SOUSA FERNANDES | D12: MARACÁS
A13: 28 | B13: CESAR RIBEIRO DOS SANTOS | D13: SALINAS-MG
A14: 29 | B14: EVANILDO SOUZA DE OLIVEIRA | D14: LIVRAMENTO
A15: 30 | B15: FÁBIO OLIVEIRA DOS SANTOS - 12.31533.17 | D15: CASTRO ALVES
A16: 31 | B16: FERNANDO ROCHA MARTINS | D16: VITÓRIA DA CONQUISTA
A17: 32 | B17: ISRAEL ALVES REIS | D17: ALMENARA-MG
A18: 33 | B18: KLEIBERT PEREIRA DOS SANTOS | D18: PEDRA AZUL-MG
A19: 34 | B19: LUAN VIDAL SANTOS | D19: ITABUNA-BA
A20: 35 | B20: LUCAS DE ALBUQUERQUE MARTINS | D20: ITABIRA-MG
A21: 36 | B21: MAIKON MEIRA | D21: TAIOBEIRAS-MG
A22: 37 | B22: MAURILIO RIBEIRO PINTO | D22: BELO CAMPO-BA
... A24: 39 | B24: BRUNO DA SILVA SANTOS - 12.10416.09 | D24: VITÓRIA DA CONQUISTA

Sheet MA1
A3: CORRIDA ECOLÓGICA BRUMADO A RIO DE CONTAS
A5: REALIZAÇÃO: FEDERAÇÃO BAIANA DE CICLISMO | E5: BRUMADO
A6: 42981 | C6: JUNIOR | E6: 81 Á 90
A8: INSCRITOS
A10: Com o prenchimento desta ficha de inscrição declaro-me apto a participar desta competição. Declarando outrossim, respeitar disciplinadamente Normas e Regulamentos da modalidade esportiva, eximindo a FBC - FEDERAÇÃO BAIANA DE CICLISMO; patrocinadores e colaboradores deste evento; em meu nome e de meus herdeiros ou sucessores, de qualquer responsabilidade por acidente que venha sofrer antes, durante ou depois da mesma. Permito o uso de minha imagem obtida por meio de filmes, fotos ou qualquer outro meio de gravação, para finalidades legítimas.
A12: No. | B12: Nome e Sobremone | C12: Registro | D12: Cidade | E12: Assinatura
A13: 100 | B13: ADRIANO DE OLIVEIRA | D13: TAIOBEIRAS-MG
A14: 101 | B14: CARLOS ANDRÉ SOARES SANTOS LOPES | D14: VITÓRIA DA CONQUISTA
A15: 102 | B15: CARLOS NILTON LIMA FERNANDES - 12.12917.10 | D15: CAETITÉ
A16: 103 | B16: CARLOS PEREIRA DOS SANTOS | D16: VITÓRIA DA CONQUISTA
A17: 104 | B17: HENRIQUE DA SILVA FIGUEREDO | D17: EUNÁPOLIS
A18: 105 | B18: IKARO SILVA LEAL | D18: VITÓRIA DA CONQUISTA
A19: 106 | B19: JESSÉ COSTAS DE SOUZA | D19: SALINAS-MG
A20: 107 | B20: JÚLIO CESAR TEIXEIRA RODRIGUES | D20: GUANAMBI
A21: 108 | B21: KLINGER DIAS TAVARES | D21: BOM JESUS DA LAPA
A22: 109 | B22: LÁZARO MACEDO DE SOUZA - 12.19986.13 | D22: SENHOR DO BONFIM
A23: 110 | B23: MELQUISEDEQUE BRITO SOUZA | D23: VITÓRIA DA CONQUISTA
A24: 111 | B24: RAFAEL BARBOSA | D24: SÃO JOÃO DO PARAISO-MG
... A31: 175 | B31: BRUNO MEIRA LIMA - 12.28531.16 | D31: VITÓRIA DA CONQUISTA

Sheet MA2
A3: CORRIDA ECOLÓGICA BRUMADO A RIO DE CONTAS
A5: REALIZAÇÃO: FEDERAÇÃO BAIANA DE CICLISMO | E5: BRUMADO
A6: 42981 | C6: MASTER A - 1 ( 3O Á 34 ANOS ) | E6: 101 Á 140
A8: INSCRITOS
A10: Com o prenchimento desta ficha de inscrição declaro-me apto a participar desta competição. Declarando outrossim, respeitar disciplinadamente Normas e Regulamentos da modalidade esportiva, eximindo a FBC - FEDERAÇÃO BAIANA DE CICLISMO; patrocinadores e colaboradores deste evento; em meu nome e de meus herdeiros ou sucessores, de qualquer responsabilidade por acidente que venha sofrer antes, durante ou depois da mesma. Permito o uso de minha imagem obtida por meio de filmes, fotos ou qualquer outro meio de gravação, para finalidades legítimas.
A12: No. | B12: Nome e Sobremone | C12: Registro | D12: Cidade | E12: Assinatura
A13: 120 | B13: ALAN ALVES DOS SANTOS | D13: CAMAÇARI
A14: 121 | B14: ALEX PEREIRA DA SILVA | D14: VITÓRIA DA CONQUISTA
A15: 122 | B15: DANIEL SILVANO | D15: PORTO SEGURO
A16: 123 | B16: GIVANILDO MARINHO DOS SANTOS | D16: POÇÕES
A17: 124 | B17: HENRIQUE GUIMARÃES COUTO - 12.516.04 | D17: EUNÁPOLIS
A18: 125 | B18: IVAN CORDEIRO SOUZA | D18: VITÓRIA DA CONQUISTA
A19: 126 | B19: JAILSON AGUIAR ALVES | D19: JUSSIAPE
A20: 127 | B20: LINDOMAR GUARDIANO BARBERINO - 12.13797.11 | D20: SENHOR DO BONFIM
A21: 128 | B21: LUCAS SENA CABRAL | D21: VITÓRIA DA CONQUISTA
A22: 129 | B22: LUIZ OTÁVIO MENDES CERQUEIRA | D22: UBAITABA
A23: 130 | B23: RAMON RIBEIRO DOS SANTOS | D23: VITÓRIA DA CONQUISTA
A24: 131 | B24: RENATO BRUTHO | D24: BELO CAMPO
... A32: 177 | B32: ANTONIONE AZEVEDO | D32: VITÓRIA DA CONQUISTA

Sheet MB1
A3: CORRIDA ECOLÓGICA BRUMADO A RIO DE CONTAS
A5: REALIZAÇÃO: FEDERAÇÃO BAIANA DE CICLISMO | E5: BRUMADO
A6: 42981 | C6: MASTER B - 1 ( 40 Á 44 ANOS) | E6: 141 Á 170
A8: INSCRITOS
A10: Com o prenchimento desta ficha de inscrição declaro-me apto a participar desta competição. Declarando outrossim, respeitar disciplinadamente Normas e Regulamentos da modalidade esportiva, eximindo a FBC - FEDERAÇÃO BAIANA DE CICLISMO; patrocinadores e colaboradores deste evento; em meu nome e de meus herdeiros ou sucessores, de qualquer responsabilidade por acidente que venha sofrer antes, durante ou depois da mesma. Permito o uso de minha imagem obtida por meio de filmes, fotos ou qualquer outro meio de gravação, para finalidades legítimas.
A12: No. | B12: Nome e Sobremone | C12: Registro | D12: Cidade | E12: Assinatura
A13: 138 | B13: ALEX BERTONE OLIVEIRA DA SILVA | D13: LIVRAMENTO
A14: 139 | B14: ANDRÉ LUIZ CARVALHO MATHEUS - 12.29529.16 | D14: SANTO AMARO-BA
A15: 140 | B15: FABRICIO TOURINHO SANTOS - 12.21851.14 | D15: MUCUGÊ
A16: 176 | B16: FRANKLIN GOMES DE ALMEIDA - 12.3784.05 | D16: VITÓRIA DA CONQUISTA
A17: 141 | B17: GILDO FERREIRA LIMA - 12.33318.17 | D17: MATA DE SÃO JOÃO
A18: 142 | B18: JOÃO SANTANA DA SILVA | D18: MILAGRES
A19: 143 | B19: JOSÉ CARLOS FRANÇA | D19: IBOTIRAMA
A20: 144 | B20: JOSÉ VAILSON SILVA SANTOS - 12.28521.16 | D20: VITÓRIA DA CONQUISTA
A21: 145 | B21: JURACY FERREIRA DOS SANTOS | D21: CURRAL DE DENTRO-MG
A22: 146 | B22: MARCUS ANDRE SOUZA BARROS | D22: VITÓRIA DA CONQUISTA
A23: 147 | B23: RICARDO SILVA OLIVEIRA | D23: VITÓRIA DA CONQUISTA
A24: 148 | B24: ROGÉRIO SANTANA RODRIGUES | D24: PEDRA AZUL-MG
... A26: 150 | B26: GUILHERME LACERDA MENDES | D26: VITÓRIA DA CONQUISTA

Sheet MB2
A3: CORRIDA ECOLÓGICA BRUMADO A RIO DE CONTAS
A5: REALIZAÇÃO: FEDERAÇÃO BAIANA DE CICLISMO | E5: BRUMADO
A6: 42981 | C6: MÁSTER C | E6: 164 / 181 Á 192
A7: INSCRITOS
A8: Com o prenchimento desta ficha de inscrição declaro-me apto a participar desta competição. Declarando outrossim, respeitar disciplinadamente Normas e Regulamentos da modalidade esportiva, eximindo a FBC - FEDERAÇÃO BAIANA DE CICLISMO; patrocinadores e colaboradores deste evento; em meu nome e de meus herdeiros ou sucessores, de qualquer responsabilidade por acidente que venha sofrer antes, durante ou depois da mesma. Permito o uso de minha imagem obtida por meio de filmes, fotos ou qualquer outro meio de gravação, para finalidades legítimas.
A10: No. | B10: Nome e Sobremone | C10: Registro | D10: Cidade | E10: Assinatura
A11: 179 | B11: AÉCIO FERRAZ ALVES FLORES - 12.3792.05 | D11: VITÓRIA DA CONQUISTA
A12: 180 | B12: CHARLES MORENO BOTELHO | D12: VITÓRIA DA CONQUISTA
A13: 181 | B13: CLEBER CASTRO VIEIRA | D13: GUANAMBI
A14: 182 | B14: DUCELINO WILDSON SOUZA DE SANTANA | D14: TANQUE NOVO
A15: 183 | B15: JORGE SILVA CHAVES | D15: POÇÕES
A16: 184 | B16: MARCOS DE JESUS AMORIM | D16: PEDRA AZUL-MG
A17: 185 | B17: PAULO CESAR PINHEIRO SOUZA | D17: VITÓRIA DA CONQUISTA
A18: 186 | B18: PAULO ROBERTO PEREIRA FERRAZ | D18: VITÓRIA DA CONQUISTA
A19: 187 | B19: REGIVALDO MARQUES MOREIRA - 12.3791.05 | D19: SENHOR DO BONFIM
A20: 188 | B20: WELSEMAN FERNANDES | D20: LAURO DE FREITAS

Sheet MC1
A3: CORRIDA ECOLÓGICA BRUMADO A RIO DE CONTAS
A5: REALIZAÇÃO: FEDERAÇÃO BAIANA DE CICLISMO | E5: BRUMADO
A6: 42981 | C6: VETERANO | E6: 201 Á 203
A8: INSCRITOS
A10: Com o prenchimento desta ficha de inscrição declaro-me apto a participar desta competição. Declarando outrossim, respeitar disciplinadamente Normas e Regulamentos da modalidade esportiva, eximindo a FBC - FEDERAÇÃO BAIANA DE CICLISMO; patrocinadores e colaboradores deste evento; em meu nome e de meus herdeiros ou sucessores, de qualquer responsabilidade por acidente que venha sofrer antes, durante ou depois da mesma. Permito o uso de minha imagem obtida por meio de filmes, fotos ou qualquer outro meio de gravação, para finalidades legítimas.
A12: No. | B12: Nome e Sobremone | C12: Registro | D12: Cidade | E12: Assinatura
A13: 191 | B13: ALCEBIADES FREIRE SENA | D13: VITÓRIA DA CONQUISTA
A14: 192 | B14: CARLOS NETO RODRIGUES | D14: PEDRA AZUL-MG
A15: 193 | B15: DORIVALDO CORREIA DE ABREU - 12.3772.05 | D15: VITÓRIA DA CONQUISTA
A16: 194 | B16: MARCOS ANTONIO NEVES OLIVEIRA | D16: VITÓRIA DA CONQUISTA
A17: 195 | B17: OSIAS ROCHA | D17: SÃO DESIDÉRIO
A18: 196 | B18: RIBAMAR AUGUSTO DA SILVA - 12.30129.16 | D18: CAMAÇARI
A19: 197 | B19: THEOMAR SOLIDADE NETO | D19: MUCUGÊ

Sheet MASTER D 
A3: CORRIDA ECOLÓGICA BRUMADO A RIO DE CONTAS
A5: REALIZAÇÃO: FEDERAÇÃO BAIANA DE CICLISMO | E5: BRUMADO
A6: 42981 | C6: MTB ELITE | E6: 501 Á 513
A8: INSCRITOS
A10: Com o prenchimento desta ficha de inscrição declaro-me apto a participar desta competição. Declarando outrossim, respeitar disciplinadamente Normas e Regulamentos da modalidade esportiva, eximindo a FBC - FEDERAÇÃO BAIANA DE CICLISMO; patrocinadores e colaboradores deste evento; em meu nome e de meus herdeiros ou sucessores, de qualquer responsabilidade por acidente que venha sofrer antes, durante ou depois da mesma. Permito o uso de minha imagem obtida por meio de filmes, fotos ou qualquer outro meio de gravação, para finalidades legítimas.
A13: 151 | B13: ANTONIO ESTEVES DA ROCHA | D13: ALAGOINHA
A14: 152 | B14: AUGUSTO DE ALMEIDA LAURO | D14: SANTA MARIA DA VITÓRIA
A15: 153 | B15: GILBERTO AZEVEDO DE BRITO | D15: POÇÕES
A16: 154 | B16: JUAREZ MENDES DA CUNHA | D16: VITÓRIA DA CONQUISTA

Sheet MASTER FEM
A3: CORRIDA ECOLÓGICA BRUMADO A RIO DE CONTAS
A5: REALIZAÇÃO: FEDERAÇÃO BAIANA DE CICLISMO | E5: BRUMADO
A6: 42981 | C6: MTB SUB 30 | E6: 531 Á 558
A7: INSCRITOS
A8: Com o prenchimento desta ficha de inscrição declaro-me apto a participar desta competição. Declarando outrossim, respeitar disciplinadamente Normas e Regulamentos da modalidade esportiva, eximindo a FBC - FEDERAÇÃO BAIANA DE CICLISMO; patrocinadores e colaboradores deste evento; em meu nome e de meus herdeiros ou sucessores, de qualquer responsabilidade por acidente que venha sofrer antes, durante ou depois da mesma. Permito o uso de minha imagem obtida por meio de filmes, fotos ou qualquer outro meio de gravação, para finalidades legítimas.
A10: No. | B10: Nome e Sobremone | C10: Registro | D10: Cidade | E10: Assinatura
A11: 155 | B11: CINTIA GUIMARÃES | D11: VITÓRIA DA CONQUISTA
A12: 156 | B12: EDILANE VIEIRA FLORES | D12: VITÓRIA DA CONQUISTA
A13: 157 | B13: EDIMA BENTO LOPES - 12.28064.16 | D13: CAPIM GROSSO
A14: 158 | B14: JACKELINE C MOREIRA QUEIROZ ALMEIDA | D14: VITÓRIA DA CONQUISTA
A15: 159 | B15: LUCIANA FERNANDES SILVA | D15: VITÓRIA DA CONQUISTA
A16: 160 | B16: MARIA ESTER ARAÚJO AGUIAR | D16: LIVRAMENTO
A17: 161 | B17: MARIA IEDA ARAÚJO DE SÃO LEÃO | D17: MUCUGÊ
A18: 162 | B18: RITA DE CÁSSIA BRITO | D18: VITÓRIA DA CONQUISTA
A19: 163 | B19: SANDRA DIAS DA SILVA MAROTTA | D19: UBÁ-MG

Sheet ELITE FEM
A3: CORRIDA ECOLÓGICA BRUMADO A RIO DE CONTAS
A5: REALIZAÇÃO: FEDERAÇÃO BAIANA DE CICLISMO | E5: BRUMADO
A6: 42981 | C6: MTB MASTER A (30 A 39 ANOS) | E6: 561 Á 581
A7: INSCRITOS
A8: Com o prenchimento desta ficha de inscrição declaro-me apto a participar desta competição. Declarando outrossim, respeitar disciplinadamente Normas e Regulamentos da modalidade esportiva, eximindo a FBC - FEDERAÇÃO BAIANA DE CICLISMO; patrocinadores e colaboradores deste evento; em meu nome e de meus herdeiros ou sucessores, de qualquer responsabilidade por acidente que venha sofrer antes, durante ou depois da mesma. Permito o uso de minha imagem obtida por meio de filmes, fotos ou qualquer outro meio de gravação, para finalidades legítimas.
A10: No. | B10: Nome e Sobremone | C10: Registro | D10: Cidade | E10: Assinatura
A11: 16 | B11: ANA LUISA KORC PANINI - 04.13929.11 | D11: INDAIAL-SC
A12: 17 | B12: ANA PAULA DANTAS FONTES | D12: CAMAÇARI
A13: 18 | B13: DANIELE RIOS SANTANA - 12.29528.16 | D13: VITÓRIA DA CONQUISTA
A14: 19 | B14: DÉBORA MOURA COSTA - 12.33182.17 | D14: FEIRA DE SANTANA
A15: 20 | B15: LAIANNA LACERDA | D15: ARRAIAL D´AJUDA
A16: 21 | B16: PAULA REGINA NOVAIS GALLAN - 12.24564.15 | D16: ITUAÇU

Sheet RESULTADO
A9: RESULTADO OFICIAL - 10º DESAFIO CALANGOS
A10: VITÓRIA DA CONQUISTA - BA
A11: REALIZAÇÃO: HUDSON BRITO | D11: Data: 24/09/18
A12: SUPERVISÃO TÉCNICA : FEDERAÇÃO BAIANA DE CICLISMO
A14: Posição | B14: Nº | C14: Nome e Sobrenome | D14: Equipe/Cidade | E14: Tempo
A15: ELITE
A16: 1º | B16: 2 | C16: =VLOOKUP(B16,ELITE!$A$13:$E$290,2,FALSE) -> DANIEL CARNEIRO BRUM RIBEIRO ZÓIA - 02.434.04 | D16: =VLOOKUP(B16,ELITE!$A$13:$E$290,4,FALSE) -> VIÇOSA-MG | E16: 0.12792824
A17: 2º | B17: 8 | C17: =VLOOKUP(B17,ELITE!$A$13:$E$290,2,FALSE) -> ULAN BASTOS GALINSKI - 12.21845.14 | D17: =VLOOKUP(B17,ELITE!$A$13:$E$290,4,FALSE) -> CAPÃO | E17: 0.12822917
A18: 3º | B18: 10 | C18: =VLOOKUP(B18,ELITE!$A$13:$E$290,2,FALSE) -> DIVONEI BISPO DOS SANTOS | D18: =VLOOKUP(B18,ELITE!$A$13:$E$290,4,FALSE) -> MUCUGÊ | E18: 0.13097222
A19: 4º | B19: 9 | C19: =VLOOKUP(B19,ELITE!$A$13:$E$290,2,FALSE) -> WILLIAN BISPO MOREIRA | D19: =VLOOKUP(B19,ELITE!$A$13:$E$290,4,FALSE) -> VITÓRIA DA CONQUISTA | E19: 0.13501157
A20: 5º | B20: 6 | C20: =VLOOKUP(B20,ELITE!$A$13:$E$290,2,FALSE) -> MOISÉS JOSÉ DOURADO NETO - 12.24536.15 | D20: =VLOOKUP(B20,ELITE!$A$13:$E$290,4,FALSE) -> LIVRAMENTO | E20: 0.13710648
A21: 6º | B21: 3 | C21: =VLOOKUP(B21,ELITE!$A$13:$E$290,2,FALSE) -> IVAN DIAS DA SOLIDADE - 12.33550.17 | D21: =VLOOKUP(B21,ELITE!$A$13:$E$290,4,FALSE) -> VITÓRIA DA CONQUISTA | E21: 0.14166667
A22: 7º | B22: 5 | C22: =VLOOKUP(B22,ELITE!$A$13:$E$290,2,FALSE) -> MICHELL PACHECO DOS SANTOS LOPES - 12.28065.16 | D22: =VLOOKUP(B22,ELITE!$A$13:$E$290,4,FALSE) -> VITÓRIA DA CONQUISTA | E22: 0.14237269
A23: 8º | B23: 7 | C23: =VLOOKUP(B23,ELITE!$A$13:$E$290,2,FALSE) -> RÔMULO DE SOUZA BRITO - 12.35040.18 | D23: =VLOOKUP(B23,ELITE!$A$13:$E$290,4,FALSE) -> TANQUINHO | E23: 0.14811343
A24: 9º | B24: 4 | C24: =VLOOKUP(B24,ELITE!$A$13:$E$290,2,FALSE) -> MAXWELL PACHECO DOS SANTOS LOPES - 12.33512.17 | D24: =VLOOKUP(B24,ELITE!$A$13:$E$290,4,FALSE) -> VITÓRIA DA CONQUISTA | E24: 0.15086806
A25: 10º | B25: 1 | C25: =VLOOKUP(B25,ELITE!$A$13:$E$290,2,FALSE) -> DANIEL ALVES TEIXEIRA - 12.19108.13 | D25: =VLOOKUP(B25,ELITE!$A$13:$E$290,4,FALSE) -> VITÓRIA DA CONQUISTA | E25: 0.16072917
A26: SUB 30
A27: 1º | B27: 36 | C27: =VLOOKUP(B27,'SUB30'!$A$11:$E$47,2,FALSE) -> MAIKON MEIRA | D27: =VLOOKUP(B27,'SUB30'!$A$11:$E$47,4,FALSE) -> TAIOBEIRAS-MG | E27: 0.14273148
A28: 2º | B28: 34 | C28: =VLOOKUP(B28,'SUB30'!$A$11:$E$47,2,FALSE) -> LUAN VIDAL SANTOS | D28: =VLOOKUP(B28,'SUB30'!$A$11:$E$47,4,FALSE) -> ITABUNA-BA | E28: 0.14336806
A29: 3º | B29: 39 | C29: =VLOOKUP(B29,'SUB30'!$A$11:$E$47,2,FALSE) -> BRUNO DA SILVA SANTOS - 12.10416.09 | D29: =VLOOKUP(B29,'SUB30'!$A$11:$E$47,4,FALSE) -> VITÓRIA DA CONQUISTA | E29: 0.14543981
A30: 4º | B30: 30 | C30: =VLOOKUP(B30,'SUB30'!$A$11:$E$47,2,FALSE) -> FÁBIO OLIVEIRA DOS SANTOS - 12.31533.17 | D30: =VLOOKUP(B30,'SUB30'!$A$11:$E$47,4,FALSE) -> CASTRO ALVES | E30: 0.14548611
A31: 5º | B31: 32 | C31: =VLOOKUP(B31,'SUB30'!$A$11:$E$47,2,FALSE) -> ISRAEL ALVES REIS | D31: =VLOOKUP(B31,'SUB30'!$A$11:$E$47,4,FALSE) -> ALMENARA-MG | E31: 0.15493056
A32: 6º | B32: 31 | C32: =VLOOKUP(B32,'SUB30'!$A$11:$E$47,2,FALSE) -> FERNANDO ROCHA MARTINS | D32: =VLOOKUP(B32,'SUB30'!$A$11:$E$47,4,FALSE) -> VITÓRIA DA CONQUISTA | E32: 0.15534722
A33: 7º | B33: 29 | C33: =VLOOKUP(B33,'SUB30'!$A$11:$E$47,2,FALSE) -> EVANILDO SOUZA DE OLIVEIRA | D33: =VLOOKUP(B33,'SUB30'!$A$11:$E$47,4,FALSE) -> LIVRAMENTO | E33: 0.15885417
A34: 8º | B34: 38 | C34: =VLOOKUP(B34,'SUB30'!$A$11:$E$47,2,FALSE) -> MESSIAS BRUNO OLIVEIRA DIAS - 12.22274.14 | D34: =VLOOKUP(B34,'SUB30'!$A$11:$E$47,4,FALSE) -> VITÓRIA DA CONQUISTA | E34: 0.15936343
A35: 9º | B35: 28 | C35: =VLOOKUP(B35,'SUB30'!$A$11:$E$47,2,FALSE) -> CESAR RIBEIRO DOS SANTOS | D35: =VLOOKUP(B35,'SUB30'!$A$11:$E$47,4,FALSE) -> SALINAS-MG | E35: 0.12861111
A36: 10º | B36: 37 | C36: =VLOOKUP(B36,'SUB30'!$A$11:$E$47,2,FALSE) -> MAURILIO RIBEIRO PINTO | D36: =VLOOKUP(B36,'SUB30'!$A$11:$E$47,4,FALSE) -> BELO CAMPO-BA | E36: 0.16172454
A37: 11º | B37: 26 | C37: =VLOOKUP(B37,'SUB30'!$A$11:$E$47,2,FALSE) -> ARISTIDES FERNANDES DE QUEIROZ - 12.24534.15 | D37: =VLOOKUP(B37,'SUB30'!$A$11:$E$47,4,FALSE) -> LENÇOIS | E37: 0.1672338
A38: 12º | B38: 33 | C38: =VLOOKUP(B38,'SUB30'!$A$11:$E$47,2,FALSE) -> KLEIBERT PEREIRA DOS SANTOS | D38: =VLOOKUP(B38,'SUB30'!$A$11:$E$47,4,FALSE) -> PEDRA AZUL-MG | E38: 0.18939815
A39: MASTER A1
A40: 1º | B40: 107 | C40: =VLOOKUP(B40,'MA1'!$A$13:$E$99,2,FALSE) -> JÚLIO CESAR TEIXEIRA RODRIGUES | D40: =VLOOKUP(B40,'MA1'!$A$13:$E$99,4,FALSE) -> GUANAMBI | E40: 0.13989583
A41: 2º | B41: 109 | C41: =VLOOKUP(B41,'MA1'!$A$13:$E$99,2,FALSE) -> LÁZARO MACEDO DE SOUZA - 12.19986.13 | D41: =VLOOKUP(B41,'MA1'!$A$13:$E$99,4,FALSE) -> SENHOR DO BONFIM | E41: 0.14174769
A42: 3º | B42: 115 | C42: =VLOOKUP(B42,'MA1'!$A$13:$E$99,2,FALSE) -> WILLIAN ARAÚJO RIBEIRO | D42: =VLOOKUP(B42,'MA1'!$A$13:$E$99,4,FALSE) -> VITÓRIA DA CONQUISTA | E42: 0.14834491
A43: 4º | B43: 102 | C43: =VLOOKUP(B43,'MA1'!$A$13:$E$99,2,FALSE) -> CARLOS NILTON LIMA FERNANDES - 12.12917.10 | D43: =VLOOKUP(B43,'MA1'!$A$13:$E$99,4,FALSE) -> CAETITÉ | E43: 0.14997685
A44: 5º | B44: 117 | C44: =VLOOKUP(B44,'MA1'!$A$13:$E$99,2,FALSE) -> PAULO HENRIQUE SOUZA ALVES - 12.12093.10 | D44: =VLOOKUP(B44,'MA1'!$A$13:$E$99,4,FALSE) -> VITÓRIA DA CONQUISTA | E44: 0.15259259
A45: 6º | B45: 114 | C45: =VLOOKUP(B45,'MA1'!$A$13:$E$99,2,FALSE) -> UELTON LIMA ROCHA - 12.36517.18 | D45: =VLOOKUP(B45,'MA1'!$A$13:$E$99,4,FALSE) -> MUCUGÊ | E45: 0.15266204
A46: 7º | B46: 103 | C46: =VLOOKUP(B46,'MA1'!$A$13:$E$99,2,FALSE) -> CARLOS PEREIRA DOS SANTOS | D46: =VLOOKUP(B46,'MA1'!$A$13:$E$99,4,FALSE) -> VITÓRIA DA CONQUISTA | E46: 0.15366898
A47: 8º | B47: 175 | C47: =VLOOKUP(B47,'MA1'!$A$13:$E$99,2,FALSE) -> BRUNO MEIRA LIMA - 12.28531.16 | D47: =VLOOKUP(B47,'MA1'!$A$13:$E$99,4,FALSE) -> VITÓRIA DA CONQUISTA | E47: 0.15627315
A48: 9º | B48: 106 | C48: =VLOOKUP(B48,'MA1'!$A$13:$E$99,2,FALSE) -> JESSÉ COSTAS DE SOUZA | D48: =VLOOKUP(B48,'MA1'!$A$13:$E$99,4,FALSE) -> SALINAS-MG | E48: 0.15746528
A49: 10º | B49: 110 | C49: =VLOOKUP(B49,'MA1'!$A$13:$E$99,2,FALSE) -> MELQUISEDEQUE BRITO SOUZA | D49: =VLOOKUP(B49,'MA1'!$A$13:$E$99,4,FALSE) -> VITÓRIA DA CONQUISTA | E49: 0.1600463
...

Sheet PONTUAÇÃO
A1: FEDERAÇÃO BAIANA DE CICLISMO
A3: TABELA FBC DE PONTUAÇÃO 2014
A6: CLASSIFICAÇÃO GERAL INDIVIDUAL EM ETAPAS
A7: CAMPEONATO ESTADUAL
A8: POSIÇÃO | B8: CICLISMO / MTB | C8: COM BONUS DE FINALIZAÇÃO
A9: 1 | B9: 13 | C9: 15
A10: 2 | B10: 10 | C10: 12
A11: 3 | B11: 8 | C11: 10
A12: 4 | B12: 7 | C12: 9
A13: 5 | B13: 6 | C13: 8
A14: 6 | B14: 5 | C14: 7
A15: 7 | B15: 4 | C15: 6
A16: 8 | B16: 3 | C16: 5
A17: 9 | B17: 2 | C17: 4
A18: 10 | B18: 1 | C18: 3
A19: 11 | B19: 0 | C19: 2
A20: 12 | B20: 0 | C20: 2
... A38: 30 | B38: 0 | C38: 2
A39: * Corredores que finalizam = 2 ( pontos )
A41: CLASSIFICAÇÃO DA ETAPA
A43: Líder / Etapa

Sheet FL Nº 01 CHEGADA
A4: POS | B4: PLACA | C4: TEMPO | E4: POS | F4: CLASS | G4: TEMPO
A5: 01 | E5: 26
A6: 02 | E6: 27
A7: 03 | E7: 28
A8: 04 | E8: 29
A9: 05 | E9: 30
A10: 06 | E10: 31
A11: 07 | E11: 32
A12: 08 | E12: 33
A13: 09 | E13: 34
A14: 10 | E14: 35
A15: 11 | E15: 36
A16: 12 | E16: 37
... A29: 25 | E29: 50

Sheet FL Nº 02 CHEGADA
A4: POS | B4: PLACA | C4: TEMPO | E4: POS | F4: PLACA | G4: TEMPO
A5: 51 | E5: 76
A6: 52 | E6: 77
A7: 53 | E7: 78
A8: 54 | E8: 79
A9: 55 | E9: 80
A10: 56 | E10: 81
A11: 57 | E11: 82
A12: 58 | E12: 83
A13: 59 | E13: 84
A14: 60 | E14: 85
A15: 61 | E15: 86
A16: 62 | E16: 87
... A29: 75 | E29: 100
